BEGIN:VCALENDAR
VERSION:2.0
PRODID:-//Ateneu L&#039;Harmonia - ECPv6.15.20//NONSGML v1.0//EN
CALSCALE:GREGORIAN
METHOD:PUBLISH
X-WR-CALNAME:Ateneu L&#039;Harmonia
X-ORIGINAL-URL:https://ateneuharmonia.cat
X-WR-CALDESC:Esdeveniments per Ateneu L&#039;Harmonia
REFRESH-INTERVAL;VALUE=DURATION:PT1H
X-Robots-Tag:noindex
X-PUBLISHED-TTL:PT1H
BEGIN:VTIMEZONE
TZID:Europe/Andorra
BEGIN:DAYLIGHT
TZOFFSETFROM:+0100
TZOFFSETTO:+0200
TZNAME:CEST
DTSTART:20180325T010000
END:DAYLIGHT
BEGIN:STANDARD
TZOFFSETFROM:+0200
TZOFFSETTO:+0100
TZNAME:CET
DTSTART:20181028T010000
END:STANDARD
BEGIN:DAYLIGHT
TZOFFSETFROM:+0100
TZOFFSETTO:+0200
TZNAME:CEST
DTSTART:20190331T010000
END:DAYLIGHT
BEGIN:STANDARD
TZOFFSETFROM:+0200
TZOFFSETTO:+0100
TZNAME:CET
DTSTART:20191027T010000
END:STANDARD
BEGIN:DAYLIGHT
TZOFFSETFROM:+0100
TZOFFSETTO:+0200
TZNAME:CEST
DTSTART:20200329T010000
END:DAYLIGHT
BEGIN:STANDARD
TZOFFSETFROM:+0200
TZOFFSETTO:+0100
TZNAME:CET
DTSTART:20201025T010000
END:STANDARD
END:VTIMEZONE
BEGIN:VEVENT
DTSTART;VALUE=DATE:20191025
DTEND;VALUE=DATE:20191029
DTSTAMP:20260426T015603
CREATED:20190930T120450Z
LAST-MODIFIED:20190930T120450Z
UID:7406-1571976000-1572235199@ateneuharmonia.cat
SUMMARY:FESC: Fira d’Economia Social i Solidària
DESCRIPTION:La Fira d’Economia Solidària de Catalunya és un aparador de tots els productes i serveis necessaris per cobrir les necessitats de la vida quotidiana de les persones: habitatge\, alimentació\, oci\, coneixement\, cooperativisme\, comercialització justa\, serveis a persones i empreses\, finances i assegurances ètiques\, inserció laboral\, emprenedoria social\, energies renovables\, formació i educació\, etc.\nés un esdeveniment anual amb projecció internacional que reuneix la gran diversitat d’experiències i pràctiques de l’economia social i solidària del territori català. \nLa setena edició de la FESC tindrà lloc els dies 25\, 26 i 27 d’0ctubre de 2019 al complex fabril Fabra i Coats\, al carrer Sant Adrià\, 20 de Sant Andreu de Palomar\, a Barcelona. Aquest espai d’ús públic per a l’experimentació cultural i artística compta amb més de 12.000 m2 de superfície\, i disposa de tots els equipaments necessaris per dur a terme l’esdeveniment.
URL:https://ateneuharmonia.cat/esdeveniments/fesc-fira-deconomia-social-i-solidaria/
LOCATION:Ateneu L’Harmonia\, Carrer de Sant Adrià\, 20 (Fabra i Coats) \, Barcelona\, Catalunya\, 08030\, Espanya
CATEGORIES:Altres,Xerrades
ATTACH;FMTTYPE=image/jpeg:https://ateneuharmonia.cat/wp-content/uploads/2019/09/FESC_2019.jpg
END:VEVENT
END:VCALENDAR