BEGIN:VCALENDAR
VERSION:2.0
PRODID:-//Ateneu L&#039;Harmonia - ECPv6.15.20//NONSGML v1.0//EN
CALSCALE:GREGORIAN
METHOD:PUBLISH
X-WR-CALNAME:Ateneu L&#039;Harmonia
X-ORIGINAL-URL:https://ateneuharmonia.cat
X-WR-CALDESC:Esdeveniments per Ateneu L&#039;Harmonia
REFRESH-INTERVAL;VALUE=DURATION:PT1H
X-Robots-Tag:noindex
X-PUBLISHED-TTL:PT1H
BEGIN:VTIMEZONE
TZID:Europe/Andorra
BEGIN:DAYLIGHT
TZOFFSETFROM:+0100
TZOFFSETTO:+0200
TZNAME:CEST
DTSTART:20180325T010000
END:DAYLIGHT
BEGIN:STANDARD
TZOFFSETFROM:+0200
TZOFFSETTO:+0100
TZNAME:CET
DTSTART:20181028T010000
END:STANDARD
BEGIN:DAYLIGHT
TZOFFSETFROM:+0100
TZOFFSETTO:+0200
TZNAME:CEST
DTSTART:20190331T010000
END:DAYLIGHT
BEGIN:STANDARD
TZOFFSETFROM:+0200
TZOFFSETTO:+0100
TZNAME:CET
DTSTART:20191027T010000
END:STANDARD
BEGIN:DAYLIGHT
TZOFFSETFROM:+0100
TZOFFSETTO:+0200
TZNAME:CEST
DTSTART:20200329T010000
END:DAYLIGHT
BEGIN:STANDARD
TZOFFSETFROM:+0200
TZOFFSETTO:+0100
TZNAME:CET
DTSTART:20201025T010000
END:STANDARD
END:VTIMEZONE
BEGIN:VEVENT
DTSTART;TZID=Europe/Andorra:20191109T120000
DTEND;TZID=Europe/Andorra:20191109T170000
DTSTAMP:20260425T161033
CREATED:20191031T101347Z
LAST-MODIFIED:20191106T124448Z
UID:7528-1573300800-1573318800@ateneuharmonia.cat
SUMMARY:Jazz&Rice
DESCRIPTION:Arriba la cinquena edició de l’arrossada popular amenitzada amb música jazz a la plaça de Can Fabra. \nCuinarà el xef Bouba\, de la Cooperativa de Treballadores La Guillotina\, amb la col·laboració de les sis pinxes que s’han inscrit al taller de l’Ateneu “Arrossada Popular” per aprendre fent\, amb la millor companyia. L’arròs serà vegatarià. Aquest acte també és possible gràcies a la col·laboració i sinergies amb la comissió de cursos i tallers\, qui ha proposat el taller de l’arrossada popular\, que consisteix en que 5 persones es convertiran en un dia en ajudants de xef i viuran en primera persona com s’organitza una arrossada popular. \nEnguany la temàtica escollida és la creixent precarització de les condicions materials de les nostres vides i ens solidaritzem concretament amb la lluita dels RidersXDerechos\, una organització creada l’any 2017 amb l’objectiu de reivindicar els drets laborals dels riders i d’acabar amb la situació precària d’aquest sector\, basat en la política de falsos autònoms. \nA l’arrossada comptarem amb la participació imprescindible del grup The Fellowship\, format per Javi Sánchez – saxo/clarinet\, Albert Poll – guitarra\, Sergi Múrcia – baix elèctric i Pol Leiva – bateria; alumnes del Taller de Músics. \nEls tiquets ja són a la venda al taulell d’informació de l’Ateneu a un preu de 5€.
URL:https://ateneuharmonia.cat/esdeveniments/jazzrice-2/
LOCATION:Ateneu L’Harmonia\, Carrer de Sant Adrià\, 20 (Fabra i Coats) \, Barcelona\, Catalunya\, 08030\, Espanya
CATEGORIES:Altres
ATTACH;FMTTYPE=image/jpeg:https://ateneuharmonia.cat/wp-content/uploads/2017/10/Ateneu_Harmonia_Sant_Andreu_Jazz_rice.jpg
END:VEVENT
BEGIN:VEVENT
DTSTART;VALUE=DATE:20191114
DTEND;VALUE=DATE:20191117
DTSTAMP:20260425T161033
CREATED:20191031T110028Z
LAST-MODIFIED:20191104T095742Z
UID:7544-1573704000-1573876799@ateneuharmonia.cat
SUMMARY:Renova la teva roba
DESCRIPTION:“Renova la teva Roba” és una iniciativa per fomentar el consum conscient i la prevenció de residus. Tria entre els punts d’intercanvi que trobaràs per tot Barcelona i porta-hi la teva roba. A canvi\, et donaran cupons Renoves amb la puntuació corresponent\, que després podràs intercanviar per la roba que més t’agradi a qualsevol punt de la xarxa. El millor residu és el que no generes. Compra i consumeix en la mesura justa. \nA L’Harmonia la recollida es farà: \n– Dijous 14 de novembre de 10 a 13h i de 16 a 20h \nL’intercanvi serà:\n– Divendres 15 de novembre de 10 a 13 i de 16 a 20h. \nLa comissió de responsabilitat ambiental busquem persones que ens ajudin a organitzar l’activitat en tasques logístiques. Si hi estàs interessada en participar-hi\, pots omplir aquest formulari. \nCom funciona la iniciativa? \nA la recollida: S’admetran un màxim de 10 peces de roba. (excepte jaquetes i abrics: 2 com a màxim!) \nLa roba ha d’estar neta\, en bon estat\, sense forats\, descosits ni taques. Només s’acceptarà roba de vestir. No s’agafaran sabates\, roba interior ni de la llar. \nA l’intercanvi: Es podran agafar com a màxim 10 peces. (excepte jaquetes i abrics: 2 com a màxim!). En el cas de roba de nadons també hi haurà les mateixes limitacions. No es podran utilitzar Renoves d’altres edicions\, pel que et recomanem que no et desprenguis de tot cada temporada. Fes-ne un ús conscient! \nDuu la teva roba i et donarem monedes “renova” que podràs fer servir el dia de l’intercanvi: \n1 Renova: Samarretes i complements.\n2 Renoves: Jerseis\, camises i jaquetes fines.\n2 Renoves: Roba de nadó (fins a 24 mesos)\n3 Renoves: Pantalons\, vestits\, faldilles\, roba de vestir\, conjunts…\n5 Renoves: Jaquetes grans i abrics. \nCal que tota la roba que vulguis intercanviar estigui en bon estat. \nNO s’acceptaran aquestes categories de roba: \n– Calçat (si està nou\, es podrà posar en una zona sense punts per si\nalgú se les vol endur\, però no s’accepten per a l’intercanvi)\n– Roba interior\n– Pijames\n– Maletes\n– Roba de la llar\n– Moneders o carteres\n– Roba o complements amb publicitat \nOrganitza: Comissió de Responsabilitat Ambiental
URL:https://ateneuharmonia.cat/esdeveniments/renova-la-teva-roba-4/
LOCATION:Ateneu L’Harmonia\, Carrer de Sant Adrià\, 20 (Fabra i Coats) \, Barcelona\, Catalunya\, 08030\, Espanya
CATEGORIES:Altres
ATTACH;FMTTYPE=image/jpeg:https://ateneuharmonia.cat/wp-content/uploads/2017/04/Renova-la-teva-roba_web.jpg
END:VEVENT
BEGIN:VEVENT
DTSTART;TZID=Europe/Andorra:20191120T170000
DTEND;TZID=Europe/Andorra:20191120T200000
DTSTAMP:20260425T161033
CREATED:20191104T171256Z
LAST-MODIFIED:20191118T115617Z
UID:7570-1574269200-1574280000@ateneuharmonia.cat
SUMMARY:Taller: Tuneja’t la teva roba
DESCRIPTION:Saps què vol dir Upclying? és un corrent de moda que creu en la reducció de consum i residus basat en la reutilització. Vine a practicar-ho amb una peça que ja no et poses. S’ha acabat el tirar roba\, reconverteix el teu armari! Activitat emmarcada dins del Renova la teva roba. \nA càrrec de Zero Waste en col·laboració amb Espai Ambiental i la Comissió de Responsabilitat Ambiental.
URL:https://ateneuharmonia.cat/esdeveniments/taller-tunejat-la-teva-roba/
LOCATION:Ateneu L’Harmonia\, Carrer de Sant Adrià\, 20 (Fabra i Coats) \, Barcelona\, Catalunya\, 08030\, Espanya
CATEGORIES:Altres,Xerrades
ATTACH;FMTTYPE=image/jpeg:https://ateneuharmonia.cat/wp-content/uploads/2019/11/Ateneu_Harmonia_taller_renova.jpg
END:VEVENT
BEGIN:VEVENT
DTSTART;TZID=Europe/Andorra:20191122T190000
DTEND;TZID=Europe/Andorra:20191122T210000
DTSTAMP:20260425T161033
CREATED:20191112T092929Z
LAST-MODIFIED:20191118T094231Z
UID:7637-1574449200-1574456400@ateneuharmonia.cat
SUMMARY:Taller d'autodefensa feminista
DESCRIPTION:Mentre llegeixes això\, una dona acaba de patir una agressió sexual. I si ho llegeixes d’aquí una estona o demà\, igual. I si ho haguessis llegit ahir\, també.\nEs calcula que cada dues hores un home agredeix sexualment una dona. Bé\, no és “un” home… compteu quants poden ser. No és “una” dona\, tampoc. Compteu. Comptem-nos. \nA L’Harmonia ho volem comptar i contar. Aquestes i totes les altres agressions masclistes\, les que no passen cada X hores\, ni minuts\, ni segons. Perquè no passen\, hi són. Enganxades a les paraules\, les tanques publicitàries\, els gestos. Comptem-les i contem-nos què fer. I cantem-nos\, també\, com les derrotarem. (Mar Vallecillos) \nEl Grup d’Autodefensa Feminista Assata\, que entrena a l’Ateneu L’Harmonia\, i el col·lectiu andreuenc Feministes del Districte 9 uneixen forces i ens proposen un taller d’autodefensa feminista adreçat a dones\, bolleras i trans (no mixt). \n[INSCRIPCIó TANCADA]
URL:https://ateneuharmonia.cat/esdeveniments/taller-dautodefensa-feminista/
LOCATION:Ateneu L’Harmonia\, Carrer de Sant Adrià\, 20 (Fabra i Coats) \, Barcelona\, Catalunya\, 08030\, Espanya
CATEGORIES:Altres
ATTACH;FMTTYPE=image/jpeg:https://ateneuharmonia.cat/wp-content/uploads/2015/11/ateneu_harmonia_sant_andreu_Autodefensa1.jpg
END:VEVENT
BEGIN:VEVENT
DTSTART;TZID=Europe/Andorra:20191130T130000
DTEND;TZID=Europe/Andorra:20191130T170000
DTSTAMP:20260425T161033
CREATED:20191106T105332Z
LAST-MODIFIED:20191106T105332Z
UID:7610-1575118800-1575133200@ateneuharmonia.cat
SUMMARY:2a Cargolada Andreuenca
DESCRIPTION:T’imagines menjar cargols ben calents per Festa Major\, amb el millor ambient possible\, envoltades del veïnat i amb ambient de Festa Major? Sí\, tal com ho llegeixes.. i el millor és que ja és una realitat! Torna una nova edició de la cargolada andreuenca de Festa Major! \nEl menú constarà de cargols\, botifarra\, patata al caliu\, pa\, vi\, aigua i postres\, tot a ritme dels millors DJ’s i de barra amb cervesa\, vermut i ratafia. Els tiquets els podras comprar ben aviat a l’Ateneu L’Harmonia\, de dilluns a dissabte de 10 a 14 i de 16 a 21h a un preu de 10€. \nEn cas de pluja\, vent o neu es farà igualment\, però si tens por de passar fred\, pots venir amb la teva carmanyola i emportar-te el teu menú. Això sí\, et perdràs tot l’ambientàs de Festa Major! I si et quedes sense tiquet\, et convidem a venir igualment i gaudir de la bona companyia. \nBona Festa Major! \nActe de Festa Major
URL:https://ateneuharmonia.cat/esdeveniments/2a-cargolada-andreuenca/
LOCATION:Ateneu L’Harmonia\, Carrer de Sant Adrià\, 20 (Fabra i Coats) \, Barcelona\, Catalunya\, 08030\, Espanya
CATEGORIES:Altres
ATTACH;FMTTYPE=image/jpeg:https://ateneuharmonia.cat/wp-content/uploads/2018/11/Ateneu_Harmonia_cargolada_Festa_Major.jpg
END:VEVENT
END:VCALENDAR