BEGIN:VCALENDAR
VERSION:2.0
PRODID:-//Ateneu L&#039;Harmonia - ECPv6.15.20//NONSGML v1.0//EN
CALSCALE:GREGORIAN
METHOD:PUBLISH
X-ORIGINAL-URL:https://ateneuharmonia.cat
X-WR-CALDESC:Esdeveniments per Ateneu L&#039;Harmonia
REFRESH-INTERVAL;VALUE=DURATION:PT1H
X-Robots-Tag:noindex
X-PUBLISHED-TTL:PT1H
BEGIN:VTIMEZONE
TZID:Europe/Andorra
BEGIN:DAYLIGHT
TZOFFSETFROM:+0100
TZOFFSETTO:+0200
TZNAME:CEST
DTSTART:20190331T010000
END:DAYLIGHT
BEGIN:STANDARD
TZOFFSETFROM:+0200
TZOFFSETTO:+0100
TZNAME:CET
DTSTART:20191027T010000
END:STANDARD
BEGIN:DAYLIGHT
TZOFFSETFROM:+0100
TZOFFSETTO:+0200
TZNAME:CEST
DTSTART:20200329T010000
END:DAYLIGHT
BEGIN:STANDARD
TZOFFSETFROM:+0200
TZOFFSETTO:+0100
TZNAME:CET
DTSTART:20201025T010000
END:STANDARD
BEGIN:DAYLIGHT
TZOFFSETFROM:+0100
TZOFFSETTO:+0200
TZNAME:CEST
DTSTART:20210328T010000
END:DAYLIGHT
BEGIN:STANDARD
TZOFFSETFROM:+0200
TZOFFSETTO:+0100
TZNAME:CET
DTSTART:20211031T010000
END:STANDARD
END:VTIMEZONE
BEGIN:VEVENT
DTSTART;TZID=Europe/Andorra:20201022T170000
DTEND;TZID=Europe/Andorra:20201022T210000
DTSTAMP:20260424T231547
CREATED:20200921T115402Z
LAST-MODIFIED:20201005T100749Z
UID:9124-1603386000-1603400400@ateneuharmonia.cat
SUMMARY:Reparatruck
DESCRIPTION:En motiu del Dia Mundial de l’estalvi energètic\, durant tota la tarda gaudirem a la terrassa de l’Ateneu L’Harmonia de “Reparatruck”; un servei gratuït per fomentar la reparació i durabilitat de petits electrodomèstics\, aparells informàtics i bicicletes. Amb la Reparatruck t’ensenyarem a reparar-los i allargar la seva vida útil. Porta el teu i allarga la vida dels teus aparells! \nInscripció prèvia fent clic aquí. \n﻿
URL:https://ateneuharmonia.cat/esdeveniments/reparatruck/
LOCATION:Ateneu L’Harmonia\, Carrer de Sant Adrià\, 20 (Fabra i Coats) \, Barcelona\, Catalunya\, 08030\, Espanya
CATEGORIES:Altres
ATTACH;FMTTYPE=image/jpeg:https://ateneuharmonia.cat/wp-content/uploads/2020/09/Repara_Ateneu_Harmonia.jpg
END:VEVENT
BEGIN:VEVENT
DTSTART;VALUE=DATE:20201023
DTEND;VALUE=DATE:20201027
DTSTAMP:20260424T231547
CREATED:20200921T115945Z
LAST-MODIFIED:20201023T084025Z
UID:9127-1603425600-1603684799@ateneuharmonia.cat
SUMMARY:FESC: Fira d'Economia Social i Solidària
DESCRIPTION:El 2020 s’està presentant com un any de sacseigs. L’any va començar amb temporals i ha prosseguit amb una pandèmia mundial amb conseqüències socials\, vitals i econòmiques tràgiques i restrictives. En ple confinament\, amb la incertesa de la realitat social i sanitària que ens trobaríem a la propera tardor\, la plenària de la Fira d’Economia Solidària de Catalunya va prendre una difícil decisió: enguany la Fira serà virtual. Temíem un nou rebrot que ens dugués a un nou confinament\, que les mesures sanitàries no permetessin al públic gaudir de les expositores ni de l’espai de trobada que ens brinda la Fesc\, i malbaratar els recursos públics i de la Xes en una fira que potser no es podria celebrar. \nAixí que de l’adversitat\, virtut! Superat el “shock” i la tristesa de la decisió\, la plenària de la Fira es va posar a treballar per a que la propera Fesc virtual compleixi amb escreix els objectius que tenim com a moviment. Pots consultar el programa de la FESC fent clic aquí. \n \nPer a més informació pots fer clic aquí.
URL:https://ateneuharmonia.cat/esdeveniments/fesc-fira-deconomia-social-i-solidaria-2/
LOCATION:Ateneu L’Harmonia\, Carrer de Sant Adrià\, 20 (Fabra i Coats) \, Barcelona\, Catalunya\, 08030\, Espanya
CATEGORIES:Altres,Xerrades
ATTACH;FMTTYPE=image/jpeg:https://ateneuharmonia.cat/wp-content/uploads/2020/09/Ateneu_Harmonia_FESC.jpg
END:VEVENT
END:VCALENDAR