BEGIN:VCALENDAR
VERSION:2.0
PRODID:-//Ateneu L&#039;Harmonia - ECPv6.15.20//NONSGML v1.0//EN
CALSCALE:GREGORIAN
METHOD:PUBLISH
X-WR-CALNAME:Ateneu L&#039;Harmonia
X-ORIGINAL-URL:https://ateneuharmonia.cat
X-WR-CALDESC:Esdeveniments per Ateneu L&#039;Harmonia
REFRESH-INTERVAL;VALUE=DURATION:PT1H
X-Robots-Tag:noindex
X-PUBLISHED-TTL:PT1H
BEGIN:VTIMEZONE
TZID:Europe/Andorra
BEGIN:DAYLIGHT
TZOFFSETFROM:+0100
TZOFFSETTO:+0200
TZNAME:CEST
DTSTART:20200329T010000
END:DAYLIGHT
BEGIN:STANDARD
TZOFFSETFROM:+0200
TZOFFSETTO:+0100
TZNAME:CET
DTSTART:20201025T010000
END:STANDARD
BEGIN:DAYLIGHT
TZOFFSETFROM:+0100
TZOFFSETTO:+0200
TZNAME:CEST
DTSTART:20210328T010000
END:DAYLIGHT
BEGIN:STANDARD
TZOFFSETFROM:+0200
TZOFFSETTO:+0100
TZNAME:CET
DTSTART:20211031T010000
END:STANDARD
BEGIN:DAYLIGHT
TZOFFSETFROM:+0100
TZOFFSETTO:+0200
TZNAME:CEST
DTSTART:20220327T010000
END:DAYLIGHT
BEGIN:STANDARD
TZOFFSETFROM:+0200
TZOFFSETTO:+0100
TZNAME:CET
DTSTART:20221030T010000
END:STANDARD
END:VTIMEZONE
BEGIN:VEVENT
DTSTART;TZID=Europe/Andorra:20210227T120000
DTEND;TZID=Europe/Andorra:20210227T140000
DTSTAMP:20260424T133914
CREATED:20210201T105131Z
LAST-MODIFIED:20210219T102523Z
UID:9985-1614427200-1614434400@ateneuharmonia.cat
SUMMARY:Ruta: "Poetitzem els murs!" - Xarxa Poètica del Districte de Sant Andreu
DESCRIPTION:Dins la 3a edició de la Xarxa Poètica del Districte de Sant Andreu\, els diversos projectes participants hem organtizat una acció poètica comunitària\, que ha consitit en fer una recollida de micro poemes escrits per veïnes del territori. D’aquesta crida\, gairebé una desena han estat seleccionats per pintar en diverses parets i murs del districte de Sant Andreu. Gràcies a la col·laboració de B-Murals\, divendres 26 a la tarda apareixeran diversos versos a les parets de Sant Andreu. El millor de tot? Que el dissabte 27 de febrer a les 12h realitzarem una ruta guiada pels diversos murals. Els grups seran reduïts i complirem amb totes les mesures de prevenció de la COVID-19. El punt de trobada serà l’Espai 30 (C/ d’Hondures\, 30) i la ruta acabarà a l’Ateneu L’Harmonia (C/Sant Adrià\, 20) tot fent un bon vermut. Hi ha millor pla per dissabte al matí que gaudir d’un recull de versos per compartir mirades al món\, formes d’estimar i formes d’entendre la vida? \nPots inscriure’t fent clic aquí.
URL:https://ateneuharmonia.cat/esdeveniments/poetitzem-els-murs/
LOCATION:Catalunya
CATEGORIES:Altres
ATTACH;FMTTYPE=image/gif:https://ateneuharmonia.cat/wp-content/uploads/2021/02/Ruta_poeti_xarxa.gif
END:VEVENT
END:VCALENDAR