BEGIN:VCALENDAR
VERSION:2.0
PRODID:-//Ateneu L&#039;Harmonia - ECPv6.15.20//NONSGML v1.0//EN
CALSCALE:GREGORIAN
METHOD:PUBLISH
X-ORIGINAL-URL:https://ateneuharmonia.cat
X-WR-CALDESC:Esdeveniments per Ateneu L&#039;Harmonia
REFRESH-INTERVAL;VALUE=DURATION:PT1H
X-Robots-Tag:noindex
X-PUBLISHED-TTL:PT1H
BEGIN:VTIMEZONE
TZID:Europe/Andorra
BEGIN:DAYLIGHT
TZOFFSETFROM:+0100
TZOFFSETTO:+0200
TZNAME:CEST
DTSTART:20200329T010000
END:DAYLIGHT
BEGIN:STANDARD
TZOFFSETFROM:+0200
TZOFFSETTO:+0100
TZNAME:CET
DTSTART:20201025T010000
END:STANDARD
BEGIN:DAYLIGHT
TZOFFSETFROM:+0100
TZOFFSETTO:+0200
TZNAME:CEST
DTSTART:20210328T010000
END:DAYLIGHT
BEGIN:STANDARD
TZOFFSETFROM:+0200
TZOFFSETTO:+0100
TZNAME:CET
DTSTART:20211031T010000
END:STANDARD
BEGIN:DAYLIGHT
TZOFFSETFROM:+0100
TZOFFSETTO:+0200
TZNAME:CEST
DTSTART:20220327T010000
END:DAYLIGHT
BEGIN:STANDARD
TZOFFSETFROM:+0200
TZOFFSETTO:+0100
TZNAME:CET
DTSTART:20221030T010000
END:STANDARD
END:VTIMEZONE
BEGIN:VEVENT
DTSTART;TZID=Europe/Andorra:20211002T110000
DTEND;TZID=Europe/Andorra:20211002T130000
DTSTAMP:20260423T233737
CREATED:20210927T123357Z
LAST-MODIFIED:20210927T123412Z
UID:11312-1633172400-1633179600@ateneuharmonia.cat
SUMMARY:Taller de pancartes
DESCRIPTION:Tens algun lema al cap i t’agradaria fer-ne una pancarta? Vols aprendre a fer una pancarta? En motiu del 7è aniversari volem omplir l’espai de paraules i pensament crític i reivindicatiu. \nI si pertanys a algun moviment social i/o cultural del territori no ho dubtis i porta la teva pancarta! \nActe inclòs a la festa del 7è aniversari de L’Harmonia.
URL:https://ateneuharmonia.cat/esdeveniments/taller-de-pancartes/
LOCATION:Ateneu L’Harmonia\, Carrer de Sant Adrià\, 20 (Fabra i Coats) \, Barcelona\, Catalunya\, 08030\, Espanya
CATEGORIES:Altres
ATTACH;FMTTYPE=image/jpeg:https://ateneuharmonia.cat/wp-content/uploads/2021/09/pancarta.jpg
END:VEVENT
BEGIN:VEVENT
DTSTART;TZID=Europe/Andorra:20211002T110000
DTEND;TZID=Europe/Andorra:20211002T130000
DTSTAMP:20260423T233737
CREATED:20210927T124102Z
LAST-MODIFIED:20210927T130936Z
UID:11319-1633172400-1633179600@ateneuharmonia.cat
SUMMARY:Patxanga futbolera
DESCRIPTION:Tens una bamba foradada? A l’escola sempre t’escollien l’última per jugar als equips? Tranquil·la\, aquesta és la teva: arriba la patxanga futbolera d’aniversari! Demostrar la teva ineptitud o les teves bones arts en companyia\, sempre en un espai sa\, no competitiu i lliure de prejudicis. \nFormeu equips de 5 i apunteu-vos escrivint un correu electrònic amb el nom més enginyós que trobeu. Els equips poden (i estaria bé que fossin!) intersex i intergeneracionals. I si no tens equip inscriure-te igualment i vine\, que el mateix dia muntarem equips amb les persones arreplegades. Inscriu-te a futbolantiracistastap@gmail.com\nActe inclòs a la festa del 7è aniversari de L’Harmonia.
URL:https://ateneuharmonia.cat/esdeveniments/patxanga-futbolera/
LOCATION:Ateneu L’Harmonia\, Carrer de Sant Adrià\, 20 (Fabra i Coats) \, Barcelona\, Catalunya\, 08030\, Espanya
CATEGORIES:Altres
ATTACH;FMTTYPE=image/jpeg:https://ateneuharmonia.cat/wp-content/uploads/2021/09/Patxanga_futbolera-1.jpg
END:VEVENT
BEGIN:VEVENT
DTSTART;TZID=Europe/Andorra:20211002T110000
DTEND;TZID=Europe/Andorra:20211002T130000
DTSTAMP:20260423T233737
CREATED:20210928T140855Z
LAST-MODIFIED:20210928T140855Z
UID:11346-1633172400-1633179600@ateneuharmonia.cat
SUMMARY:Taller de sketching\, a càrrec del Grup de Pintors de Sant Andreu
DESCRIPTION:El Grup de Pintors de Sant Andreu ens proposa gaudir del taller de sketching i dibuix al natural. Un espai on aprendre a dibuixar i deixar anar el potencial artístic. T’animem a passar-hi per crear i retratar paisatges\, escenes i tot allò que vulguis. Set artística\, Set d’Harmonia! \nEl Grup Pintors de Sant Andreu és una associació formada per pintors de diferents grups de Sant Andreu\, agrupats per fomentar l’art pictòric fent conferències\, exposicions\, reunions\, cursets\, homenatges\, etc. \nActe inclòs a la festa del 7è aniversari de L’Harmonia.
URL:https://ateneuharmonia.cat/esdeveniments/taller-de-sketching-a-carrec-del-grup-de-pintors-de-sant-andreu/
LOCATION:Ateneu L’Harmonia\, Carrer de Sant Adrià\, 20 (Fabra i Coats) \, Barcelona\, Catalunya\, 08030\, Espanya
CATEGORIES:Altres
ATTACH;FMTTYPE=image/jpeg:https://ateneuharmonia.cat/wp-content/uploads/2015/11/ateneu_harmonia_sant_andreu_sketching.jpg
END:VEVENT
BEGIN:VEVENT
DTSTART;TZID=Europe/Andorra:20211002T143000
DTEND;TZID=Europe/Andorra:20211002T160000
DTSTAMP:20260423T233737
CREATED:20210928T143954Z
LAST-MODIFIED:20210929T093411Z
UID:11354-1633185000-1633190400@ateneuharmonia.cat
SUMMARY:Dinar d'aniversari\, quinto solidari i micro obert
DESCRIPTION:El menjar té un rol en la vida social de les persones i de la comunitat molt important. No és una qüestió només biològica\, sinó que els àpats i la cuina estan fortament vinculats i arrelats a les comunitats i a les celebracions. És per això que no podíem celebrar el setè aniversari sense el dinar d’aniversari a La Tempesta Coop. Els tiquets ja estan a la venda al taulell d’informació de l’Ateneu. Tenen un preu de 8€ i consten de dues opcions\, l’omnívora (empedrat\, botifarra amb patata al caliu\, pa\, vi\, aigua i postres) i la vegana. \nCom a mesura d’estalvi ambiental\, cada persona caldrà que porti el seu plat\, coberts i got de casa. D’aquesta manera evitarem generar més residus. \nI si coneixes la història harmònica sabràs que tampoc sabem fer cap celebració sense el tradicional Quinto Harmònic\, dinamitzat pels presentadors més enrotllats de tot Sant Andreu: en Xavi i en Guillem! Quin número és la parella d’aneguets? O quin any va acabar la guerra? (Si és que s’ha acabat!) De ben segur que ja saps la resposta. Els beneficis del Quinto aniran destinats al Sindicat d’Habitatge de Sant Andreu. \nTens alguna anècdota molt divertida per explicar de la teva col·lega que mai saps quan explicar? Erets aquí el dia de l’intent d’okupació? O recordes què va passar l’any 2014? O potser recordes L’Harmonia Nòmada? Aquest és el teu moment. Una estona de micro obert per recordar les millors i increïbles històries que et recordin a l’Ateneu! \nActe inclòs a la festa del 7è aniversari de L’Harmonia.
URL:https://ateneuharmonia.cat/esdeveniments/dinar-daniversari-quinto-solidari-i-micro-obert/
LOCATION:Ateneu L’Harmonia\, Carrer de Sant Adrià\, 20 (Fabra i Coats) \, Barcelona\, Catalunya\, 08030\, Espanya
CATEGORIES:Altres
ATTACH;FMTTYPE=image/jpeg:https://ateneuharmonia.cat/wp-content/uploads/2021/09/Ateneu_harmonia_quinto.jpg
END:VEVENT
BEGIN:VEVENT
DTSTART;TZID=Europe/Andorra:20211002T190000
DTEND;TZID=Europe/Andorra:20211002T200000
DTSTAMP:20260423T233737
CREATED:20211001T085142Z
LAST-MODIFIED:20211001T085142Z
UID:11400-1633201200-1633204800@ateneuharmonia.cat
SUMMARY:Actuació de la Colla Castellera Jove de Barcelona
DESCRIPTION:Gaudirem de l’actuació de la Colla Castellera Jove de Barcelona\, allotjada també al Recinte de la Fabra i Coats. La colla alçarà un pilar d’aniversari per totes les presents. Set de cultura popular\, set de castells. \nActe inclòs a la festa del 7è aniversari de L’Harmonia.
URL:https://ateneuharmonia.cat/esdeveniments/actuacio-de-la-colla-castellera-jove-de-barcelona/
LOCATION:Ateneu L’Harmonia\, Carrer de Sant Adrià\, 20 (Fabra i Coats) \, Barcelona\, Catalunya\, 08030\, Espanya
CATEGORIES:Altres
ATTACH;FMTTYPE=image/jpeg:https://ateneuharmonia.cat/wp-content/uploads/2021/10/Colla_castellera.jpg
END:VEVENT
BEGIN:VEVENT
DTSTART;TZID=Europe/Andorra:20211002T200000
DTEND;TZID=Europe/Andorra:20211002T203000
DTSTAMP:20260423T233737
CREATED:20210929T091411Z
LAST-MODIFIED:20210929T091411Z
UID:11378-1633204800-1633206600@ateneuharmonia.cat
SUMMARY:Espectacle de foc\, a càrrec de Diables del Mercadal Infernal
DESCRIPTION:La colla de Diables del Mercadal Infernal ens proposa un espectacle de foc on viurem un correfoc infantil en forma estàtica\, fent formes i figures amb carretilles amb i sense tro\, amb tró i xiuladores. Tot amb el magnífic acompanyament dels tocs de foc a càrrec de l’equip tabaler del col·lectiu. \nLa Colla de Diables del Mercadal Infernal va néixer a Sant Andreu de Palomar per fer difusió de la Cultura Popular i Tradicional Catalana\, per acostar-la a la població i endinasar-la i perque i hi participi per mitjà\, principalment\, de les activitats de foc\, entre d’altres. L’associació\, com a entitat integrada al poble de Sant Andreu de Palomar\, la ciutat de Barcelona i Catalunya\, pretén desenvolupar activitats adreçades a fomentar el sentiment de pertinença i l’associacionisme. Té intenció de participar en el teixit associatiu del poble\, la ciutat i el país\, tant en les activitats del món del foc com en d’altres manifestacions de cultura popular i tradicional\, solidaritat i sostenibilitat en què pugui intervenir. Igualment\, l’associació pretén adreçar-se principalment a un públic familiar i vol servir de nucli integrador. Malgrat que la Colla està organitzada en diverses seccions i comissions i que compta amb una junta directiva per facilitar les qüestions organitzatives del dia a dia\, és una colla participativa i no excloent\, la qual cosa vol dir que s’anima a tots els membres a participar de totes les decisions i els actes de la Colla\, ja siguin correfocs\, passejades de bèsties\, cercaviles\, actuacions de músics\, tallers\, etc. \nLa Colla neix com a una associació de caràcter familiar\, la qual cosa vol dir que són benvingudes famílies amb infants i infants amb les seves famílies. Això no vol dir que exclogui la resta de públic que vulgui venir a participar de la Colla i dels seus actes. Significa només que els infants hauran de participar acompanyats del pare\, mare o tutor i que aquests necessàriament també hauran de ser socis de la Colla. \n\nActe inclòs a la festa del 7è aniversari de L’Harmonia. \n\n 
URL:https://ateneuharmonia.cat/esdeveniments/espectacle-de-foc-a-carrec-de-diables-del-mercadal-infernal/
LOCATION:Ateneu L’Harmonia\, Carrer de Sant Adrià\, 20 (Fabra i Coats) \, Barcelona\, Catalunya\, 08030\, Espanya
CATEGORIES:Altres
ATTACH;FMTTYPE=image/jpeg:https://ateneuharmonia.cat/wp-content/uploads/2021/09/Diables_mercadal_infernal.jpg
END:VEVENT
BEGIN:VEVENT
DTSTART;TZID=Europe/Andorra:20211009T110000
DTEND;TZID=Europe/Andorra:20211009T140000
DTSTAMP:20260423T233737
CREATED:20211005T120441Z
LAST-MODIFIED:20211005T120441Z
UID:11462-1633777200-1633788000@ateneuharmonia.cat
SUMMARY:Sant Andreu juga!
DESCRIPTION:Estem molt contentes perquè torna de nou Sant Andreu Juga! Vine a gaudir d’aquest espai de jocs de taula de la mà de l’Associació Stronghold. Amb el seu acompanyament podrem aprendre a jugar a qualsevol dels jocs que ofereix l’associació\, a banda d’aquells dels que disposem a l’Ateneu. \nActivitat adreçada a infants a partir de 8 anys i les seves famílies. \nPots inscriure’t fent clic aquí. \nOrganitza: ALC Stronghold
URL:https://ateneuharmonia.cat/esdeveniments/sant-andreu-juga-18/
LOCATION:Ateneu L’Harmonia\, Carrer de Sant Adrià\, 20 (Fabra i Coats) \, Barcelona\, Catalunya\, 08030\, Espanya
CATEGORIES:Altres,Públic familiar
ATTACH;FMTTYPE=image/jpeg:https://ateneuharmonia.cat/wp-content/uploads/2016/04/ateneu_harmonia_sant_andreu_TardaJocsTaula.jpg
END:VEVENT
BEGIN:VEVENT
DTSTART;TZID=Europe/Andorra:20211016T110000
DTEND;TZID=Europe/Andorra:20211016T130000
DTSTAMP:20260423T233737
CREATED:20211004T145653Z
LAST-MODIFIED:20211012T141417Z
UID:11451-1634382000-1634389200@ateneuharmonia.cat
SUMMARY:Fronteres invisibles al carrer! + Jocs tradicionals d’arreu del món a càrrec de La Cia. de Jocs l’Anònima
DESCRIPTION:Activitat basada en el joc de taula Fronteres Invisibles. Tot jugant\, es cerca establir un diàleg per entendre la complexitat de les discriminacions. Cada persona esdevé personatge i protagonista del taulell\, acompanyada de dinamització sobre els paral·lelismes entre el joc i la realitat. Posarem de relleu la realitat amb la que una persona migrant es troba quan arriba a l’Estat Espanyol. Després d’entendre les traves burocràtiques i la brutalitat social a la qual és sotmesa\, creem un espai de debat on dialogar i compartir opinions\, sentiments i coneixements sobre allò exposat. En aquest últim espai\, també sentirem experiències vitals de qui ha patit directament els racismes dels que tracta el joc. Què podem fer per combatre el racisme? Quin paper juguem tots plegats amb el racisme? És aquest una discriminació residual o forma part d’una estructura organitzada? \nTambé podrem gaudir de Jocs tradicionals d’arreu del món a càrrec de La Cia. de Jocs l’Anònima. A partir de tots els àlbums dels personatges creats per Hergé recorrem tot el món lúdic. Una activitat en la que tothom hi troba el seu espai doncs hi ha jocs per pensar\, per demostrar les habilitats\, per a infants\, per a grans\, d’aquí i d’allà. \nI per acabar\, la Galeta Percussió\, Slap Batucada i Gibercussió estaran amb nosaltres per tancar la matinal a ritme de batucada.\nEspai facilitat per Fronteres invisibles (en col·laboració amb la Torre de la Sagrera\, el Centre Cívic de Sant Andreu\, el Servei Intercultural de Sant Andreu i CMCPSA Can Galta -Centre Municipal de Cultura Popular de Sant Andreu-) en el marc de la Tardor Solidària.  \nPunt de trobada: Plaça de Can Galta Cremat.
URL:https://ateneuharmonia.cat/esdeveniments/fronteres-invisibles-al-carrer-i-jocs-tradicionals/
LOCATION:Plaça de can Galta Cremat
CATEGORIES:Altres
ATTACH;FMTTYPE=image/jpeg:https://ateneuharmonia.cat/wp-content/uploads/2021/10/Ateneu_fronteres-invisibles.jpg
END:VEVENT
BEGIN:VEVENT
DTSTART;TZID=Europe/Andorra:20211016T113000
DTEND;TZID=Europe/Andorra:20211016T200000
DTSTAMP:20260423T233737
CREATED:20211004T134327Z
LAST-MODIFIED:20211006T104817Z
UID:11425-1634383800-1634414400@ateneuharmonia.cat
SUMMARY:(h)Artmonia. Mostra d’art i artesania
DESCRIPTION:La mostra (h)Artmonia sorgeix d’una proposta feta des de la Comissió de Programació de l’Ateneu en motiu de la inauguració de l’exposició “Cara i Creu” d’un artista local\, en Guillem Pla. De treballar plegades sorgeix la necessitat d’organitzar una mostra que té voluntat de continuïtat en el temps\, on poder organitzar una mostra d’artistes locals\, tant de Sant Andreu com de fora. També neix amb la voluntat que esdevingui un espai on les entitats i col·lectius que treballen al voltant de L’Harmonia (Toquem Fusta\, Grup de Pintors\, tallers de serigrafia\, etc) puguin tenir un dia on mostrar la seva feina.  \nA més a més de la mostra\, podrem gaudir de diversos espais de tallers\, espais de joc infantil\, espectacles familiars i concerts de tarda per donar un context festiu a la mostra. L’horari de la mostra serà d’11.30h a 20h\, que serà el marge on la resta d’activitats tindran cabuda.  \nÉs un acte emmarcat en donar suport a col·lectius artístics de Sant Andreu\, així com d’altres de fora del poble\, en una aposta de l’Ateneu L’Harmonia i els impulsors de la mostra per donar espai\, veu i alè als artistes i artesans que veuen com la seva activitat troba pocs espais on poder mostrar-se en públic.  \nDurant el dia comptarem amb les actuacions de “Men in Black”\, “Malasanya” i “Kill Fiction”. \nMen in Black\nComponents: Guillem Plana(guitarra) i Roger Usart(veu).\nUna reverència\, en forma de banda tribut\, a l’home de negre que fou i és llegenda de la música country\, rock i gospel nord-americana. Men in black ret homenatge a Johnny Cash\, repassant el seu repertori més clàssic\, amb temes com Folsom prision blues o Jackson\, juntament amb les composicions més recents dels famosos Americana Recordings\, produïts per Rick Rubin\, en els quals un Cash vell i malalt però amb una enorme personalitat\, interpreta peces de músics com Nine Inch Nails\, Tom Petty\, Neil Daiamond o Soundgarden. \nMalasanya\nRumbanga pachunga. \nKill Fiction\nPer primera vegada a L’Harmonia (:P) arriben els Kill Fiction! La banda més tarantinera de l’est de la ciutat comtal. Nascuts al poble de Sant Andreu de Palomar\, Kill Fiction adapten al seu propi estil temes de pel·lícules d’en Quentin Tarantino. Explosió\, energia\, sensibilitat\, ball i molta festa en directe. No us els perdeu! \n﻿ \nInscripció presencial el mateix dia de l’esdeveniment. \n 
URL:https://ateneuharmonia.cat/esdeveniments/hartmonia-mostra-dart-i-artesania/
LOCATION:Ateneu L’Harmonia\, Carrer de Sant Adrià\, 20 (Fabra i Coats) \, Barcelona\, Catalunya\, 08030\, Espanya
CATEGORIES:Altres,Música
ATTACH;FMTTYPE=image/jpeg:https://ateneuharmonia.cat/wp-content/uploads/2021/10/Hartmonia_.jpg
END:VEVENT
BEGIN:VEVENT
DTSTART;VALUE=DATE:20211018
DTEND;VALUE=DATE:20211026
DTSTAMP:20260423T233737
CREATED:20211018T114409Z
LAST-MODIFIED:20211022T073135Z
UID:11514-1634529600-1635134399@ateneuharmonia.cat
SUMMARY:FESC: Fira d’Economia Solidària de Catalunya
DESCRIPTION:La FESC compleix 10 anys en aquesta edició. L’economia solidària ha crescut molt en aquest temps i la FESC amb ella i creiem que aquest és el moment idoni per aturar-nos a mirar el camí recorregut i dibuixar plegades l’horitzó a què aspirem a arribar en la pròxima dècada. \nAquesta data tan assenyalada arriba en un any en què se’ns ha repetit fins a l’avorriment el conflicte entre l’economia i la vida; se’ns diu que s’ha d’aturar l’economia per a cuidar la salut col·lectiva. Des de la XES defensem que aquesta és una falsa dicotomia. El que la pandèmia ha visibilitzat és que el model d’economia capitalista entra en crisi i col·lapsa quan cal resoldre necessitats col·lectives\, com ara gestionar una emergència sanitària. \nDes de l’ESS defensem que és possible fer una economia per la vida\, una economia que resolgui les necessitats socials posant les persones i el planeta en el centre i que de fet és l’única possible per poder construir un món que mereixi ser viscut. L’economia solidària ja està construint moltes propostes que ho demostren i volem que la FESC serveixi per reivindicar-les i\, sobretot\, reflexionar juntes sobre tots els reptes que tenim al davant. \n﻿ \nPer a més informació pots fer clic aquí.
URL:https://ateneuharmonia.cat/esdeveniments/fesc-fira-deconomia-social-i-solidaria-3/
LOCATION:Ateneu L’Harmonia\, Carrer de Sant Adrià\, 20 (Fabra i Coats) \, Barcelona\, Catalunya\, 08030\, Espanya
CATEGORIES:Altres,Música,Públic familiar,Xerrades
ATTACH;FMTTYPE=image/jpeg:https://ateneuharmonia.cat/wp-content/uploads/2021/10/FESC_Ateneu_harmonia.jpg
END:VEVENT
END:VCALENDAR