BEGIN:VCALENDAR
VERSION:2.0
PRODID:-//Ateneu L&#039;Harmonia - ECPv6.15.20//NONSGML v1.0//EN
CALSCALE:GREGORIAN
METHOD:PUBLISH
X-ORIGINAL-URL:https://ateneuharmonia.cat
X-WR-CALDESC:Esdeveniments per Ateneu L&#039;Harmonia
REFRESH-INTERVAL;VALUE=DURATION:PT1H
X-Robots-Tag:noindex
X-PUBLISHED-TTL:PT1H
BEGIN:VTIMEZONE
TZID:Europe/Andorra
BEGIN:DAYLIGHT
TZOFFSETFROM:+0100
TZOFFSETTO:+0200
TZNAME:CEST
DTSTART:20200329T010000
END:DAYLIGHT
BEGIN:STANDARD
TZOFFSETFROM:+0200
TZOFFSETTO:+0100
TZNAME:CET
DTSTART:20201025T010000
END:STANDARD
BEGIN:DAYLIGHT
TZOFFSETFROM:+0100
TZOFFSETTO:+0200
TZNAME:CEST
DTSTART:20210328T010000
END:DAYLIGHT
BEGIN:STANDARD
TZOFFSETFROM:+0200
TZOFFSETTO:+0100
TZNAME:CET
DTSTART:20211031T010000
END:STANDARD
BEGIN:DAYLIGHT
TZOFFSETFROM:+0100
TZOFFSETTO:+0200
TZNAME:CEST
DTSTART:20220327T010000
END:DAYLIGHT
BEGIN:STANDARD
TZOFFSETFROM:+0200
TZOFFSETTO:+0100
TZNAME:CET
DTSTART:20221030T010000
END:STANDARD
END:VTIMEZONE
BEGIN:VEVENT
DTSTART;TZID=Europe/Andorra:20211201T180000
DTEND;TZID=Europe/Andorra:20211201T200000
DTSTAMP:20260423T202302
CREATED:20211125T090651Z
LAST-MODIFIED:20211125T090651Z
UID:11786-1638381600-1638388800@ateneuharmonia.cat
SUMMARY:Consell d'equipament
DESCRIPTION:Us fem saber que el proper dimecres 1 de novembre a les 18h realitzarem el consell d’equipament amb el següent ordre del dia: \n\nPresentació de la memòria de gestió de l’any 2020\nLínies estratègiques i objectius de futur\nTorn obert de paraules\n\nEl consell d’equipament serà presencial a l’espai Joe Forga. \nVeïnes\, hi esteu totes convidades!
URL:https://ateneuharmonia.cat/esdeveniments/consell-dequipament-5/
LOCATION:Ateneu L’Harmonia\, Carrer de Sant Adrià\, 20 (Fabra i Coats) \, Barcelona\, Catalunya\, 08030\, Espanya
CATEGORIES:Altres
ATTACH;FMTTYPE=image/jpeg:https://ateneuharmonia.cat/wp-content/uploads/2019/09/Ateneu-Harmonia.jpg
END:VEVENT
BEGIN:VEVENT
DTSTART;TZID=Europe/Andorra:20211204T100000
DTEND;TZID=Europe/Andorra:20211204T130000
DTSTAMP:20260423T202302
CREATED:20211117T094126Z
LAST-MODIFIED:20211117T094126Z
UID:11761-1638612000-1638622800@ateneuharmonia.cat
SUMMARY:XV Concurs de dibuix infantil
DESCRIPTION:El Grup de Pintors de Sant Andreu organitza el ja tradicional concurs de dibuix infantil\, dins els actes de la Festa Major de Sant Andreu de Palomar. Hi haurà premis per a tots els participants ! \nEl punt de trobada és a l’entrada de l’Ateneu L’Harmonia\, i en cas de pluja\, l’activitat es realitarà al taller 21 – 22 del segon pis. \nActe de Festa Major
URL:https://ateneuharmonia.cat/esdeveniments/xv-concurs-de-dibuix-infantil/
LOCATION:Ateneu L’Harmonia\, Carrer de Sant Adrià\, 20 (Fabra i Coats) \, Barcelona\, Catalunya\, 08030\, Espanya
CATEGORIES:Altres
ATTACH;FMTTYPE=image/jpeg:https://ateneuharmonia.cat/wp-content/uploads/2018/11/Ateneu_Harmonia_sant_andreu_concurs_dibuix-1.jpg
END:VEVENT
BEGIN:VEVENT
DTSTART;TZID=Europe/Andorra:20211210T174500
DTEND;TZID=Europe/Andorra:20211210T200000
DTSTAMP:20260423T202302
CREATED:20211129T130732Z
LAST-MODIFIED:20211129T130732Z
UID:11797-1639158300-1639166400@ateneuharmonia.cat
SUMMARY:El Club del Fracàs: El collage dels teus somnis
DESCRIPTION:El Club del fracàs presenta: El collage dels teus somnis. Un taller dinamitzat per Sofia Fatalitats @nudo.rojo.  \nSofía ens comptarà algunes coses de com fa collage i a partir dels nostres somnis  jugarem amb tisores i cola. Si ens ve de gust\, del que fem\, podrà sortir un fanzine col·lectiu. \n© Fotografia de Sofía de @nudo.rojo
URL:https://ateneuharmonia.cat/esdeveniments/el-club-del-fracas-el-collage-dels-teus-somnis/
LOCATION:Ateneu L’Harmonia\, Carrer de Sant Adrià\, 20 (Fabra i Coats) \, Barcelona\, Catalunya\, 08030\, Espanya
CATEGORIES:Altres
ATTACH;FMTTYPE=image/jpeg:https://ateneuharmonia.cat/wp-content/uploads/2021/11/Ateneu_harmonia_fanzine.jpg
END:VEVENT
BEGIN:VEVENT
DTSTART;TZID=Europe/Andorra:20211223T173000
DTEND;TZID=Europe/Andorra:20211223T233000
DTSTAMP:20260423T202302
CREATED:20211213T090015Z
LAST-MODIFIED:20211222T130647Z
UID:11835-1640280600-1640302200@ateneuharmonia.cat
SUMMARY:Festa de Solstici d’Hivern
DESCRIPTION:[ANUL·LAT] Des de l’Ateneu volem gaudir de l’arribada del solstici d’hivern i ho farem amb tot un conjunt d’actes preparats per diverses persones i col·lectius de la comunitat harmònica. Volem fer d’aquesta festa un espai per compartir\, conviure i construir plegades. Anota’t a l’agenda els horaris! \n17:30h a 19:00h – Activitats infantils (de 2 a 6 anys)\nTaller d’elements nadalencs decoratius\, berenar i caga Tió. A càrrec de Juguem en Harmonia i la Cooperativa La Tempesta. \n20h a 22.30h – Benvinguda al sopar de “traje”+ Tió de “Pongos”. Quan diem “traje” ens referim a un sopar on cada persona haurà de portar alguna cosa de menjar per compartir entre totes. Les begudes del sopar aniran a càrrec de L’Harmonia. Però ep! Si per “traje” entenies anar ben arreglat i posar-te les millors gal·les de l’armari\, no serem nosaltres qui t’ho impedirem!  Un “pongo” és la teva oportunitat de desfer-te d’allò típic que no té cap utilitat o que no t’agrada\, per exemple: una planta de plàstic\, una bola de neu\, una guardiola\, una figura de plàstic…(un “ande lo pongo”). I si vens amb infants\, el mateix: aquella joguina o llibre que ja no fan servir\, etc. L’únic imprescindible: que estigui embolicat com si fos un regal per poder fer cagar el Tió! \nI per acabar\, tindrem una mica de música i espai de ball amb punxa discos! \nAnima’t a venir per acabar l’any amb amb bon gust!
URL:https://ateneuharmonia.cat/esdeveniments/festa-de-solstici-dhivern-4/
LOCATION:Ateneu L’Harmonia\, Carrer de Sant Adrià\, 20 (Fabra i Coats) \, Barcelona\, Catalunya\, 08030\, Espanya
CATEGORIES:Altres,Música,Públic familiar
ATTACH;FMTTYPE=image/jpeg:https://ateneuharmonia.cat/wp-content/uploads/2021/12/Festa-solstici-ateneu.jpg
END:VEVENT
END:VCALENDAR