BEGIN:VCALENDAR
VERSION:2.0
PRODID:-//Ateneu L&#039;Harmonia - ECPv6.15.20//NONSGML v1.0//EN
CALSCALE:GREGORIAN
METHOD:PUBLISH
X-ORIGINAL-URL:https://ateneuharmonia.cat
X-WR-CALDESC:Esdeveniments per Ateneu L&#039;Harmonia
REFRESH-INTERVAL;VALUE=DURATION:PT1H
X-Robots-Tag:noindex
X-PUBLISHED-TTL:PT1H
BEGIN:VTIMEZONE
TZID:Europe/Andorra
BEGIN:DAYLIGHT
TZOFFSETFROM:+0100
TZOFFSETTO:+0200
TZNAME:CEST
DTSTART:20210328T010000
END:DAYLIGHT
BEGIN:STANDARD
TZOFFSETFROM:+0200
TZOFFSETTO:+0100
TZNAME:CET
DTSTART:20211031T010000
END:STANDARD
BEGIN:DAYLIGHT
TZOFFSETFROM:+0100
TZOFFSETTO:+0200
TZNAME:CEST
DTSTART:20220327T010000
END:DAYLIGHT
BEGIN:STANDARD
TZOFFSETFROM:+0200
TZOFFSETTO:+0100
TZNAME:CET
DTSTART:20221030T010000
END:STANDARD
BEGIN:DAYLIGHT
TZOFFSETFROM:+0100
TZOFFSETTO:+0200
TZNAME:CEST
DTSTART:20230326T010000
END:DAYLIGHT
BEGIN:STANDARD
TZOFFSETFROM:+0200
TZOFFSETTO:+0100
TZNAME:CET
DTSTART:20231029T010000
END:STANDARD
END:VTIMEZONE
BEGIN:VEVENT
DTSTART;VALUE=DATE:20220402
DTEND;VALUE=DATE:20220404
DTSTAMP:20260423T110002
CREATED:20220321T104826Z
LAST-MODIFIED:20220331T095542Z
UID:12548-1648872000-1648958399@ateneuharmonia.cat
SUMMARY:Jornada Antiestigma
DESCRIPTION:La Comissió Antiestigma hem preparat pel proper dissabte 2 d’abril una jornada plena d’activitats obertes i gratuïtes per a tots els públics. Tot seguit pots consultar la programació de la jornada. \nMatí \nDe 11 a 13 h – Activitats matinals. \n\n\n\nPatxanga inclusiva de futbol. Inscripcions prèvies aquí. Aquesta activitat es durà a terme al pati de l’Institut Vapor del Fil. \n\n\nEspai obert de jocs i escacs\, en col·laboració amb Arep\, ALC Stronghold i ToquemFusta. Aquesta activitat es durà a terme a la planta baixa de l’Ateneu. \n\n\nEspai d’art i lliure expressió\, en col·laboració amb el Grup de Pintors de Sant Andreu. Aquesta activitat es durà a terme a l’espai Josep Verdaguer de l’Ateneu. \n\n\nTaller de cuina intercultural\, en col·laboració amb Sueños Refugiados i la Fundació Vidal i Barraquer. Aquesta activitat es durà a terme a la Cuina de l’Espe de l’Ateneu. \n\n\n13 h – Vermut musical amb la Tribu de les Casernes i l’Escola de Blues. Descobrirem els orígens del blues i el seu estigma. \n14 h – Dinar popular a càrrec de La Tempesta. Podràs comprar el tiquet al taulell d’informació de l’Ateneu a partir de les 10h del 28 de març a un preu de 3\,50€. \n\nTarda \n\n15 h – Ràdio Show: Gigantes y molinos. Espectacle interactiu a càrrec del Club Social Arep. \n16 h – Teatre fòrum amb La Foguera. \n17 h – Taula rodona. Estigmes: mirades des de la intersecció. Taula rodona per pensar sobre estigmes\, privilegis\, opressions i vulnerabilitats des d’una mirada interseccional amb Alaaddine Azzouzi\, Sindillar i Ràdio Cavaret \n18.30 h – Actuació musical a càrrec de sentimiento Flamenco\, en col·laboració amb La Fabric@. \nLa comissió antiestigma ens reunim mensualment per visibilitzar i defensar els drets de les  persones que pateixen diferents tipus de discriminació i dinamitzar accions per trencar estigmes. \nOrganitza: Comissió Antiestigma \n\n \n 
URL:https://ateneuharmonia.cat/esdeveniments/jornada-antiestigma-4/
LOCATION:Ateneu L’Harmonia\, Carrer de Sant Adrià\, 20 (Fabra i Coats) \, Barcelona\, Catalunya\, 08030\, Espanya
CATEGORIES:Altres,Arts escèniques,Música,Públic familiar,Xerrades
ATTACH;FMTTYPE=image/jpeg:https://ateneuharmonia.cat/wp-content/uploads/2022/03/Ateneu_Harmonia_Jornada_Antiestigma.jpg
END:VEVENT
BEGIN:VEVENT
DTSTART;TZID=Europe/Andorra:20220422T170000
DTEND;TZID=Europe/Andorra:20220422T190000
DTSTAMP:20260423T110002
CREATED:20220322T093031Z
LAST-MODIFIED:20220323T110927Z
UID:12557-1650646800-1650654000@ateneuharmonia.cat
SUMMARY:Taller de còmics per a la gestió emocional
DESCRIPTION:A vegades vivim situacions emocionals que se’ns repeteixen molt sovint\, amb la particularitat que no canvien amb el temps\, i sempre ens acaben fent sentir de la mateixa manera\, com si es tractés de cenyir-nos a un guió. Poder plasmar gràficament allò que ens succeeix\, ens permet establir un principi de realitat amb el qual distanciar-nos i observar les narratives en les quals podem estar atrapades. \nGAEDE és una entitat dedicada a l’atenció terapèutica a persones amb dificultats en les seves relacions\, ja sigui amb la parella\, amb els altres\, amb la vida en general o amb si mateixes. El nostre tema és l’amor\, i a partir d’aquí\, anem fent. \nPer a aquest taller no es requereixen coneixements previs. Tenim material\, però s’agraeix si porteu estris de dibuix propis per a major comoditat. Degut als temes que poden anar sorgint\, no és una activitat recomanada per a infants. \nL’activitat serà conduïda per Sergi Ferré Balagué\, terapeuta\, escriptor i dibuixant\, autor del llibre “La Revolución Afectiva: De la Dependencia Emocional al Agenciamiento Afectivo” (2017) i del còmic de pròxima publicació “¿Quién podría ser?” (2022). \nPer a participar és imprescindible la prèvia inscripció a gaede@gaede.cat ja que les places són limitades.  \n﻿ \nA càrrec de GAEDE
URL:https://ateneuharmonia.cat/esdeveniments/taller-de-comics-per-a-la-gestio-emocional/
LOCATION:Ateneu L’Harmonia\, Carrer de Sant Adrià\, 20 (Fabra i Coats) \, Barcelona\, Catalunya\, 08030\, Espanya
CATEGORIES:Altres
ATTACH;FMTTYPE=image/jpeg:https://ateneuharmonia.cat/wp-content/uploads/2022/03/comic_la-revolucion-afectiva_sergi-ferre.jpg
END:VEVENT
BEGIN:VEVENT
DTSTART;TZID=Europe/Andorra:20220423T120000
DTEND;TZID=Europe/Andorra:20220423T180000
DTSTAMP:20260423T110002
CREATED:20220322T103537Z
LAST-MODIFIED:20220419T095443Z
UID:12574-1650715200-1650736800@ateneuharmonia.cat
SUMMARY:Grapa i Tinta: Festival d’il·lustració i autoedició
DESCRIPTION:Torna amb la seva segona edició\, el Grapa i Tinta: un festival dedicat a la il·lustració i l’autoedició que neix amb la idea de retre homenatge al «fes-ho tu mateix». Nosaltres venim del món del fanzine i aquesta màxima ens ha ajudat a veure plasmat en paper el que volíem veure publicat\, sense correccions ni censures. És una de les nostres maneres favorites de transmetre cultura\, una cultura lliure i diversa des de l’autogestió. \nUna nova edició que tindrà lloc al carrer\, just davant de l’Ateneu. 
URL:https://ateneuharmonia.cat/esdeveniments/grapa-i-tinta-festival-dillustracio-i-autoedicio-2/
LOCATION:Ateneu L’Harmonia\, Carrer de Sant Adrià\, 20 (Fabra i Coats) \, Barcelona\, Catalunya\, 08030\, Espanya
CATEGORIES:Altres,Xerrades
ATTACH;FMTTYPE=image/gif:https://ateneuharmonia.cat/wp-content/uploads/2021/10/Ateneu_harmonia_grapa_tinta.gif
END:VEVENT
BEGIN:VEVENT
DTSTART;TZID=Europe/Andorra:20220428T183000
DTEND;TZID=Europe/Andorra:20220428T220000
DTSTAMP:20260423T110002
CREATED:20220425T105339Z
LAST-MODIFIED:20220427T100038Z
UID:13024-1651170600-1651183200@ateneuharmonia.cat
SUMMARY:AJORNAT - Projecció de "Hotel Explotación" + sopar amb Las Kellys
DESCRIPTION:[ Activitat posposada. Ben aviat anunciarem nova data! ] La Cooperativa La Tempesta organitza el proper dijous 28 d’abril un acte per donar a conèixer el projecte de Las Kellys. \nA les 18.30h visionarem el documental “Hotel Explotación: Las Kellys”\, que donarà pas a una xerrada oberta a càrrec del Sindicato Las Kellys Catalunya\, on parlarem de la seva història així com de la seva lluita. Un cop acabi la xerrada\, a les 20.30h\, començarà el sopar\, que té un preu de 8€ (3€ pel menjar i 5€ d’aportació a les activitats del sindicat). El menú constarà d’hamburguesa (amb opció vegana)\, amanida i patates. Els tiquets els podeu aconseguir a la barra de La Tempesta. \nAmunt les que lluiten! \n 
URL:https://ateneuharmonia.cat/esdeveniments/projeccio-de-hotel-explotacion-sopar-amb-las-kellys/
LOCATION:Ateneu L’Harmonia\, Carrer de Sant Adrià\, 20 (Fabra i Coats) \, Barcelona\, Catalunya\, 08030\, Espanya
CATEGORIES:Altres,Audiovisuals
ATTACH;FMTTYPE=image/jpeg:https://ateneuharmonia.cat/wp-content/uploads/2022/04/Ateneu_Harmonia_Las-Kellys.jpg
END:VEVENT
BEGIN:VEVENT
DTSTART;TZID=Europe/Andorra:20220430T120000
DTEND;TZID=Europe/Andorra:20220430T140000
DTSTAMP:20260423T110002
CREATED:20220322T104901Z
LAST-MODIFIED:20220419T102149Z
UID:12576-1651320000-1651327200@ateneuharmonia.cat
SUMMARY:Homenatge al Xagori
DESCRIPTION:Parlar de Sant Andreu de Palomar és parlar del Xagori. Estimava Sant Andreu de Palomar\, el poble que el va veure néixer\, créixer i morir. El poble que mai es va annexionar a Barcelona. Moltes estimàvem – i estimem – en Xagori. El seu afany per corregir qualsevol cartell o fulletó on hi aparegués la paraula “barri”. Moltes de les persones andreuenques tenim el sentiment de pertinença a Sant Andreu gràcies a tota la tasca divulgativa i pedagògica que va fer.  \nDes de l’Ateneu el recordem sempre a primera fila de qualsevol sarau amb la seva càmera. Després repassàvem la seva pàgina web i el perfil de Facebook\, per veure què captaven els seus ulls. I reconeixíem persones a les seves fotografies. En Xagori adorava Sant Andreu de Palomar\, el seu poble\, i per això volem fer-li un homenatge\, des del record i apreci que li tenim.  \nA l’acte hi trobarem una parada amb material andreuenc que va recopilar en Xagori\, com ara enganxines o calendaris. També hi haurà un micròfon obert per a que totes les persones que ho desitgeu pugueu explicar el que us vingui de gust. De ben segur que totes tenim alguna anècdota en la que hi apareix en Xagori! 🙂 I no seria un homenatge com en Xagori hagués volgut si no acabéssim ballant. És per això que gaudirem d’un matí amb música ambient dels The Beatles. En acabat\, brindarem amb un vermut a La Tempesta. La seva dedicació i lluita pel nostre poble sempre quedarà en el record. \nAllà on siguis seràs lliure! \nTot seguit volem recordar en Xagori amb aquest article que ens va fer el passat 19 d’abril de 2021: Som o no som andreuenques?
URL:https://ateneuharmonia.cat/esdeveniments/homenatge-al-xagori/
LOCATION:Ateneu L’Harmonia\, Carrer de Sant Adrià\, 20 (Fabra i Coats) \, Barcelona\, Catalunya\, 08030\, Espanya
CATEGORIES:Altres
ATTACH;FMTTYPE=image/jpeg:https://ateneuharmonia.cat/wp-content/uploads/2022/03/Ateneu_poble_independent_xagori.jpg
END:VEVENT
END:VCALENDAR