BEGIN:VCALENDAR
VERSION:2.0
PRODID:-//Ateneu L&#039;Harmonia - ECPv6.15.20//NONSGML v1.0//EN
CALSCALE:GREGORIAN
METHOD:PUBLISH
X-WR-CALNAME:Ateneu L&#039;Harmonia
X-ORIGINAL-URL:https://ateneuharmonia.cat
X-WR-CALDESC:Esdeveniments per Ateneu L&#039;Harmonia
REFRESH-INTERVAL;VALUE=DURATION:PT1H
X-Robots-Tag:noindex
X-PUBLISHED-TTL:PT1H
BEGIN:VTIMEZONE
TZID:Europe/Andorra
BEGIN:DAYLIGHT
TZOFFSETFROM:+0100
TZOFFSETTO:+0200
TZNAME:CEST
DTSTART:20210328T010000
END:DAYLIGHT
BEGIN:STANDARD
TZOFFSETFROM:+0200
TZOFFSETTO:+0100
TZNAME:CET
DTSTART:20211031T010000
END:STANDARD
BEGIN:DAYLIGHT
TZOFFSETFROM:+0100
TZOFFSETTO:+0200
TZNAME:CEST
DTSTART:20220327T010000
END:DAYLIGHT
BEGIN:STANDARD
TZOFFSETFROM:+0200
TZOFFSETTO:+0100
TZNAME:CET
DTSTART:20221030T010000
END:STANDARD
BEGIN:DAYLIGHT
TZOFFSETFROM:+0100
TZOFFSETTO:+0200
TZNAME:CEST
DTSTART:20230326T010000
END:DAYLIGHT
BEGIN:STANDARD
TZOFFSETFROM:+0200
TZOFFSETTO:+0100
TZNAME:CET
DTSTART:20231029T010000
END:STANDARD
END:VTIMEZONE
BEGIN:VEVENT
DTSTART;TZID=Europe/Andorra:20220727T163000
DTEND;TZID=Europe/Andorra:20220727T190000
DTSTAMP:20260423T061458
CREATED:20220713T105414Z
LAST-MODIFIED:20220721T095936Z
UID:13387-1658939400-1658948400@ateneuharmonia.cat
SUMMARY:Taller d’atrapasons - Atles Sonor la Meridiana
DESCRIPTION:T’has preguntat quin so té la Meridiana? El projecte de “Atles Sonor de la Meridiana” planteja com a través del desenvolupament d’un seguit de processos participatius podem caracteritzar conjuntament la identitat sonora dels espais\, equipaments\, comunitats i entitats de l’eix Meridiana i els barris que la delimiten. El projecte es caracteritza per reflexionar entorn els contextos sonors que ens envolten\, la nostra relació i afectació a nivell cognitiu i psico-acústic\, així com els usos socio-culturals de l’espai públic. Definirem conjuntament amb la comunitat aquelles localitzacions a patrimoniar sonorament amb una mirada inclusiva per a tenir una mostra sonora representativa i diversa dels espais públics. – \nPunt de trobada: a les 16.30h a l’Ateneu. \nInscripció aquí. \nA càrrec de BitLab
URL:https://ateneuharmonia.cat/esdeveniments/atles-sonor-meridiana/
LOCATION:Ateneu L’Harmonia\, Carrer de Sant Adrià\, 20 (Fabra i Coats) \, Barcelona\, Catalunya\, 08030\, Espanya
CATEGORIES:Altres
ATTACH;FMTTYPE=image/jpeg:https://ateneuharmonia.cat/wp-content/uploads/2022/07/Ateneu_harmonia_atles-sonor.jpg
END:VEVENT
END:VCALENDAR