BEGIN:VCALENDAR
VERSION:2.0
PRODID:-//Ateneu L&#039;Harmonia - ECPv6.15.20//NONSGML v1.0//EN
CALSCALE:GREGORIAN
METHOD:PUBLISH
X-WR-CALNAME:Ateneu L&#039;Harmonia
X-ORIGINAL-URL:https://ateneuharmonia.cat
X-WR-CALDESC:Esdeveniments per Ateneu L&#039;Harmonia
REFRESH-INTERVAL;VALUE=DURATION:PT1H
X-Robots-Tag:noindex
X-PUBLISHED-TTL:PT1H
BEGIN:VTIMEZONE
TZID:Europe/Andorra
BEGIN:DAYLIGHT
TZOFFSETFROM:+0100
TZOFFSETTO:+0200
TZNAME:CEST
DTSTART:20210328T010000
END:DAYLIGHT
BEGIN:STANDARD
TZOFFSETFROM:+0200
TZOFFSETTO:+0100
TZNAME:CET
DTSTART:20211031T010000
END:STANDARD
BEGIN:DAYLIGHT
TZOFFSETFROM:+0100
TZOFFSETTO:+0200
TZNAME:CEST
DTSTART:20220327T010000
END:DAYLIGHT
BEGIN:STANDARD
TZOFFSETFROM:+0200
TZOFFSETTO:+0100
TZNAME:CET
DTSTART:20221030T010000
END:STANDARD
BEGIN:DAYLIGHT
TZOFFSETFROM:+0100
TZOFFSETTO:+0200
TZNAME:CEST
DTSTART:20230326T010000
END:DAYLIGHT
BEGIN:STANDARD
TZOFFSETFROM:+0200
TZOFFSETTO:+0100
TZNAME:CET
DTSTART:20231029T010000
END:STANDARD
END:VTIMEZONE
BEGIN:VEVENT
DTSTART;VALUE=DATE:20220930
DTEND;VALUE=DATE:20221003
DTSTAMP:20260422T204620
CREATED:20220920T111921Z
LAST-MODIFIED:20220920T112548Z
UID:13932-1664510400-1664683199@ateneuharmonia.cat
SUMMARY:8è aniversari!
DESCRIPTION:TENIM UN SOMNI\, UN SOMNI COL·LECTIU FET REALITAT!\n \nSembla mentida\, però ja han passat 8 anys des que vam obrir les portes de l’Ateneu\, unes portes que van costar anys de feina\, de lluita i\, sobretot\, d’il·lusió. \nCelebrem aquest 8è aniversari per no oblidar-ho\, per tenir sempre present el treball comunitari i  la força d’un poble en lluita\, per la satisfacció d’haver iniciat un somni col·lectiu que ens ha fet arribar on som\, per donar-li continuïtat\, per un futur de teixit associatiu\, coresponsable i transformador\, al poble de Sant Andreu. \nAixí doncs\, divendres 30 de setembre i dissabte 1 d’octubre us esperem a totes. A totes les que vareu omplir Sant Andreu de reivindicacions fins a aconseguir que aquest somni col·lectiu fos realitat. A totes les que camineu amb nosaltres des que l’Ateneu es va posar en marxa. A totes les que encara no coneixem. \nPROGRAMA: \nDivendres 30 de setembre \n\n18.30 h. Trobada d’entitats allotjades a l’Ateneu. Un espai de coneixença i de tribu\, per compartir aprenentatges i parlar sobre el relleu participatiu als col·lectius. *Activitat interna destinada a les entitats\, grups i col·lectius de l’Ateneu.\n20.00 h. Concert. Obrim bucs amb les Jams lliures de la Barcelona Nord. Aquesta edició de l’obrim bucs la protagonitzarà la primera edició d’un nou cicle en col·laboració amb l’Associació Capibola Blues.El col·lectiu neix a Barcelona al 2003 amb la intenció d’apropar aquest estil musical a un ampli espectre de públic amb una total vocació de compromís social basada en una concepció oberta de l’accés a la cultura per tot tipus de col·lectius socials. Al llarg de la seva història d’activitats la seva implicació amb el teixit associatiu de la ciutat l’ha permès portar a terme un projecte de forta voluntat aglutinadora\, que uneix en el seu sí\, l’afany divulgatiu\, el formatiu\, el lúdic i el solidari.Dintre d’aquest projecte l’Associació Capibola Blues inclou la celebració del Festival de Blues de Barcelona\, les Nits de Capibola Blues\, el Pic-nic de Blues i l’Escola Taller de Blues de Barcelona. Aquest últim projecte va estar residint a l’Ateneu L’Harmonia i fruit d’aquesta convivència\, neix el projecte col·laboratiu “Jams lliures de la Bcn Nord”\, que presentarem en el marc del 8è Aniversari de l’Ateneu. Es tracta d’un seguit de jams lliures que aniran rotant per diferents projectes i equipaments de la Barcelona Nord\, fent la primera parada a Sant Andreu. Veniu a celebrar el 8è Aniversari de l’Ateneu a ritme de blues\, a ritme de jam\, a ritme d’Harmonia!\n\nDissabte 1 d’octubre \n\n18.00 h | 18.30 h | 19.00 h. Tastet de circ per infants. L’escoleta de circ de L’Harmonia oferirà un taller de circ per infants on gaudir i aprendre les diferents tècniques d’aquest ofici\, com ara el diàbolo\, les pilotes o els equilibris sobre objectes. A càrrec de Rafa Espada i Ceska.\n18.00 h | Roomscape amb Fronteres invisibles. El roomescape de Fronteres Invisibles és una activitat lúdica on\, després d’exposar la dinàmica i presentar els objectius i conceptes que ens hi acompanyaran\, cada participant esdevindrà un personatge que haurà d’anar avançant i esbrinant els passos a seguir davant diferents reptes. Finalment\, proposarem un espai de debat per compartir opinions\, sentiments i coneixements sorgits durant l’estona de joc. En aquest últim espai\, també sentirem l’experiència vital de persones que han patit directament els racismes que tractem al joc.\n\n\nFronteres Invisibles és un projecte educatiu que treballa les migracions i tot el que se’n desprèn. A través del joc\, es mostra la realitat de les persones immigrades a l’Estat Espanyol. Esperem que gaudiu del joc i ens conscienciem sobre les fronteres invisibles a les que s’enfronten persones que tenen tot el dret del món a viure!\nActivitat dirigida a persones majors de 14 anys.\n\nInscripció prèvia aquí.\n\n\n\n20.00 h | Quinto Harmònic. I què seria un aniversari sense el joc del Quinto? impensable! Per això el nostre ja lloro honorífic de L’Harmonia Xavi dinamitzarà el Quinto. Estigueu atentes\, no us salteu cap número!\n21.00 h | Sopar popular a la fresca a càrrec de La Tempesta coop. Et proposem omplir la panxa amb el sopar popular a la fresca. Perquè tenim ganes de trobar-nos i celebrar-nos\, de passar una bona estona plegades. El menú tindrà opció omnívora o vegana i consistirà en un entrant (empanada)\, un plat principal (Arròs amb curri de verdures i pollastre o cigrons\, segons l’opció escollida)\, postres (pastís d’aniversari) i pa\, aigua i vi. El tiquet tindrà un cost de 7€. Ja podeu comprar-lo al taulell d’informació de l’Ateneu!\n22.30 h | PDs Les Menús. I ens encanta dir que “abajo el trabajo i arriba el bailoteo“\, per això les nostres PDs preferides i de la casa ens oferiran una sessió on els riures i els dancings estaran assegurats!\n\n#SomHarmonia
URL:https://ateneuharmonia.cat/esdeveniments/8e-aniversari/
LOCATION:Ateneu L’Harmonia\, Carrer de Sant Adrià\, 20 (Fabra i Coats) \, Barcelona\, Catalunya\, 08030\, Espanya
CATEGORIES:Altres,Música,Públic familiar
ATTACH;FMTTYPE=image/png:https://ateneuharmonia.cat/wp-content/uploads/2022/09/Diseno-sin-titulo-2.png
END:VEVENT
BEGIN:VEVENT
DTSTART;TZID=Europe/Andorra:20221008T110000
DTEND;TZID=Europe/Andorra:20221008T130000
DTSTAMP:20260422T204620
CREATED:20221006T092915Z
LAST-MODIFIED:20221006T092915Z
UID:14058-1665226800-1665234000@ateneuharmonia.cat
SUMMARY:Sant Andreu Juga
DESCRIPTION:Vine a gaudir d’aquest espai de jocs de taula de la mà de l’Associació Stronghold. Amb el seu acompanyament podrem aprendre a jugar a qualsevol dels jocs que ofereix l’associació\, a banda d’aquells dels que disposem a l’Ateneu. \n\n11:15h (6-9 anys) #8tresors El extravagante torneo del pirata Montrose \n12:30h (10-12 anys) #CatsofCatthulu: El retorno de Chuch’Ooo\n\nInscripció prèvia aquí \nOrganitza: ALC Stronghold
URL:https://ateneuharmonia.cat/esdeveniments/sant-andreu-juga-24/
LOCATION:Ateneu L’Harmonia\, Carrer de Sant Adrià\, 20 (Fabra i Coats) \, Barcelona\, Catalunya\, 08030\, Espanya
CATEGORIES:Altres,Públic familiar
ATTACH;FMTTYPE=image/jpeg:https://ateneuharmonia.cat/wp-content/uploads/2016/05/ateneu_harmonia_sant_andreu_TardaDeJocsDeTaula.jpg
END:VEVENT
BEGIN:VEVENT
DTSTART;TZID=Europe/Andorra:20221015T110000
DTEND;TZID=Europe/Andorra:20221015T200000
DTSTAMP:20260422T204620
CREATED:20220929T094828Z
LAST-MODIFIED:20220929T094828Z
UID:14016-1665831600-1665864000@ateneuharmonia.cat
SUMMARY:(h)Artmonia. Mostra d’art i artesania
DESCRIPTION:La mostra (h)Artmonia sorgeix d’una proposta feta des de la Comissió de Programació de l’Ateneu així com amb la imprescindible col·laboració de Guillem Pla\, un artista local.  De treballar plegades sorgeix la necessitat d’organitzar una mostra que té voluntat de continuïtat en el temps\, on poder organitzar una mostra d’artistes locals\, tant de Sant Andreu com de fora. També neix amb la voluntat que esdevingui un espai on les entitats i col·lectius que treballen al voltant de L’Harmonia (Toquem Fusta\, Grup de Pintors\, tallers de serigrafia\, etc) puguin tenir un dia on mostrar la seva feina. \nA més a més de la mostra\, podrem gaudir de diversos espais de tallers\, espais de joc infantil\, espectacles familiars i concerts de tarda per donar un context festiu a la mostra. L’horari de la mostra serà d’11h a 20h\, que serà el marge on la resta d’activitats tindran cabuda. \nÉs un acte emmarcat en donar suport a col·lectius artístics de Sant Andreu\, així com d’altres de fora del poble\, en una aposta de l’Ateneu L’Harmonia i els impulsors de la mostra per donar espai\, veu i alè als artistes i artesans que veuen com la seva activitat troba pocs espais on poder mostrar-se en públic. \nBen aviat confirmarem els diversos artistes participants!
URL:https://ateneuharmonia.cat/esdeveniments/hartmonia-mostra-dart-i-artesania-2/
LOCATION:Ateneu L’Harmonia\, Carrer de Sant Adrià\, 20 (Fabra i Coats) \, Barcelona\, Catalunya\, 08030\, Espanya
CATEGORIES:Altres,Música
ATTACH;FMTTYPE=image/jpeg:https://ateneuharmonia.cat/wp-content/uploads/2022/09/Ateneu_harmonia_artmonia.jpg
END:VEVENT
BEGIN:VEVENT
DTSTART;VALUE=DATE:20221021
DTEND;VALUE=DATE:20221025
DTSTAMP:20260422T204620
CREATED:20220929T095353Z
LAST-MODIFIED:20220929T095353Z
UID:14021-1666324800-1666583999@ateneuharmonia.cat
SUMMARY:FESC: Fira d'Economia Solidària de Catalunya
DESCRIPTION:L’economia social i solidària (ESS) formula una proposta política de transformació social a través de la democratització de l’economia\, l’autogestió del treball\, la priorització de les persones per sobre del capital i les relacions basades en la cooperació i la sostenibilitat de la vida. Acull totes les pràctiques econòmiques orientades a les necessitats humanes\, gestionades de forma participativa i democràtica\, i social i ecològicament responsables. Aquestes pràctiques estan presents en tot el cicle econòmic: producció\, distribució\, comercialització\, consum\, estalvi i inversió\, i conformen el mercat social. \nEnguany celebrem la XI edició de la FESC\, l’esdeveniment anual de trobada i exposició del moviment\, del 21 al 23 d’octubre al recinte Fabra i Coats de Barcelona.
URL:https://ateneuharmonia.cat/esdeveniments/fesc-fira-deconomia-solidaria-de-catalunya/
LOCATION:Ateneu L’Harmonia\, Carrer de Sant Adrià\, 20 (Fabra i Coats) \, Barcelona\, Catalunya\, 08030\, Espanya
CATEGORIES:Altres
ATTACH;FMTTYPE=image/jpeg:https://ateneuharmonia.cat/wp-content/uploads/2022/09/Ateneu_Harmonia_fesc.jpg
END:VEVENT
END:VCALENDAR