BEGIN:VCALENDAR
VERSION:2.0
PRODID:-//Ateneu L&#039;Harmonia - ECPv6.15.20//NONSGML v1.0//EN
CALSCALE:GREGORIAN
METHOD:PUBLISH
X-ORIGINAL-URL:https://ateneuharmonia.cat
X-WR-CALDESC:Esdeveniments per Ateneu L&#039;Harmonia
REFRESH-INTERVAL;VALUE=DURATION:PT1H
X-Robots-Tag:noindex
X-PUBLISHED-TTL:PT1H
BEGIN:VTIMEZONE
TZID:Europe/Andorra
BEGIN:DAYLIGHT
TZOFFSETFROM:+0100
TZOFFSETTO:+0200
TZNAME:CEST
DTSTART:20210328T010000
END:DAYLIGHT
BEGIN:STANDARD
TZOFFSETFROM:+0200
TZOFFSETTO:+0100
TZNAME:CET
DTSTART:20211031T010000
END:STANDARD
BEGIN:DAYLIGHT
TZOFFSETFROM:+0100
TZOFFSETTO:+0200
TZNAME:CEST
DTSTART:20220327T010000
END:DAYLIGHT
BEGIN:STANDARD
TZOFFSETFROM:+0200
TZOFFSETTO:+0100
TZNAME:CET
DTSTART:20221030T010000
END:STANDARD
BEGIN:DAYLIGHT
TZOFFSETFROM:+0100
TZOFFSETTO:+0200
TZNAME:CEST
DTSTART:20230326T010000
END:DAYLIGHT
BEGIN:STANDARD
TZOFFSETFROM:+0200
TZOFFSETTO:+0100
TZNAME:CET
DTSTART:20231029T010000
END:STANDARD
END:VTIMEZONE
BEGIN:VEVENT
DTSTART;TZID=Europe/Andorra:20221203T173000
DTEND;TZID=Europe/Andorra:20221204T020000
DTSTAMP:20260422T153804
CREATED:20221107T121914Z
LAST-MODIFIED:20221107T121914Z
UID:14220-1670088600-1670119200@ateneuharmonia.cat
SUMMARY:Festa jove amb l'Agrupament Escolta Jaume I
DESCRIPTION:Aquest any l’AE Jaume I celebrarà 65+2 (67) anys. L’Agrupament es va quedar amb les ganes de celebrar 65 anys l’any 2020\, però per la covid no van poder… així que aquest any ho han reprès amb moltes ganes! \nA la tarda podreu gaudir del CAU obert\, on cada unitat farà un taller / joc. Al vespre hi haurà sopar i bingo musical\, i la nit acabarà amb les PD’s Consell\, Garrik\, Greta\, Guarras i Pluma! \nA càrrec de l’Agrupament Escolta Jaume I. \nActe de Festa Major.
URL:https://ateneuharmonia.cat/esdeveniments/festa-jove-amb-lagrupament-escolta-jaume-i/
LOCATION:Ateneu L’Harmonia\, Carrer de Sant Adrià\, 20 (Fabra i Coats) \, Barcelona\, Catalunya\, 08030\, Espanya
CATEGORIES:Altres,Música
ATTACH;FMTTYPE=image/jpeg:https://ateneuharmonia.cat/wp-content/uploads/2022/11/Festa_jaume_i.jpg
END:VEVENT
BEGIN:VEVENT
DTSTART;TZID=Europe/Andorra:20221213T170000
DTEND;TZID=Europe/Andorra:20221213T183000
DTSTAMP:20260422T153804
CREATED:20221107T125247Z
LAST-MODIFIED:20221107T125458Z
UID:14231-1670950800-1670956200@ateneuharmonia.cat
SUMMARY:Grup d’acompanyament emocional per a joves
DESCRIPTION:Des de L’Harmonia\, el Servei de Konsulta’m + 22 i els referents de benestar emocional i comunitari dels CAPs de Sant Andreu\, us presentem un nou espai – projecte per a joves que tot just està a punt d’arrancar. \nEs tracta d’un espai d’acompanyament emocional i de trobada per a joves amb malestars psicològics i de salut emocional que tinguin relació amb temes de precarietat\, condicions laborals\, recerca de feina\, món laboral\, perspectives de present i futur\,… \nEs tracta d’un espai obert\, dinàmic i gratuït\, acompanyat per a professionals i per a qualsevol jove (a partir dels 18 anys). \nPer participar és tan senzill com venir i contactar prèviament per telèfon al 685 72 19 01 \nDe moment hi ha tres primeres dates: Dimarts 15/11\, 29/11 i 13/12 de 17-18:30h (a l’espera de confirmar i concretar noves dates pel 2023).
URL:https://ateneuharmonia.cat/esdeveniments/grup-dacompanyament-emocional-per-a-joves-3/
LOCATION:Ateneu L’Harmonia\, Carrer de Sant Adrià\, 20 (Fabra i Coats) \, Barcelona\, Catalunya\, 08030\, Espanya
CATEGORIES:Altres,Xerrades
ATTACH;FMTTYPE=image/jpeg:https://ateneuharmonia.cat/wp-content/uploads/2022/11/Grup_joves_ateneu_harmonia.jpg
END:VEVENT
BEGIN:VEVENT
DTSTART;TZID=Europe/Andorra:20221217T113000
DTEND;TZID=Europe/Andorra:20221217T133000
DTSTAMP:20260422T153804
CREATED:20221203T191051Z
LAST-MODIFIED:20221203T191051Z
UID:14309-1671276600-1671283800@ateneuharmonia.cat
SUMMARY:Intercanvi de joguines
DESCRIPTION:La Comissió de Responsabilitat Ambiental ens porta un intercanvi de joguines\, per a totes les edats! \nPorta el que ja no utilitzis i agafa el que vulguis aprofitar. La recollida de joguines es farà des del dilluns 12 i fins dissabte 17 de desembre\, de 10h a 14h i de 16h a 21h. \nNo s’acceptaran joguines sexistes ni bèl·liques. A més\, des de la Comissió de Responsabilitat Ambiental s’oferirà un tast gratuït de croquetes! \nI a les 12h\, començarà el concert familiar del cicle Orelletes amb Aitorpenak!
URL:https://ateneuharmonia.cat/esdeveniments/intercanvi-de-joguines/
LOCATION:Ateneu L’Harmonia\, Carrer de Sant Adrià\, 20 (Fabra i Coats) \, Barcelona\, Catalunya\, 08030\, Espanya
CATEGORIES:Altres,Públic familiar
ATTACH;FMTTYPE=image/jpeg:https://ateneuharmonia.cat/wp-content/uploads/2022/12/Ateneu_Harmonia_intercanvi_roba.jpg
END:VEVENT
BEGIN:VEVENT
DTSTART;TZID=Europe/Andorra:20221222T173000
DTEND;TZID=Europe/Andorra:20221222T220000
DTSTAMP:20260422T153804
CREATED:20221212T161223Z
LAST-MODIFIED:20221212T161223Z
UID:14315-1671730200-1671746400@ateneuharmonia.cat
SUMMARY:Festa de Solstici d'Hivern
DESCRIPTION:Des de l’Ateneu volem gaudir de l’arribada del solstici d’hivern. Volem fer d’aquesta festa un espai per compartir\, conviure i construir plegades. Anota’t a l’agenda els horaris! \nDe 17 h a 19 h – Actovitats infantils (de 2 a 6 anys) amb espectacle de contes\, taller i Tió.  \n20 h – Tió de pongos  \nUn “pongo” és la teva oportunitat de desfer-te d’allò típic que no té cap utilitat o que no t’agrada\, per exemple: una planta de plàstic\, una bola de neu\, una guardiola\, una figura de plàstic…(un “ande lo pongo”). I si vens amb infants\, el mateix: aquella joguina o llibre que ja no fan servir\, etc. L’únic imprescindible: que estigui embolicat com si fos un regal per poder fer cagar el Tió! \n21 h – Sopar de traje  \nQuan diem “traje” ens referim a un sopar on cada persona haurà de portar alguna cosa de menjar per compartir entre totes. Les begudes del sopar aniran a càrrec de L’Harmonia. Però ep! Si per “traje” entenies anar ben arreglat i posar-te les millors gal·les de l’armari\, no serem nosaltres qui t’ho impedirem!  \n22 h – Espai de música i ball \n\nAnima’t a venir per acabar l’any amb amb bon gust!
URL:https://ateneuharmonia.cat/esdeveniments/festa-de-solstici-dhivern-5/
LOCATION:Ateneu L’Harmonia\, Carrer de Sant Adrià\, 20 (Fabra i Coats) \, Barcelona\, Catalunya\, 08030\, Espanya
CATEGORIES:Altres,Música,Públic familiar
ATTACH;FMTTYPE=image/jpeg:https://ateneuharmonia.cat/wp-content/uploads/2022/12/Ateneu_Solstici_hivern.jpg
END:VEVENT
END:VCALENDAR