BEGIN:VCALENDAR
VERSION:2.0
PRODID:-//Ateneu L&#039;Harmonia - ECPv6.15.20//NONSGML v1.0//EN
CALSCALE:GREGORIAN
METHOD:PUBLISH
X-WR-CALNAME:Ateneu L&#039;Harmonia
X-ORIGINAL-URL:https://ateneuharmonia.cat
X-WR-CALDESC:Esdeveniments per Ateneu L&#039;Harmonia
REFRESH-INTERVAL;VALUE=DURATION:PT1H
X-Robots-Tag:noindex
X-PUBLISHED-TTL:PT1H
BEGIN:VTIMEZONE
TZID:Europe/Andorra
BEGIN:DAYLIGHT
TZOFFSETFROM:+0100
TZOFFSETTO:+0200
TZNAME:CEST
DTSTART:20220327T010000
END:DAYLIGHT
BEGIN:STANDARD
TZOFFSETFROM:+0200
TZOFFSETTO:+0100
TZNAME:CET
DTSTART:20221030T010000
END:STANDARD
BEGIN:DAYLIGHT
TZOFFSETFROM:+0100
TZOFFSETTO:+0200
TZNAME:CEST
DTSTART:20230326T010000
END:DAYLIGHT
BEGIN:STANDARD
TZOFFSETFROM:+0200
TZOFFSETTO:+0100
TZNAME:CET
DTSTART:20231029T010000
END:STANDARD
BEGIN:DAYLIGHT
TZOFFSETFROM:+0100
TZOFFSETTO:+0200
TZNAME:CEST
DTSTART:20240331T010000
END:DAYLIGHT
BEGIN:STANDARD
TZOFFSETFROM:+0200
TZOFFSETTO:+0100
TZNAME:CET
DTSTART:20241027T010000
END:STANDARD
END:VTIMEZONE
BEGIN:VEVENT
DTSTART;TZID=Europe/Andorra:20230302T100000
DTEND;TZID=Europe/Andorra:20230302T140000
DTSTAMP:20260420T103727
CREATED:20230227T122026Z
LAST-MODIFIED:20230228T131816Z
UID:15049-1677751200-1677765600@ateneuharmonia.cat
SUMMARY:Veus contra el masclisme: Repintem els murals feministes del carrer Segre
DESCRIPTION:Després que els murals feministes del carrer Segre hagin estat atacats i vandalitzats amb simbologia feixista\, des de l’Ateneu L’Harmonia organitzem la repintada dels murals\, a càrrec de les artistes i col·lectius que les vam realitzar. \nUna jornada reivindicativa i artística\, per reclamar que els murals\, i els nostres drets i reivindicacions\, no es toquen!
URL:https://ateneuharmonia.cat/esdeveniments/veus-contra-el-masclisme-repintem-els-murals-feministes-del-carrer-segre-2/
LOCATION:Ateneu L’Harmonia\, Carrer de Sant Adrià\, 20 (Fabra i Coats) \, Barcelona\, Catalunya\, 08030\, Espanya
CATEGORIES:Altres
ATTACH;FMTTYPE=image/jpeg:https://ateneuharmonia.cat/wp-content/uploads/2023/02/Ateneu_harmonia_Repintada_mural_Carre_Segre.jpg
END:VEVENT
BEGIN:VEVENT
DTSTART;TZID=Europe/Andorra:20230304T110000
DTEND;TZID=Europe/Andorra:20230304T210000
DTSTAMP:20260420T103727
CREATED:20230213T165735Z
LAST-MODIFIED:20240222T133414Z
UID:15014-1677927600-1677963600@ateneuharmonia.cat
SUMMARY:16a Calçotada ecològica i popular de Sant Andreu de Palomar
DESCRIPTION:Un any més\, i ja en van 16\, torna la calçotada de Sant Andreu de Palomar\, un dels dies més esperats per trobar-nos\, fer comunitat\, compartir\, riure\, ballar… Dissabte 4 de març\, a partir de les 11h\, als Jardinets de Can Fabra. \nPrograma:\n11h Cercavila Diables de Sant Andreu\n12h Espectacle: Dudu “Insomni”\n14h Calçotada\n16h Quinto\n17h Música: Pascual i els desnatats \n  \nVenda tiquets 16a calçotada ecològica de L’Harmonia:\nEnguany l’inici de la venda de tiquets per a la calçotada es dividirà en dos dies i en dues franges horàries cada dia. Cal tenir en compte que hi haurà tiquets limitats en cada franja i cada persona només podrà adquirir 4 tiquets com a màxim. El pagament s’haurà de fer amb targeta. \nDijous 16 de febrer a les 10h i a les 18h\nDivendres 17 de febrer a les 13h i a les 20h \nSi queden tiquets un cop passades aquestes franges\, es podran comprar al taulell de L’Harmonia en el seu horari habitual: De dilluns a dissabte de 10 a 14h i de 16 a 21h \n  \nResum de la 16a calçotada:
URL:https://ateneuharmonia.cat/esdeveniments/16a-calcotada-ecologica-i-popular-de-sant-andreu-de-palomar/
LOCATION:Plaça Can Fabra\, 08030
CATEGORIES:Altres
ATTACH;FMTTYPE=image/jpeg:https://ateneuharmonia.cat/wp-content/uploads/2023/02/Ateneu_harmonia_calcotada_23.jpg
END:VEVENT
BEGIN:VEVENT
DTSTART;TZID=Europe/Andorra:20230310T190000
DTEND;TZID=Europe/Andorra:20230310T210000
DTSTAMP:20260420T103727
CREATED:20230227T124033Z
LAST-MODIFIED:20230227T124927Z
UID:15059-1678474800-1678482000@ateneuharmonia.cat
SUMMARY:Veus contra el masclisme. Antifeixisme cuqui. Taller de memes amb Proyecto UNA
DESCRIPTION:El taller constarà d’una part teòrica\, on reflexionarem sobre les possibilitats comunicatives i la capacitat de generar un llenguatge propi que tenen els mems. Repassarem els usos que se n’ha fet a l’hora de generar comunitats\, i com\, en múltiples ocasions\, han sigut instrumentalitzats per atacar els drets de la població LGTBIQ+ o per promoure sexualitats i rols de gènere tradicionals.  \nTambé estudiarem com les comunitats no hegemòniques han sabut utilitzar la memètica per generar vincles i transmetre missatges de manera lleugera\, o\, si més no\, divertida.  \nEn la part pràctica\, coneixerem eines accessibles per generar mems\, així com diversos recursos i algun giny. Les participants crearan els seus propis mems\, que es modificaran i evolucionaran gràcies a la creativitat col·lectiva\, per acabar convertits en una obra comuna.
URL:https://ateneuharmonia.cat/esdeveniments/veus-contra-el-masclisme-antifeixisme-cuqui-taller-de-memes-amb-proyecto-una/
LOCATION:Ateneu L’Harmonia\, Carrer de Sant Adrià\, 20 (Fabra i Coats) \, Barcelona\, Catalunya\, 08030\, Espanya
CATEGORIES:Altres
ATTACH;FMTTYPE=image/jpeg:https://ateneuharmonia.cat/wp-content/uploads/2023/02/Ateneu_harmonia_Taller_mems_Proyecto_UNA.jpg
END:VEVENT
BEGIN:VEVENT
DTSTART;TZID=Europe/Andorra:20230328T180000
DTEND;TZID=Europe/Andorra:20230328T200000
DTSTAMP:20260420T103727
CREATED:20230223T130505Z
LAST-MODIFIED:20230320T094834Z
UID:15043-1680026400-1680033600@ateneuharmonia.cat
SUMMARY:Consell d’equipament
DESCRIPTION:El proper dimarts 28 de març a les 18h realitzarem el consell d’equipament amb el següent ordre del dia: \n\nPresentació de la memòria de gestió de l’any 2022\nPrioritats del 2023\nTorn obert de paraules\n\nEl consell d’equipament serà presencial a l’espai Lluis Maria Xirinacs (2n pis). \nVeïnes\, hi esteu totes convidades!
URL:https://ateneuharmonia.cat/esdeveniments/consell-dequipament-7/
LOCATION:Ateneu L’Harmonia\, Carrer de Sant Adrià\, 20 (Fabra i Coats) \, Barcelona\, Catalunya\, 08030\, Espanya
CATEGORIES:Altres
ATTACH;FMTTYPE=image/jpeg:https://ateneuharmonia.cat/wp-content/uploads/2023/02/Ateneu_harmonia_Consell_equipament.jpg
END:VEVENT
END:VCALENDAR