BEGIN:VCALENDAR
VERSION:2.0
PRODID:-//Ateneu L&#039;Harmonia - ECPv6.15.20//NONSGML v1.0//EN
CALSCALE:GREGORIAN
METHOD:PUBLISH
X-ORIGINAL-URL:https://ateneuharmonia.cat
X-WR-CALDESC:Esdeveniments per Ateneu L&#039;Harmonia
REFRESH-INTERVAL;VALUE=DURATION:PT1H
X-Robots-Tag:noindex
X-PUBLISHED-TTL:PT1H
BEGIN:VTIMEZONE
TZID:Europe/Andorra
BEGIN:DAYLIGHT
TZOFFSETFROM:+0100
TZOFFSETTO:+0200
TZNAME:CEST
DTSTART:20220327T010000
END:DAYLIGHT
BEGIN:STANDARD
TZOFFSETFROM:+0200
TZOFFSETTO:+0100
TZNAME:CET
DTSTART:20221030T010000
END:STANDARD
BEGIN:DAYLIGHT
TZOFFSETFROM:+0100
TZOFFSETTO:+0200
TZNAME:CEST
DTSTART:20230326T010000
END:DAYLIGHT
BEGIN:STANDARD
TZOFFSETFROM:+0200
TZOFFSETTO:+0100
TZNAME:CET
DTSTART:20231029T010000
END:STANDARD
BEGIN:DAYLIGHT
TZOFFSETFROM:+0100
TZOFFSETTO:+0200
TZNAME:CEST
DTSTART:20240331T010000
END:DAYLIGHT
BEGIN:STANDARD
TZOFFSETFROM:+0200
TZOFFSETTO:+0100
TZNAME:CET
DTSTART:20241027T010000
END:STANDARD
END:VTIMEZONE
BEGIN:VEVENT
DTSTART;TZID=Europe/Andorra:20231031T200000
DTEND;TZID=Europe/Andorra:20231031T233000
DTSTAMP:20260420T103906
CREATED:20231019T113144Z
LAST-MODIFIED:20231019T113144Z
UID:17122-1698782400-1698795000@ateneuharmonia.cat
SUMMARY:Castanyada Antirepressiva
DESCRIPTION:Us convidem a participar a la Castanyada antirepressiva d’aquest any amb un quinto musical i música fins a mitjanit! \n20h Quinto musical antirepressiu\nA càrrec d’ACCIÓ contra l’espionatge d’estat \n22.30h PD 1/2 Menú\nEns encanta dir que “abajo el trabajo i arriba el bailoteo“\, per això seguirem la nit amb una sessió musical on el ball i la diversió estan assegurats! Ballarem fins a mitja nit!
URL:https://ateneuharmonia.cat/esdeveniments/castanyada-antirepressiva/
LOCATION:Ateneu L’Harmonia\, Carrer de Sant Adrià\, 20 (Fabra i Coats) \, Barcelona\, Catalunya\, 08030\, Espanya
CATEGORIES:Altres,Música
ATTACH;FMTTYPE=image/jpeg:https://ateneuharmonia.cat/wp-content/uploads/2023/10/Ateneu_harmonia_castanyada_antirepre.jpg
END:VEVENT
END:VCALENDAR