BEGIN:VCALENDAR
VERSION:2.0
PRODID:-//Ateneu L&#039;Harmonia - ECPv6.15.20//NONSGML v1.0//EN
CALSCALE:GREGORIAN
METHOD:PUBLISH
X-ORIGINAL-URL:https://ateneuharmonia.cat
X-WR-CALDESC:Esdeveniments per Ateneu L&#039;Harmonia
REFRESH-INTERVAL;VALUE=DURATION:PT1H
X-Robots-Tag:noindex
X-PUBLISHED-TTL:PT1H
BEGIN:VTIMEZONE
TZID:Europe/Andorra
BEGIN:DAYLIGHT
TZOFFSETFROM:+0100
TZOFFSETTO:+0200
TZNAME:CEST
DTSTART:20220327T010000
END:DAYLIGHT
BEGIN:STANDARD
TZOFFSETFROM:+0200
TZOFFSETTO:+0100
TZNAME:CET
DTSTART:20221030T010000
END:STANDARD
BEGIN:DAYLIGHT
TZOFFSETFROM:+0100
TZOFFSETTO:+0200
TZNAME:CEST
DTSTART:20230326T010000
END:DAYLIGHT
BEGIN:STANDARD
TZOFFSETFROM:+0200
TZOFFSETTO:+0100
TZNAME:CET
DTSTART:20231029T010000
END:STANDARD
BEGIN:DAYLIGHT
TZOFFSETFROM:+0100
TZOFFSETTO:+0200
TZNAME:CEST
DTSTART:20240331T010000
END:DAYLIGHT
BEGIN:STANDARD
TZOFFSETFROM:+0200
TZOFFSETTO:+0100
TZNAME:CET
DTSTART:20241027T010000
END:STANDARD
END:VTIMEZONE
BEGIN:VEVENT
DTSTART;TZID=Europe/Andorra:20230603T180000
DTEND;TZID=Europe/Andorra:20230603T200000
DTSTAMP:20260424T042230
CREATED:20230525T194125Z
LAST-MODIFIED:20230525T194125Z
UID:15899-1685815200-1685822400@ateneuharmonia.cat
SUMMARY:Monòleg. Viborilla empolvada
DESCRIPTION:Federico García Lorca dona nom a aquest personatge com una veïna xafardera i desllenguada. Isaac José\, utilitza aquest nom per Fer un repassada “Sense pietat”\, a tota opressió al seu dia a dia i utilitza l’humor\, en aquesta comèdia delirant també per denunciar la violència quotidiana que es troba en una mirada\, en un gest. \nA càrrec d’Isaac José Forteza (Isaac Jose) \nEntitat organitzadora: Associació Grup d’Amics Gais\, Lesbianes\, Trans* \, Bisexuals i Queer (GAG).
URL:https://ateneuharmonia.cat/esdeveniments/monoleg-viborilla-empolvada/
LOCATION:Ateneu L’Harmonia\, Carrer de Sant Adrià\, 20 (Fabra i Coats) \, Barcelona\, Catalunya\, 08030\, Espanya
CATEGORIES:Arts escèniques
ATTACH;FMTTYPE=image/jpeg:https://ateneuharmonia.cat/wp-content/uploads/2023/03/Ateneu_harmonia_Viborilla_empolvada.jpg
END:VEVENT
BEGIN:VEVENT
DTSTART;TZID=Europe/Andorra:20230608T180000
DTEND;TZID=Europe/Andorra:20230608T200000
DTSTAMP:20260424T042230
CREATED:20230529T111749Z
LAST-MODIFIED:20230529T111749Z
UID:15971-1686247200-1686254400@ateneuharmonia.cat
SUMMARY:Teatre amb la Cia. Garbuix
DESCRIPTION:Mostra de teatre amb la Cia. Garbuix\, resident a l’Ateneu.
URL:https://ateneuharmonia.cat/esdeveniments/teatre-amb-la-cia-garbuix/
LOCATION:Ateneu L’Harmonia\, Carrer de Sant Adrià\, 20 (Fabra i Coats) \, Barcelona\, Catalunya\, 08030\, Espanya
CATEGORIES:Arts escèniques
ATTACH;FMTTYPE=image/jpeg:https://ateneuharmonia.cat/wp-content/uploads/2023/05/Ateneu_harmonia_garbuix_juny.jpg
END:VEVENT
END:VCALENDAR