BEGIN:VCALENDAR
VERSION:2.0
PRODID:-//Ateneu L&#039;Harmonia - ECPv6.15.20//NONSGML v1.0//EN
CALSCALE:GREGORIAN
METHOD:PUBLISH
X-ORIGINAL-URL:https://ateneuharmonia.cat
X-WR-CALDESC:Esdeveniments per Ateneu L&#039;Harmonia
REFRESH-INTERVAL;VALUE=DURATION:PT1H
X-Robots-Tag:noindex
X-PUBLISHED-TTL:PT1H
BEGIN:VTIMEZONE
TZID:Europe/Andorra
BEGIN:DAYLIGHT
TZOFFSETFROM:+0100
TZOFFSETTO:+0200
TZNAME:CEST
DTSTART:20220327T010000
END:DAYLIGHT
BEGIN:STANDARD
TZOFFSETFROM:+0200
TZOFFSETTO:+0100
TZNAME:CET
DTSTART:20221030T010000
END:STANDARD
BEGIN:DAYLIGHT
TZOFFSETFROM:+0100
TZOFFSETTO:+0200
TZNAME:CEST
DTSTART:20230326T010000
END:DAYLIGHT
BEGIN:STANDARD
TZOFFSETFROM:+0200
TZOFFSETTO:+0100
TZNAME:CET
DTSTART:20231029T010000
END:STANDARD
BEGIN:DAYLIGHT
TZOFFSETFROM:+0100
TZOFFSETTO:+0200
TZNAME:CEST
DTSTART:20240331T010000
END:DAYLIGHT
BEGIN:STANDARD
TZOFFSETFROM:+0200
TZOFFSETTO:+0100
TZNAME:CET
DTSTART:20241027T010000
END:STANDARD
END:VTIMEZONE
BEGIN:VEVENT
DTSTART;TZID=Europe/Andorra:20230915T200000
DTEND;TZID=Europe/Andorra:20230915T213000
DTSTAMP:20260424T000142
CREATED:20230725T134940Z
LAST-MODIFIED:20230915T125501Z
UID:16459-1694808000-1694813400@ateneuharmonia.cat
SUMMARY:Jornades "Teatre al marge: Escenificar la bogeria"
DESCRIPTION:La simbiosi entre l’art i els trastorns mentals ha estat una constant durant la Història de l’Art\, patologitzant o exotitzant tot producte cultural desenvolupat fora dels paràmetres d’allò que és diagnosticable com a normalitat. \nDurant dos dies (15/9 i 16/9)\, us convidem a descobrir el projecte d’investigació en arts vives de Companyia La Neura Teatre: Teatre al marge: Escenificar la bogeria. Aquesta proposta uneix una representació teatral\, un espai de reflexió i taula rodona\, i un taller\, amb els quals adverteixen de l’emergència de repensar-nos fora de la letargia triomfal d’una societat hiper productiva. \nLluny de plantejar la salut mental com un efecte secundari d’una normativitat exitosa\, aquesta trobada proposa un espai on generar una xarxa àmplia de creacions des de l’experiència psicótica\, neurótica\, trastornada\, inestable\, boja. Per això\, planteja un treball d’experimentació i co-creació amb agents i institucions que lluiten per a la visibilització i/o despatologització de trastorns associats a la salut mental i emocional. \n\nPreus: (La compra per Internet ja s’ha tancat. Podeu comprar les entrades i insciure’us al taulell d’entrada de L’Harmonia\, cal pagar en efectiu)\nObra de teatre (15 setembre): 11€\nTaula rodona (16 setembre): Gratuïta\nTaller (16 setembre): 12€\nPack complet Jornades (Obra de teatre 15 set. + Taula Rodona 16 set. + Taller 16 set.): 21€ \n\nDivendres 15 de setembre a les 20h\nREPRESENTACIÓ TEATRAL DE L’OBRA: FRAGMENTOS DE UNA LOCA \nA cavall entre la instal·lació\, la performance i l’autoficció\, l’obra Fragmentos de una Loca planteja plasmar l’experiència psicòtica de la dramaturga Mireia Juanals\, les causes del seu desencadenament i la seva posterior recuperació. \nMitjançant un ús polièdric de diferents llenguatges com el brodat\, la sonoritat i la corporalitat\, l’obra proposa una immersió en l’esquerdat univers de la salut mental des d’una experiència individual. Així doncs\, col·lectivitzant aquesta vivència personal\, es planteja  l’acció de l’espectador com un agent actiu\, assenyalant la seva pròpia mirada com a causa i conseqüència del brot psicòtic: el judici de l’altre\, l’autosabotatge\, la necessitat d’aprovació i amor i la cerca obessiva de la perfecció. \nCompra entrada aquí\nPreu (Obra de teatre 15/9): 11€ (10€ + 1€ despeses de gestió) \n\nDissabte 16 de setembre a les 10h\nTAULA RODONA SOBRE TEATRE I MALESTAR amb: Abilis\, Hooly Fools\, Maria Bescompte\, Nikosia\, Trifulga dels Futils \nLa Companyia La Neura Teatre moderarà el diàleg amb associacions i agents dedicats a diversos itineraris de salut mental i les seves interrelacions amb la pràctica artística\, i viceversa. A través d’aquesta trobada s’exploraran quines són les seves motivacions i vinculacions amb aquests conceptes\, la potencialitat de l’acte creatiu com un possible acte de reparació i emancipació així com la connexió de les diverses metodologies compartides\, tenint en compte especialment  l’obra teatral Fragmentos de una Loca.\n \nEls col·lectius participants són: Abilis\, Holy Fools\, La Trifulga dels Futils\, Maria Bascompte\, Nikosia \nPreu: Gratuït (És recomanable haver assistit a la representació teatral Fragmentos de una Loca\, el divendres 15 de setembre a les 20h) \n\nDissabte 16 de setembre a les 15.30h\nTALLER: LABORATORI TEATRAL DEL MALESTAR \n\n\n\nAquest taller es planteja com una creació horitzontal\, participativa i col·lectiva. D’aquesta manera\, s’aconsegueix que el treball final sigui considerat un èxit propi de cada individu i\, a la vegada\, un objectiu assolit col·lectivament. Durant el procés creatiu\, es valoraran i s’exploraran de manera equitativa totes les idees proposades i serà el grup qui decideix com fer-les servir en la creació col·lectiva. Així\, cada membre podrà observar la seva aportació a la peça original i també contribuirà a les decisions conjuntes.\n\n\n\n\nLa dinàmica es basarà en el mètodes Playground Theatre del Dr. Ramiro Silveira (joc estructural per conduir a una millora en la capacitat performativa\, la motivació\, la felicitat i la capacitat restaurativa) i el mètode Building Blocks de la companyia Frantic Assembly (connexió activa amb el cos des de la simplicitat\, amb el propòsit d’empoderar i reclamar el cos creant una nova i sana relació amb una mateixa i el moviment)\, junt amb nocions del Teatre de l’Oprimit d’Augusto Boal.\n\n\nEl taller és obert a totes les persones\, tinguin o no formació teatral).\nLes places del taller són limitades\, així que cal fer la inscripció prèviament.\n\n\n\nInscriu-te al taller aquí.\nPreu (Taller dissabte 16/9): 12€ (10€ + 12€ despeses de gestió)\n\n.\n.\n.\n\n\n\n.\nDes de la Companyia La Neura Teatre\, animen a participar a les dues sessions de les Jornades “Teatre al marge: Escenificar la bogeria” ja que cada un dels actes s’ha pensat en relació i vinculació amb els altres.\n\nCompra el Pack Complet de les Jornades aquí.\nPreu Jornades completes (Obra de teatre 15/9 + Taula Rodona 16/9 + Taller 16/9): 21€\n.\n\n\nSobre la companyia La Neura Teatre: \n\nLa Neura Teatre és una companyia d’arts vives fundada per les artistes Mireia Juanals\, Gemma Ortega i Vanesa Peña Alarcón que neix a Barcelona al 2022 amb l’objectiu principal de crear una plataforma interdisciplinar i col·lectiva que despatologitzi\, desexotitzi i desestigmatitzi el patiment psíquic a través de la creació en arts escèniques i performatives. \nLa companyia busca co-producir espais de experimentació artística i pedagogies alternatives basades en la corporalitat i el llenguatge escenogràfic\, així com també generar processos participatius i col·lectius a través de jornades i laboratoris de creació ciutadans\, des d’una perspectiva crítica i orientada a fer de la nostra forma d’ habitar el món quelcom sostenible i plural. Les seves narratives imaginàries giren en torn a la vulnerabilitat\, la resiliència i la resistència des de la perspectiva feminista i la politización del malestar.
URL:https://ateneuharmonia.cat/esdeveniments/teatre-al-marge-escenificar-la-bogeria-fragmentos-de-una-loca/
LOCATION:Ateneu L’Harmonia\, Carrer de Sant Adrià\, 20 (Fabra i Coats) \, Barcelona\, Catalunya\, 08030\, Espanya
CATEGORIES:Arts escèniques
ATTACH;FMTTYPE=image/jpeg:https://ateneuharmonia.cat/wp-content/uploads/2023/07/Ateneu_harmonia_Teatre_Bogeria_Mireia_Juanals.jpg
END:VEVENT
BEGIN:VEVENT
DTSTART;TZID=Europe/Andorra:20230916T100000
DTEND;TZID=Europe/Andorra:20230916T110000
DTSTAMP:20260424T000142
CREATED:20230725T135756Z
LAST-MODIFIED:20230915T125459Z
UID:16462-1694858400-1694862000@ateneuharmonia.cat
SUMMARY:Jornades "Teatre al marge: Escenificar la bogeria"
DESCRIPTION:La simbiosi entre l’art i els trastorns mentals ha estat una constant durant la Història de l’Art\, patologitzant o exotitzant tot producte cultural desenvolupat fora dels paràmetres d’allò que és diagnosticable com a normalitat. \nDurant dos dies (15/9 i 16/9)\, us convidem a descobrir el projecte d’investigació en arts vives de Companyia La Neura Teatre: Teatre al marge: Escenificar la bogeria. Aquesta proposta uneix una representació teatral\, un espai de reflexió i taula rodona\, i un taller\, amb els quals adverteixen de l’emergència de repensar-nos fora de la letargia triomfal d’una societat hiper productiva. \nLluny de plantejar la salut mental com un efecte secundari d’una normativitat exitosa\, aquesta trobada proposa un espai on generar una xarxa àmplia de creacions des de l’experiència psicótica\, neurótica\, trastornada\, inestable\, boja. Per això\, planteja un treball d’experimentació i co-creació amb agents i institucions que lluiten per a la visibilització i/o despatologització de trastorns associats a la salut mental i emocional. \n\nPreus: (La compra per Internet ja s’ha tancat. Podeu comprar les entrades i insciure’us al taulell d’entrada de L’Harmonia\, cal pagar en efectiu)\nObra de teatre (15 setembre): 11€\nTaula rodona (16 setembre): Gratuïta\nTaller (16 setembre): 12€\nPack complet Jornades (Obra de teatre 15 set. + Taula Rodona 16 set. + Taller 16 set.): 21€ \n\nDivendres 15 de setembre a les 20h\nREPRESENTACIÓ TEATRAL DE L’OBRA: FRAGMENTOS DE UNA LOCA \nA cavall entre la instal·lació\, la performance i l’autoficció\, l’obra Fragmentos de una Loca planteja plasmar l’experiència psicòtica de la dramaturga Mireia Juanals\, les causes del seu desencadenament i la seva posterior recuperació. \nMitjançant un ús polièdric de diferents llenguatges com el brodat\, la sonoritat i la corporalitat\, l’obra proposa una immersió en l’esquerdat univers de la salut mental des d’una experiència individual. Així doncs\, col·lectivitzant aquesta vivència personal\, es planteja  l’acció de l’espectador com un agent actiu\, assenyalant la seva pròpia mirada com a causa i conseqüència del brot psicòtic: el judici de l’altre\, l’autosabotatge\, la necessitat d’aprovació i amor i la cerca obessiva de la perfecció. \nCompra entrada aquí\nPreu (Obra de teatre 15/9): 11€ (10€ + 1€ despeses de gestió) \n\nDissabte 16 de setembre a les 10h\nTAULA RODONA SOBRE TEATRE I MALESTAR amb: Abilis\, Hooly Fools\, Maria Bescompte\, Nikosia\, Trifulga dels Futils \nLa Companyia La Neura Teatre moderarà el diàleg amb associacions i agents dedicats a diversos itineraris de salut mental i les seves interrelacions amb la pràctica artística\, i viceversa. A través d’aquesta trobada s’exploraran quines són les seves motivacions i vinculacions amb aquests conceptes\, la potencialitat de l’acte creatiu com un possible acte de reparació i emancipació així com la connexió de les diverses metodologies compartides\, tenint en compte especialment  l’obra teatral Fragmentos de una Loca.\n \nEls col·lectius participants són: Abilis\, Holy Fools\, La Trifulga dels Futils\, Maria Bascompte\, Nikosia \nPreu: Gratuït (És recomanable haver assistit a la representació teatral Fragmentos de una Loca\, el divendres 15 de setembre a les 20h) \n\nDissabte 16 de setembre a les 15.30h\nTALLER: LABORATORI TEATRAL DEL MALESTAR \n\n\n\nAquest taller es planteja com una creació horitzontal\, participativa i col·lectiva. D’aquesta manera\, s’aconsegueix que el treball final sigui considerat un èxit propi de cada individu i\, a la vegada\, un objectiu assolit col·lectivament. Durant el procés creatiu\, es valoraran i s’exploraran de manera equitativa totes les idees proposades i serà el grup qui decideix com fer-les servir en la creació col·lectiva. Així\, cada membre podrà observar la seva aportació a la peça original i també contribuirà a les decisions conjuntes.\n\n\n\n\nLa dinàmica es basarà en el mètodes Playground Theatre del Dr. Ramiro Silveira (joc estructural per conduir a una millora en la capacitat performativa\, la motivació\, la felicitat i la capacitat restaurativa) i el mètode Building Blocks de la companyia Frantic Assembly (connexió activa amb el cos des de la simplicitat\, amb el propòsit d’empoderar i reclamar el cos creant una nova i sana relació amb una mateixa i el moviment)\, junt amb nocions del Teatre de l’Oprimit d’Augusto Boal.\n\n\nEl taller és obert a totes les persones\, tinguin o no formació teatral).\nLes places del taller són limitades\, així que cal fer la inscripció prèviament.\n\n\nInscriu-te al taller aquí.\nPreu (Taller dissabte 16/9): 12€ (10€ + 2€ despeses de gestió)\n\n.\n.\n.\n\n\n\n.\nDes de la Companyia La Neura Teatre\, animen a participar a les dues sessions de les Jornades “Teatre al marge: Escenificar la bogeria” ja que cada un dels actes s’ha pensat en relació i vinculació amb els altres.\n\nCompra el Pack Complet de les Jornades aquí.\nPreu Jornades completes (Obra de teatre 15/9 + Taula Rodona 16/9 + Taller 16/9): 21€\n.\n\n\n\n\nSobre la companyia La Neura Teatre: \n\nLa Neura Teatre és una companyia d’arts vives fundada per les artistes Mireia Juanals\, Gemma Ortega i Vanesa Peña Alarcón que neix a Barcelona al 2022 amb l’objectiu principal de crear una plataforma interdisciplinar i col·lectiva que despatologitzi\, desexotitzi i desestigmatitzi el patiment psíquic a través de la creació en arts escèniques i performatives. \nLa companyia busca co-producir espais de experimentació artística i pedagogies alternatives basades en la corporalitat i el llenguatge escenogràfic\, així com també generar processos participatius i col·lectius a través de jornades i laboratoris de creació ciutadans\, des d’una perspectiva crítica i orientada a fer de la nostra forma d’ habitar el món quelcom sostenible i plural. Les seves narratives imaginàries giren en torn a la vulnerabilitat\, la resiliència i la resistència des de la perspectiva feminista i la politización del malestar.
URL:https://ateneuharmonia.cat/esdeveniments/teatre-al-marge-escenificar-la-bogeria-fragmentos-de-una-loca-2/
LOCATION:Ateneu L’Harmonia\, Carrer de Sant Adrià\, 20 (Fabra i Coats) \, Barcelona\, Catalunya\, 08030\, Espanya
CATEGORIES:Arts escèniques
ATTACH;FMTTYPE=image/jpeg:https://ateneuharmonia.cat/wp-content/uploads/2023/07/Ateneu_harmonia_Teatre_Bogeria_Mireia_Juanals.jpg
END:VEVENT
BEGIN:VEVENT
DTSTART;TZID=Europe/Andorra:20230921T200000
DTEND;TZID=Europe/Andorra:20230921T213000
DTSTAMP:20260424T000142
CREATED:20230725T142030Z
LAST-MODIFIED:20230918T144519Z
UID:16468-1695326400-1695331800@ateneuharmonia.cat
SUMMARY:Science & Songs
DESCRIPTION:El títol de l’espectacle ens ho diu tot: ciència i cançons. \nAquesta proposta\, d’Eduardo Green i Victor Puntes\, ens aproparà la història de la natura a través d’imatges del món sub-microcòpic i música que ens emocionarà. Una barreja d’estils guiada per un monòleg que ens mostrarà un diàleg entre emoció i raó\, entre instint i experiència\, entre rauxa i seny\, entre fetge i cervell\, entre art i ciència… Tot plegat per transmetre que el coneixement és un privilegi que ha de ser compartit\, l’emoció de l’exploració\, el plaer de la descoberta i la comunicació com a acte d’amor. \n 
URL:https://ateneuharmonia.cat/esdeveniments/science-songs/
LOCATION:Ateneu L’Harmonia\, Carrer de Sant Adrià\, 20 (Fabra i Coats) \, Barcelona\, Catalunya\, 08030\, Espanya
CATEGORIES:Arts escèniques
ATTACH;FMTTYPE=image/jpeg:https://ateneuharmonia.cat/wp-content/uploads/2023/07/Ateneu_harmonia_Science_Songs_setembre.jpg
END:VEVENT
END:VCALENDAR