BEGIN:VCALENDAR
VERSION:2.0
PRODID:-//Ateneu L&#039;Harmonia - ECPv6.15.20//NONSGML v1.0//EN
CALSCALE:GREGORIAN
METHOD:PUBLISH
X-WR-CALNAME:Ateneu L&#039;Harmonia
X-ORIGINAL-URL:https://ateneuharmonia.cat
X-WR-CALDESC:Esdeveniments per Ateneu L&#039;Harmonia
REFRESH-INTERVAL;VALUE=DURATION:PT1H
X-Robots-Tag:noindex
X-PUBLISHED-TTL:PT1H
BEGIN:VTIMEZONE
TZID:Europe/Andorra
BEGIN:DAYLIGHT
TZOFFSETFROM:+0100
TZOFFSETTO:+0200
TZNAME:CEST
DTSTART:20220327T010000
END:DAYLIGHT
BEGIN:STANDARD
TZOFFSETFROM:+0200
TZOFFSETTO:+0100
TZNAME:CET
DTSTART:20221030T010000
END:STANDARD
BEGIN:DAYLIGHT
TZOFFSETFROM:+0100
TZOFFSETTO:+0200
TZNAME:CEST
DTSTART:20230326T010000
END:DAYLIGHT
BEGIN:STANDARD
TZOFFSETFROM:+0200
TZOFFSETTO:+0100
TZNAME:CET
DTSTART:20231029T010000
END:STANDARD
BEGIN:DAYLIGHT
TZOFFSETFROM:+0100
TZOFFSETTO:+0200
TZNAME:CEST
DTSTART:20240331T010000
END:DAYLIGHT
BEGIN:STANDARD
TZOFFSETFROM:+0200
TZOFFSETTO:+0100
TZNAME:CET
DTSTART:20241027T010000
END:STANDARD
END:VTIMEZONE
BEGIN:VEVENT
DTSTART;TZID=Europe/Andorra:20231109T193000
DTEND;TZID=Europe/Andorra:20231109T213000
DTSTAMP:20260423T205730
CREATED:20231027T093217Z
LAST-MODIFIED:20231106T115727Z
UID:17168-1699558200-1699565400@ateneuharmonia.cat
SUMMARY:Tastet Teatral a la Joe Forga
DESCRIPTION:El talent artístic que s’allotja a l’Ateneu no té límits i en aquest tast us en presentem una part. \nDurant aquesta mostra de teatre (9 i 10 de novembre) diferents companyies allotjades a L’Harmonia ens mostraran el seu art i treball: Espectacles de memòria\, humor\, sensacions i reflexió. Estem segures que no marxareu indiferents! \nAquest tastet\, a més\, té un objectiu concret i tangible: després de més de 9 anys de vida\, la sala Joe Forga necessita adaptacions i millores per poder acollir tot el seguit de propostes que rep i que organitzem des de L’Harmonia. Així\, la quantia del 100% de les entrades recaptades serà per arranjar l’espai i fer les adequacions necessàries per a que disposi d’elements que permetin continuar impulsant el teatre andreuenc i d’arreu a L’Harmonia.  \nFem que la Joe Forga esdevingui un espai escènic on poder abocar tot el talent i treball de les companyies teatrals del poble de Sant Andreu i més enllà! \nENTRADES: \nUn dia: 6€ (dijous o divendres)\nPack dos dies: 10€ \n\nPROGRAMACIÓ\, dijous 9 de novembre (ENTRADES): \n19.30h Obertura de portes \n\n19.45h Cuentos perversos (Cia. La Lunar) – 45 min \nEn aquesta recopilació de peces tindrem el gust de veure varietat de formats i artistes: des del monòleg Apocalipsis\, passant per diferents obres curtes (Pisar i Reencuentro) i microteatre (La niña araña)\,  sense que hi falti improvisació i diàleg amb el públic. No hi falteu! \n\n20.45h Mots en joc (Teatre pels descosits) – 45 min \n“Mots en Joc” arriba per posar en escena el text còmic d’una autora catalana i contemporània (Anna Fité). Una obra per somriure\, riure i\, sobretot \, fer riure i passar una bona estona. Una joguina metateatral de paraules i situacions\, on el públic és un participant més de la peça. No us perdeu aquesta comèdia còmica i desenfadada adreçada a tots els públics! \n  \nPROGRAMACIÓ\, divendres 10 de novembre (ENTRADES) : \n19.30h Obertura de portes \n  \n19.45h El Florido Pensil: nenes (Garbuix) – 45 min \nObra sobre els records de cinc de les moltes nenes que van estudiar en els temps de la postguerra. La repressió (de l’escola i l’església\, entre d’altres) va influir en la seva adolescència i determinava dos tipus de dones: les decents i les altres. Una peça plena de memòria\, feta de records entranyables i divertits\, però alhora corrosius.  \n  \n20.45h Els Miserables (La Lírica) – 40 min \nRecital de música amb cançons basades en la novel·la de Víctor Hugo. Connectarem amb la història d’un home que ha complert una condemna de gairebé vint anys per robar menjar per a la seva família. Fora de la presó\, la societat el margina i no li queda més remei que continuar robant. Una inesperada trobada el farà canviar d’actitud i redimir-se\, mentre la justícia li segueix els passos per haver reincidit després de sortir de la presó. Malgrat veure’s empès a la fugida\, el protagonista no deixarà de buscar per a si i per als altres una justícia que li és negada. \n  \n  \n  \n  \nCOMPANYIES QUE ACTUARAN AL TASTET DE TEATRE  DE LA JOE FORGA:\n9 i 10 de novembre \nCia. La Lunar\, Teatre pels descosits\, Garbuix Teatre i La Lírica
URL:https://ateneuharmonia.cat/esdeveniments/tastet-teatral-a-la-joe-forga/
LOCATION:Ateneu L’Harmonia\, Carrer de Sant Adrià\, 20 (Fabra i Coats) \, Barcelona\, Catalunya\, 08030\, Espanya
CATEGORIES:Arts escèniques
ATTACH;FMTTYPE=image/jpeg:https://ateneuharmonia.cat/wp-content/uploads/2023/10/Ateneu_harmonia_teatre_joeforga.jpg
END:VEVENT
BEGIN:VEVENT
DTSTART;TZID=Europe/Andorra:20231110T193000
DTEND;TZID=Europe/Andorra:20231110T213000
DTSTAMP:20260423T205730
CREATED:20231027T094024Z
LAST-MODIFIED:20231107T172805Z
UID:17171-1699644600-1699651800@ateneuharmonia.cat
SUMMARY:Tastet Teatral a la Joe Forga
DESCRIPTION:El talent artístic que s’allotja a l’Ateneu no té límits i en aquest tast us en presentem una part. \nDurant aquesta mostra de teatre (9 i 10 de novembre) diferents companyies allotjades a L’Harmonia ens mostraran el seu art i treball: Espectacles de memòria\, humor\, sensacions i reflexió. Estem segures que no marxareu indiferents! \nAquest tastet\, a més\, té un objectiu concret i tangible: després de més de 9 anys de vida\, la sala Joe Forga necessita adaptacions i millores per poder acollir tot el seguit de propostes que rep i que organitzem des de L’Harmonia. Així\, la quantia del 100% de les entrades recaptades serà per arranjar l’espai i fer les adequacions necessàries per a que disposi d’elements que permetin continuar impulsant el teatre andreuenc i d’arreu a L’Harmonia.  \nFem que la Joe Forga esdevingui un espai escènic on poder abocar tot el talent i treball de les companyies teatrals del poble de Sant Andreu i més enllà! \nENTRADES: \nUn dia: 6€ (entrades dijous 9 / entrades divendres 10)\nPack dos dies: 10€ (entrades) \n\nPROGRAMACIÓ\, divendres 10 de novembre: (ENTRADES) : \n19.30h Obertura de portes \n  \n19.45h El Florido Pensil: nenes (Garbuix) – 45 min  \nObra sobre els records de cinc de les moltes nenes que van estudiar en els temps de la postguerra. La repressió (de l’escola i l’església\, entre d’altres) va influir en la seva adolescència i determinava dos tipus de dones: les decents i les altres. Una peça plena de memòria\, feta de records entranyables i divertits\, però alhora corrosius.  \n  \n20.45h Els Miserables (La Lírica) – 40 min \nRecital de música amb cançons basades en la novel·la de Víctor Hugo. Connectarem amb la història d’un home que ha complert una condemna de gairebé vint anys per robar menjar per a la seva família. Fora de la presó\, la societat el margina i no li queda més remei que continuar robant. Una inesperada trobada el farà canviar d’actitud i redimir-se\, mentre la justícia li segueix els passos per haver reincidit després de sortir de la presó. Malgrat veure’s empès a la fugida\, el protagonista no deixarà de buscar per a si i per als altres una justícia que li és negada. \n  \nCOMPANYIES QUE ACTUARAN AL TASTET DE TEATRE  DE LA JOE FORGA:\n9 i 10 de novembre \nCia. La Lunar\, Teatre pels descosits\, Garbuix Teatre i La Lírica
URL:https://ateneuharmonia.cat/esdeveniments/tastet-teatral-a-la-joe-forga-2/
LOCATION:Ateneu L’Harmonia\, Carrer de Sant Adrià\, 20 (Fabra i Coats) \, Barcelona\, Catalunya\, 08030\, Espanya
CATEGORIES:Arts escèniques
ATTACH;FMTTYPE=image/jpeg:https://ateneuharmonia.cat/wp-content/uploads/2023/10/Ateneu_harmonia_teatre_joeforga.jpg
END:VEVENT
END:VCALENDAR