BEGIN:VCALENDAR
VERSION:2.0
PRODID:-//Ateneu L&#039;Harmonia - ECPv6.15.20//NONSGML v1.0//EN
CALSCALE:GREGORIAN
METHOD:PUBLISH
X-WR-CALNAME:Ateneu L&#039;Harmonia
X-ORIGINAL-URL:https://ateneuharmonia.cat
X-WR-CALDESC:Esdeveniments per Ateneu L&#039;Harmonia
REFRESH-INTERVAL;VALUE=DURATION:PT1H
X-Robots-Tag:noindex
X-PUBLISHED-TTL:PT1H
BEGIN:VTIMEZONE
TZID:Europe/Andorra
BEGIN:DAYLIGHT
TZOFFSETFROM:+0100
TZOFFSETTO:+0200
TZNAME:CEST
DTSTART:20230326T010000
END:DAYLIGHT
BEGIN:STANDARD
TZOFFSETFROM:+0200
TZOFFSETTO:+0100
TZNAME:CET
DTSTART:20231029T010000
END:STANDARD
BEGIN:DAYLIGHT
TZOFFSETFROM:+0100
TZOFFSETTO:+0200
TZNAME:CEST
DTSTART:20240331T010000
END:DAYLIGHT
BEGIN:STANDARD
TZOFFSETFROM:+0200
TZOFFSETTO:+0100
TZNAME:CET
DTSTART:20241027T010000
END:STANDARD
BEGIN:DAYLIGHT
TZOFFSETFROM:+0100
TZOFFSETTO:+0200
TZNAME:CEST
DTSTART:20250330T010000
END:DAYLIGHT
BEGIN:STANDARD
TZOFFSETFROM:+0200
TZOFFSETTO:+0100
TZNAME:CET
DTSTART:20251026T010000
END:STANDARD
END:VTIMEZONE
BEGIN:VEVENT
DTSTART;TZID=Europe/Andorra:20240529T180000
DTEND;TZID=Europe/Andorra:20240529T200000
DTSTAMP:20260423T044156
CREATED:20240430T142253Z
LAST-MODIFIED:20240527T083657Z
UID:18911-1717005600-1717012800@ateneuharmonia.cat
SUMMARY:Teatre "La Nona" amb Garbuix Teatre
DESCRIPTION:La Companyia Garbuix Teatre\, ens presenta una tarda de teatre amb: \nSARABI (micro-relat):\nLa mar va i ve aliena a tot el que succeeix. La mar porta i porta la mort.\nD’Irene Herrero \nLa NONA (obra principal):\nAdaptació d’una tragicomèdia\, on el personatge símbol d’una societat\, ho devora tot\, deixant al seu pas la desolació.\nDe Roberto Cossa (Adaptació de GArbuix Teatre)
URL:https://ateneuharmonia.cat/esdeveniments/teatre-la-nona-amb-garbuix-teatre/
LOCATION:Ateneu L’Harmonia\, Carrer de Sant Adrià\, 20 (Fabra i Coats) \, Barcelona\, Catalunya\, 08030\, Espanya
CATEGORIES:Arts escèniques
ATTACH;FMTTYPE=image/jpeg:https://ateneuharmonia.cat/wp-content/uploads/2024/04/Ateneu_Harmonia_teatre_maig.jpg
END:VEVENT
END:VCALENDAR