BEGIN:VCALENDAR
VERSION:2.0
PRODID:-//Ateneu L&#039;Harmonia - ECPv6.15.20//NONSGML v1.0//EN
CALSCALE:GREGORIAN
METHOD:PUBLISH
X-WR-CALNAME:Ateneu L&#039;Harmonia
X-ORIGINAL-URL:https://ateneuharmonia.cat
X-WR-CALDESC:Esdeveniments per Ateneu L&#039;Harmonia
REFRESH-INTERVAL;VALUE=DURATION:PT1H
X-Robots-Tag:noindex
X-PUBLISHED-TTL:PT1H
BEGIN:VTIMEZONE
TZID:Europe/Andorra
BEGIN:DAYLIGHT
TZOFFSETFROM:+0100
TZOFFSETTO:+0200
TZNAME:CEST
DTSTART:20230326T010000
END:DAYLIGHT
BEGIN:STANDARD
TZOFFSETFROM:+0200
TZOFFSETTO:+0100
TZNAME:CET
DTSTART:20231029T010000
END:STANDARD
BEGIN:DAYLIGHT
TZOFFSETFROM:+0100
TZOFFSETTO:+0200
TZNAME:CEST
DTSTART:20240331T010000
END:DAYLIGHT
BEGIN:STANDARD
TZOFFSETFROM:+0200
TZOFFSETTO:+0100
TZNAME:CET
DTSTART:20241027T010000
END:STANDARD
BEGIN:DAYLIGHT
TZOFFSETFROM:+0100
TZOFFSETTO:+0200
TZNAME:CEST
DTSTART:20250330T010000
END:DAYLIGHT
BEGIN:STANDARD
TZOFFSETFROM:+0200
TZOFFSETTO:+0100
TZNAME:CET
DTSTART:20251026T010000
END:STANDARD
END:VTIMEZONE
BEGIN:VEVENT
DTSTART;TZID=Europe/Andorra:20240601T180000
DTEND;TZID=Europe/Andorra:20240601T203000
DTSTAMP:20260423T044019
CREATED:20240430T142508Z
LAST-MODIFIED:20240527T083703Z
UID:18913-1717264800-1717273800@ateneuharmonia.cat
SUMMARY:Teatre “La Nona” amb Garbuix Teatre
DESCRIPTION:La Companyia Garbuix Teatre\, ens presenta una tarda de teatre amb: \nSARABI (micro-relat):\nLa mar va i ve aliena a tot el que succeeix. La mar porta i porta la mort.\nD’Irene Herrero \nLa NONA (obra principal):\nAdaptació d’una tragicomèdia\, on el personatge símbol d’una societat\, ho devora tot\, deixant al seu pas la desolació.\nDe Roberto Cossa (Adaptació de GArbuix Teatre)
URL:https://ateneuharmonia.cat/esdeveniments/teatre-la-nona-amb-garbuix-teatre-2/
LOCATION:Ateneu L’Harmonia\, Carrer de Sant Adrià\, 20 (Fabra i Coats) \, Barcelona\, Catalunya\, 08030\, Espanya
CATEGORIES:Arts escèniques
ATTACH;FMTTYPE=image/jpeg:https://ateneuharmonia.cat/wp-content/uploads/2024/04/Ateneu_Harmonia_teatre_maig.jpg
END:VEVENT
BEGIN:VEVENT
DTSTART;TZID=Europe/Andorra:20240604T190000
DTEND;TZID=Europe/Andorra:20240604T210000
DTSTAMP:20260423T044019
CREATED:20240430T134835Z
LAST-MODIFIED:20240521T132614Z
UID:18909-1717527600-1717534800@ateneuharmonia.cat
SUMMARY:Presentació de "Breus Sant Andreu"
DESCRIPTION:Per segon any consecutiu\, aquest mes de juliol podrem gaudir del Breus Sant Andreu\, que neix amb la voluntat d’impulsar la creació escènica entre dramaturgs novells mitjançant un concurs de textos breus de teatre. \nD’aquest concurs sortiran seleccionades quatre obres que es portaran a escena el mes de juliol de la mà de companyies de teatre amateur de Sant Andreu de Palomar en un marc incomparable: l’antiga fàbrica tèxtil Fabra i Coats. \nDimarts 4 de juny podrem conèixer els 4 textos seleccionats!\n \n 
URL:https://ateneuharmonia.cat/esdeveniments/presentacio-de-breus-sant-andreu/
LOCATION:Ateneu L’Harmonia\, Carrer de Sant Adrià\, 20 (Fabra i Coats) \, Barcelona\, Catalunya\, 08030\, Espanya
CATEGORIES:Arts escèniques
ATTACH;FMTTYPE=image/jpeg:https://ateneuharmonia.cat/wp-content/uploads/2024/04/Ateneu_Harmonia_Breus_Sant_Andreu_02_maig.jpg
END:VEVENT
BEGIN:VEVENT
DTSTART;TZID=Europe/Andorra:20240613T190000
DTEND;TZID=Europe/Andorra:20240613T210000
DTSTAMP:20260423T044019
CREATED:20240527T140147Z
LAST-MODIFIED:20240528T113853Z
UID:19023-1718305200-1718312400@ateneuharmonia.cat
SUMMARY:Inusual show
DESCRIPTION:L’Inusual show és un espectacle de diversitat. Vuit artistes de diferents disciplines\, professionals i amateurs compartint escenari.\nDrag Queen Show\, equlibristes\, erotic Show\, música\, stand up comedy\, microteatre…  \nTrash Puppet \nMartin bit and Friends \nBlue Farbalans \nCia. Fusion Art \nAreola d’ Lier \nLes Jazz Toy Funny Nights \nLa Lunar Teatro \n  \nTot l’art en un ambient desenfadat\, proper i familiar! \n 
URL:https://ateneuharmonia.cat/esdeveniments/inusual-show/
LOCATION:Ateneu L’Harmonia\, Carrer de Sant Adrià\, 20 (Fabra i Coats) \, Barcelona\, Catalunya\, 08030\, Espanya
CATEGORIES:Arts escèniques
ATTACH;FMTTYPE=image/jpeg:https://ateneuharmonia.cat/wp-content/uploads/2024/05/Ateneu_Harmonia_inusual_show_juny.jpg
END:VEVENT
END:VCALENDAR