BEGIN:VCALENDAR
VERSION:2.0
PRODID:-//Ateneu L&#039;Harmonia - ECPv6.15.20//NONSGML v1.0//EN
CALSCALE:GREGORIAN
METHOD:PUBLISH
X-WR-CALNAME:Ateneu L&#039;Harmonia
X-ORIGINAL-URL:https://ateneuharmonia.cat
X-WR-CALDESC:Esdeveniments per Ateneu L&#039;Harmonia
REFRESH-INTERVAL;VALUE=DURATION:PT1H
X-Robots-Tag:noindex
X-PUBLISHED-TTL:PT1H
BEGIN:VTIMEZONE
TZID:Europe/Andorra
BEGIN:DAYLIGHT
TZOFFSETFROM:+0100
TZOFFSETTO:+0200
TZNAME:CEST
DTSTART:20240331T010000
END:DAYLIGHT
BEGIN:STANDARD
TZOFFSETFROM:+0200
TZOFFSETTO:+0100
TZNAME:CET
DTSTART:20241027T010000
END:STANDARD
BEGIN:DAYLIGHT
TZOFFSETFROM:+0100
TZOFFSETTO:+0200
TZNAME:CEST
DTSTART:20250330T010000
END:DAYLIGHT
BEGIN:STANDARD
TZOFFSETFROM:+0200
TZOFFSETTO:+0100
TZNAME:CET
DTSTART:20251026T010000
END:STANDARD
BEGIN:DAYLIGHT
TZOFFSETFROM:+0100
TZOFFSETTO:+0200
TZNAME:CEST
DTSTART:20260329T010000
END:DAYLIGHT
BEGIN:STANDARD
TZOFFSETFROM:+0200
TZOFFSETTO:+0100
TZNAME:CET
DTSTART:20261025T010000
END:STANDARD
END:VTIMEZONE
BEGIN:VEVENT
DTSTART;TZID=Europe/Andorra:20250118T190000
DTEND;TZID=Europe/Andorra:20250118T203000
DTSTAMP:20260422T105951
CREATED:20241231T093823Z
LAST-MODIFIED:20250113T120123Z
UID:20624-1737226800-1737232200@ateneuharmonia.cat
SUMMARY:Espectacle de dansa amb Norimbra
DESCRIPTION:Norimbra és un grup de dansa integrat per cinc dones\, dirigit per Norma Ros\, coreògrafa i ballarina que ha format part\, entre d’altres\, de la companyia Els Comediants. \nDruant l’any 2024 ha estat participant de la residència artística 08030 de l’Ateneu i ara ens presentaran la seva creació.\n \n— \nEssentisència\n“Un viatge pels sentits a través de la dansa” \nQuin poder té una mirada? Fins a on ens pot transportar una olor? Quines emocions ens evoca una melodia? I si\, per una estona\, ens posem al servei dels sentits? \nVine a viure un experiència sensorial de la mà de la companyia Norimbra. \n“Tot allò que pot ser conegut comença amb els sentits”
URL:https://ateneuharmonia.cat/esdeveniments/actuacio-de-dansa-amb-norimbra/
LOCATION:Ateneu L’Harmonia\, Carrer de Sant Adrià\, 20 (Fabra i Coats) \, Barcelona\, Catalunya\, 08030\, Espanya
CATEGORIES:Arts escèniques
ATTACH;FMTTYPE=image/jpeg:https://ateneuharmonia.cat/wp-content/uploads/2024/12/Ateneu_Harmonia_Norimbra.jpg
END:VEVENT
END:VCALENDAR