BEGIN:VCALENDAR
VERSION:2.0
PRODID:-//Ateneu L&#039;Harmonia - ECPv6.15.20//NONSGML v1.0//EN
CALSCALE:GREGORIAN
METHOD:PUBLISH
X-WR-CALNAME:Ateneu L&#039;Harmonia
X-ORIGINAL-URL:https://ateneuharmonia.cat
X-WR-CALDESC:Esdeveniments per Ateneu L&#039;Harmonia
REFRESH-INTERVAL;VALUE=DURATION:PT1H
X-Robots-Tag:noindex
X-PUBLISHED-TTL:PT1H
BEGIN:VTIMEZONE
TZID:Europe/Andorra
BEGIN:DAYLIGHT
TZOFFSETFROM:+0100
TZOFFSETTO:+0200
TZNAME:CEST
DTSTART:20140330T010000
END:DAYLIGHT
BEGIN:STANDARD
TZOFFSETFROM:+0200
TZOFFSETTO:+0100
TZNAME:CET
DTSTART:20141026T010000
END:STANDARD
BEGIN:DAYLIGHT
TZOFFSETFROM:+0100
TZOFFSETTO:+0200
TZNAME:CEST
DTSTART:20150329T010000
END:DAYLIGHT
BEGIN:STANDARD
TZOFFSETFROM:+0200
TZOFFSETTO:+0100
TZNAME:CET
DTSTART:20151025T010000
END:STANDARD
BEGIN:DAYLIGHT
TZOFFSETFROM:+0100
TZOFFSETTO:+0200
TZNAME:CEST
DTSTART:20160327T010000
END:DAYLIGHT
BEGIN:STANDARD
TZOFFSETFROM:+0200
TZOFFSETTO:+0100
TZNAME:CET
DTSTART:20161030T010000
END:STANDARD
END:VTIMEZONE
BEGIN:VTIMEZONE
TZID:Europe/Helsinki
BEGIN:DAYLIGHT
TZOFFSETFROM:+0200
TZOFFSETTO:+0300
TZNAME:EEST
DTSTART:20140330T010000
END:DAYLIGHT
BEGIN:STANDARD
TZOFFSETFROM:+0300
TZOFFSETTO:+0200
TZNAME:EET
DTSTART:20141026T010000
END:STANDARD
BEGIN:DAYLIGHT
TZOFFSETFROM:+0200
TZOFFSETTO:+0300
TZNAME:EEST
DTSTART:20150329T010000
END:DAYLIGHT
BEGIN:STANDARD
TZOFFSETFROM:+0300
TZOFFSETTO:+0200
TZNAME:EET
DTSTART:20151025T010000
END:STANDARD
BEGIN:DAYLIGHT
TZOFFSETFROM:+0200
TZOFFSETTO:+0300
TZNAME:EEST
DTSTART:20160327T010000
END:DAYLIGHT
BEGIN:STANDARD
TZOFFSETFROM:+0300
TZOFFSETTO:+0200
TZNAME:EET
DTSTART:20161030T010000
END:STANDARD
END:VTIMEZONE
BEGIN:VEVENT
DTSTART;TZID=Europe/Andorra:20151102T100000
DTEND;TZID=Europe/Andorra:20151109T220000
DTSTAMP:20260424T151335
CREATED:20160713T091539Z
LAST-MODIFIED:20160713T091539Z
UID:2041-1446458400-1447106400@ateneuharmonia.cat
SUMMARY:Envellir? I tant!
DESCRIPTION:Exposició fotogràfica emmarcada en el projecte d’acció comunitària Radars per a la gent gran.\nLes fotografies\, realitzades per la fotoperiodista Ana Ramos i seleccionades a partir d’un procés participatiu\, mostren persones grans de Sant Andreu. \nOrganitza: Projecte Radars
URL:https://ateneuharmonia.cat/esdeveniments/envellir-i-tant/
LOCATION:Catalunya
CATEGORIES:Exposicions
ATTACH;FMTTYPE=image/jpeg:https://ateneuharmonia.cat/wp-content/uploads/2016/07/ateneu_harmonia_sant_andreu_EnvellirRadars.jpg
END:VEVENT
BEGIN:VEVENT
DTSTART;TZID=Europe/Andorra:20151109T100000
DTEND;TZID=Europe/Andorra:20151122T220000
DTSTAMP:20260424T151335
CREATED:20160713T092350Z
LAST-MODIFIED:20160713T100518Z
UID:2044-1447063200-1448229600@ateneuharmonia.cat
SUMMARY:Exposició de Cartells de Pal·las Atenea
DESCRIPTION:L’Associació de dones commemora els darrers 10 anys del grup amb una exposició dels cartells amb els que han anat difonent els seus actes i activitats. \nOrganitza: Associació de Dones Pal·las Atenea
URL:https://ateneuharmonia.cat/esdeveniments/exposicio-de-cartells-de-pal%c2%b7las-atenea/
LOCATION:Catalunya
CATEGORIES:Exposicions
ATTACH;FMTTYPE=image/jpeg:https://ateneuharmonia.cat/wp-content/uploads/2016/07/ateneu_harmonia_sant_andreu_ExpoCartells_PallasAtenea.jpg
END:VEVENT
BEGIN:VEVENT
DTSTART;TZID=Europe/Helsinki:20151118T180000
DTEND;TZID=Europe/Helsinki:20151118T180000
DTSTAMP:20260424T151335
CREATED:20151022T105835Z
LAST-MODIFIED:20151109T224007Z
UID:41-1447869600-1447869600@ateneuharmonia.cat
SUMMARY:Mujeres grabando resistencias
DESCRIPTION:L’exposició ‘Mujeres Grabando Resistencias’ forma part de la campanya #VivasNosQueremos\, que a partir de la creació de gràfiques amb missatges clars i entenedors ha intervingut de manera creativa i col·lectiva als carrers de Mèxic i altres països Llatinoamericans i d’Europa en contra de la violència cap a les dones\, els feminicidis i pel dret de les dones a l’autodefensa. \nOrganitza: Festes Feministes de Sant Andreu i Ateneu L’Harmonia \n 
URL:https://ateneuharmonia.cat/esdeveniments/mujeres-grabando-resistencias/
LOCATION:Ateneu L’Harmonia\, Carrer de Sant Adrià\, 20 (Fabra i Coats) \, Barcelona\, Catalunya\, 08030\, Espanya
CATEGORIES:Exposicions
ATTACH;FMTTYPE=image/png:https://ateneuharmonia.cat/wp-content/uploads/2015/10/ateneu_harmonia_sant_andreu_Vivas.png
END:VEVENT
BEGIN:VEVENT
DTSTART;TZID=Europe/Helsinki:20151126T213000
DTEND;TZID=Europe/Helsinki:20151126T213000
DTSTAMP:20260424T151335
CREATED:20151105T205133Z
LAST-MODIFIED:20151215T154650Z
UID:247-1448573400-1448573400@ateneuharmonia.cat
SUMMARY:Stencils\, de Roc BlackBlock
DESCRIPTION:Roc BlackBlock és il·lustrador i tatuador. Les seves obres es poden veure a les parets d’espais emblemàtics dels moviments socials com la Kasa de la Muntanya\, Can Vies o l’Ateneu 9 Barris. Per primera vegada exposarà la seva obra en un recinte tancat\, reivindicant l’art del carrer en una sala d’exposicions.\n \n \nDurant la inauguració\, dijous 26 de novembre a les 21:30h\, hi haurà live painting a càrrec del propi Roc i música en directe amb The Rigodonians. L’exposició es podrà visitar fins el proper 15 de desembre.
URL:https://ateneuharmonia.cat/esdeveniments/stencils-de-roc-blackblock/
LOCATION:Ateneu L’Harmonia\, Carrer de Sant Adrià\, 20 (Fabra i Coats) \, Barcelona\, Catalunya\, 08030\, Espanya
CATEGORIES:Exposicions,Música
ATTACH;FMTTYPE=image/jpeg:https://ateneuharmonia.cat/wp-content/uploads/2015/11/ateneu_harmonia_sant_andreu__Stencils.jpg
END:VEVENT
BEGIN:VEVENT
DTSTART;TZID=Europe/Helsinki:20151130T193000
DTEND;TZID=Europe/Helsinki:20151130T193000
DTSTAMP:20260424T151335
CREATED:20151105T205925Z
LAST-MODIFIED:20151215T154920Z
UID:252-1448911800-1448911800@ateneuharmonia.cat
SUMMARY:Positivats f/24
DESCRIPTION:Els i les alumnes del grup f24 del taller de fotografia digital de L’Harmonia ens plau convidar-vos a viatjar a través dels nostres ulls (i també a través de les nostres orelles i imaginació!). \nA l’exposició Positivats f/24 trobareu fotografies amb 3 temàtiques diferents: fotografies creades a partir del que ens ha inspirat una cançó\, retrats i altres fotografies de tema lliure. \nSón fotografies de 14 fotògrafs\, però amb 50 mil formes de positivar la vida. \nEsperem que en gaudiu tant com hem gaudit nosaltres darrera la càmera! \nL’exposició es podrà visitar entre el 30 de novembre i el 15 de desembre. \n[Fotografia: Cristina Chico]
URL:https://ateneuharmonia.cat/esdeveniments/positivats-f24/
LOCATION:Ateneu L’Harmonia\, Carrer de Sant Adrià\, 20 (Fabra i Coats) \, Barcelona\, Catalunya\, 08030\, Espanya
CATEGORIES:Exposicions
ATTACH;FMTTYPE=image/png:https://ateneuharmonia.cat/wp-content/uploads/2015/11/ateneu_harmonia_sant_andreu_Positivats.png
END:VEVENT
END:VCALENDAR