BEGIN:VCALENDAR
VERSION:2.0
PRODID:-//Ateneu L&#039;Harmonia - ECPv6.15.20//NONSGML v1.0//EN
CALSCALE:GREGORIAN
METHOD:PUBLISH
X-ORIGINAL-URL:https://ateneuharmonia.cat
X-WR-CALDESC:Esdeveniments per Ateneu L&#039;Harmonia
REFRESH-INTERVAL;VALUE=DURATION:PT1H
X-Robots-Tag:noindex
X-PUBLISHED-TTL:PT1H
BEGIN:VTIMEZONE
TZID:Europe/Helsinki
BEGIN:DAYLIGHT
TZOFFSETFROM:+0200
TZOFFSETTO:+0300
TZNAME:EEST
DTSTART:20150329T010000
END:DAYLIGHT
BEGIN:STANDARD
TZOFFSETFROM:+0300
TZOFFSETTO:+0200
TZNAME:EET
DTSTART:20151025T010000
END:STANDARD
BEGIN:DAYLIGHT
TZOFFSETFROM:+0200
TZOFFSETTO:+0300
TZNAME:EEST
DTSTART:20160327T010000
END:DAYLIGHT
BEGIN:STANDARD
TZOFFSETFROM:+0300
TZOFFSETTO:+0200
TZNAME:EET
DTSTART:20161030T010000
END:STANDARD
BEGIN:DAYLIGHT
TZOFFSETFROM:+0200
TZOFFSETTO:+0300
TZNAME:EEST
DTSTART:20170326T010000
END:DAYLIGHT
BEGIN:STANDARD
TZOFFSETFROM:+0300
TZOFFSETTO:+0200
TZNAME:EET
DTSTART:20171029T010000
END:STANDARD
END:VTIMEZONE
BEGIN:VEVENT
DTSTART;TZID=Europe/Helsinki:20160108T200000
DTEND;TZID=Europe/Helsinki:20160130T200000
DTSTAMP:20260424T105924
CREATED:20151217T121058Z
LAST-MODIFIED:20160111T113305Z
UID:1130-1452283200-1454184000@ateneuharmonia.cat
SUMMARY:Perspectiva fictícia
DESCRIPTION:Exposició fotogràfica i literària a càrrec d’Anna Falgar. A partir d’imatges i paraules\, i des de diferents punts de vista\, es crea un personatge que desdibuixa la línia entre el que és real i el que és fictici. \n  \nTotes les persones participants van rebre una càmera d’un sol ús amb la premissa: mostrar el seu món a través de la fotografia. Hi havia imatges velades\, altres disparades sense consciencia. No tenien el control actual que dona el món digital. Elles miraven i després la sorpresa feia la resta. Unes més poètiques\, d’altres més arquitectòniques\, totes elles sorprenents. \nL’Anna Falgar va fotografiar a totes les persones que formen part d’aquesta exposició\, són elles les que han deixat una part seva en cada imatge. No saben quines fotos s’ha triat\, ni quina ha inspirat el text que les acompanya. Diverses autores acompanyen amb paraules i des de la seva pròpia visió el món dels altres. \nLa meva veritat no és la teva i totes dues són vàlides. \nAndrea Montero \n  \nDiuen que una persona és feliç quan de manera habitual se sent amb l’ànim plenament satisfet. Però poques vegades felicitat i habitud van agafades de la mà i ens hem de resignar a poder gaudir-ne de manera esporàdica. I potser per això\, perquè sabem que la felicitat ve i se’n va\, que encara l’anhelem amb més força. Un d’aquests moments d’efímera però intensa felicitat esdevé quan després d’un llampec de desventura\, arribem a casa\, i en obrir la porta ens trobem l’esguard tendre de qui ja fa dies que ens espera. \nMar Ripoll
URL:https://ateneuharmonia.cat/esdeveniments/perspectiva-ficticia/
LOCATION:Catalunya
CATEGORIES:Exposicions
ATTACH;FMTTYPE=image/jpeg:https://ateneuharmonia.cat/wp-content/uploads/2015/12/ateneu_harmonia_sant_andreu_expo_perspectives.jpg
END:VEVENT
BEGIN:VEVENT
DTSTART;TZID=Europe/Helsinki:20160115T180000
DTEND;TZID=Europe/Helsinki:20160115T180000
DTSTAMP:20260424T105925
CREATED:20151231T134210Z
LAST-MODIFIED:20151231T135433Z
UID:1179-1452880800-1452880800@ateneuharmonia.cat
SUMMARY:Una fabrica d’autobusos a Barcelona?
DESCRIPTION:Exposició fotogràfica dels autobusos que es construïen a Barcelona per tot el país.\nOrganitza: Associació d’Estudis Històrics d’Automoció – AEHA
URL:https://ateneuharmonia.cat/esdeveniments/una-fabrica-dautobusos-a-barcelona/
LOCATION:Catalunya
CATEGORIES:Exposicions
ATTACH;FMTTYPE=image/jpeg:https://ateneuharmonia.cat/wp-content/uploads/2015/12/atenu_harmonia_sant_andreu_Autobusos.jpg
END:VEVENT
END:VCALENDAR