BEGIN:VCALENDAR
VERSION:2.0
PRODID:-//Ateneu L&#039;Harmonia - ECPv6.15.20//NONSGML v1.0//EN
CALSCALE:GREGORIAN
METHOD:PUBLISH
X-ORIGINAL-URL:https://ateneuharmonia.cat
X-WR-CALDESC:Esdeveniments per Ateneu L&#039;Harmonia
REFRESH-INTERVAL;VALUE=DURATION:PT1H
X-Robots-Tag:noindex
X-PUBLISHED-TTL:PT1H
BEGIN:VTIMEZONE
TZID:Europe/Paris
BEGIN:DAYLIGHT
TZOFFSETFROM:+0100
TZOFFSETTO:+0200
TZNAME:CEST
DTSTART:20150329T010000
END:DAYLIGHT
BEGIN:STANDARD
TZOFFSETFROM:+0200
TZOFFSETTO:+0100
TZNAME:CET
DTSTART:20151025T010000
END:STANDARD
BEGIN:DAYLIGHT
TZOFFSETFROM:+0100
TZOFFSETTO:+0200
TZNAME:CEST
DTSTART:20160327T010000
END:DAYLIGHT
BEGIN:STANDARD
TZOFFSETFROM:+0200
TZOFFSETTO:+0100
TZNAME:CET
DTSTART:20161030T010000
END:STANDARD
BEGIN:DAYLIGHT
TZOFFSETFROM:+0100
TZOFFSETTO:+0200
TZNAME:CEST
DTSTART:20170326T010000
END:DAYLIGHT
BEGIN:STANDARD
TZOFFSETFROM:+0200
TZOFFSETTO:+0100
TZNAME:CET
DTSTART:20171029T010000
END:STANDARD
END:VTIMEZONE
BEGIN:VTIMEZONE
TZID:Europe/Helsinki
BEGIN:DAYLIGHT
TZOFFSETFROM:+0200
TZOFFSETTO:+0300
TZNAME:EEST
DTSTART:20150329T010000
END:DAYLIGHT
BEGIN:STANDARD
TZOFFSETFROM:+0300
TZOFFSETTO:+0200
TZNAME:EET
DTSTART:20151025T010000
END:STANDARD
BEGIN:DAYLIGHT
TZOFFSETFROM:+0200
TZOFFSETTO:+0300
TZNAME:EEST
DTSTART:20160327T010000
END:DAYLIGHT
BEGIN:STANDARD
TZOFFSETFROM:+0300
TZOFFSETTO:+0200
TZNAME:EET
DTSTART:20161030T010000
END:STANDARD
BEGIN:DAYLIGHT
TZOFFSETFROM:+0200
TZOFFSETTO:+0300
TZNAME:EEST
DTSTART:20170326T010000
END:DAYLIGHT
BEGIN:STANDARD
TZOFFSETFROM:+0300
TZOFFSETTO:+0200
TZNAME:EET
DTSTART:20171029T010000
END:STANDARD
END:VTIMEZONE
BEGIN:VEVENT
DTSTART;TZID=Europe/Paris:20160202T170000
DTEND;TZID=Europe/Paris:20160202T190000
DTSTAMP:20260424T091840
CREATED:20160116T191408Z
LAST-MODIFIED:20160201T125113Z
UID:1238-1454432400-1454439600@ateneuharmonia.cat
SUMMARY:L’AREP al llarg del temps
DESCRIPTION:Un retrat de l’evolució de l’associació AREP\, relacionada amb fites de la història de la humanitat. L’exposició realitza un recorregut històric a través de la fotografia des del naixement de l’entitat fins al dia d’avui\, destacant alguns dels seus moments més importants i sense oblidar què estava passant tant en el seu context més immediat com en el més llunyà.\nOrganitza: Associació per a la rehabilitació de les persones amb malaltia mental – AREP  \n\n\n 
URL:https://ateneuharmonia.cat/esdeveniments/larep-al-llarg-del-temps/
LOCATION:Catalunya
CATEGORIES:Exposicions
ATTACH;FMTTYPE=image/jpeg:https://ateneuharmonia.cat/wp-content/uploads/2016/01/ateneu_harmonia_sant_andreu_ExpoAREP.jpg
END:VEVENT
BEGIN:VEVENT
DTSTART;TZID=Europe/Helsinki:20160215T190000
DTEND;TZID=Europe/Helsinki:20160229T190000
DTSTAMP:20260424T091840
CREATED:20160116T215647Z
LAST-MODIFIED:20160219T121942Z
UID:1264-1455562800-1456772400@ateneuharmonia.cat
SUMMARY:Leonard Peltier
DESCRIPTION:El Comitè de Solidaritat amb Leonard Peltier organitza una exposició de reproduccions de l’obra pictòrica de Leonard Peltier\, un dels símbols per excel·lència de la resistència dels nadius nord-americans. \nLa inauguració de l’exposició anirà acompanyada de la projecció d’un documental sobre la seva persona i el seu cas\, així com pel directe de Juanito Piquete. \nBajo el Foco by Juanito Piquete \nLeonard Peltier (Turtle Mountain\, 1944) és un activista sioux-chippewa membre de l’American Indian Movement i presoner polític dels Estats Units d’Amèrica des de 1976. EL 26 de juny del 1975 se l’acusà de la mort de dos agents del FBI i fugí al Canadà\, d’on fou extradit desembre 1976. Condemnat a dues cadenes perpètues\, s’ha demanat sis cops la revisió del judici. El seu delicat estat de salut\, afegit a la seva edat avançada\, s’ha vist agreujat per una greu dolència que necessita d’una intervenció quirúrgica i de tot el nostre suport. \nOrganitza: Comitè de Solidaritat amb Leonard Peltier i Ateneu L’Harmonia
URL:https://ateneuharmonia.cat/esdeveniments/leonard-peltier/
LOCATION:Catalunya
CATEGORIES:Exposicions
ATTACH;FMTTYPE=image/jpeg:https://ateneuharmonia.cat/wp-content/uploads/2016/01/ateneu_harmonia_sant_andreu_LeonardPeltier1.jpg
END:VEVENT
END:VCALENDAR