BEGIN:VCALENDAR
VERSION:2.0
PRODID:-//Ateneu L&#039;Harmonia - ECPv6.15.20//NONSGML v1.0//EN
CALSCALE:GREGORIAN
METHOD:PUBLISH
X-WR-CALNAME:Ateneu L&#039;Harmonia
X-ORIGINAL-URL:https://ateneuharmonia.cat
X-WR-CALDESC:Esdeveniments per Ateneu L&#039;Harmonia
REFRESH-INTERVAL;VALUE=DURATION:PT1H
X-Robots-Tag:noindex
X-PUBLISHED-TTL:PT1H
BEGIN:VTIMEZONE
TZID:Europe/Andorra
BEGIN:DAYLIGHT
TZOFFSETFROM:+0100
TZOFFSETTO:+0200
TZNAME:CEST
DTSTART:20150329T010000
END:DAYLIGHT
BEGIN:STANDARD
TZOFFSETFROM:+0200
TZOFFSETTO:+0100
TZNAME:CET
DTSTART:20151025T010000
END:STANDARD
BEGIN:DAYLIGHT
TZOFFSETFROM:+0100
TZOFFSETTO:+0200
TZNAME:CEST
DTSTART:20160327T010000
END:DAYLIGHT
BEGIN:STANDARD
TZOFFSETFROM:+0200
TZOFFSETTO:+0100
TZNAME:CET
DTSTART:20161030T010000
END:STANDARD
BEGIN:DAYLIGHT
TZOFFSETFROM:+0100
TZOFFSETTO:+0200
TZNAME:CEST
DTSTART:20170326T010000
END:DAYLIGHT
BEGIN:STANDARD
TZOFFSETFROM:+0200
TZOFFSETTO:+0100
TZNAME:CET
DTSTART:20171029T010000
END:STANDARD
END:VTIMEZONE
BEGIN:VEVENT
DTSTART;TZID=Europe/Andorra:20160301T190000
DTEND;TZID=Europe/Andorra:20160315T220000
DTSTAMP:20260424T075712
CREATED:20160219T121739Z
LAST-MODIFIED:20160302T164041Z
UID:1345-1456858800-1458079200@ateneuharmonia.cat
SUMMARY:Bienvenido a nadie a mi jardin extinto - Andreu Latorre
DESCRIPTION:Exposició de pintures en homenatge a Andreu Latorre (1976-2015)\, pintor i artista multimèdia de Sant Andreu. L’1 de març\, es farà la presentació de l’exposició i del llibre “Orgull”\, en record de l’artista i de totes aquelles persones que van ser al seu costat durant la seva lluita contra el càncer. \nL’exposició es podrà visitar entre l’1 i el 15 de març.
URL:https://ateneuharmonia.cat/esdeveniments/andreu-latorre-inauguracio-amb-presentacio-del-llibre-orgull-i-videoart/
LOCATION:Catalunya
CATEGORIES:Exposicions
ATTACH;FMTTYPE=image/jpeg:https://ateneuharmonia.cat/wp-content/uploads/2016/02/ateneu_harmonia_sant_andreu_AndreuLatorre.jpg
END:VEVENT
BEGIN:VEVENT
DTSTART;TZID=Europe/Andorra:20160314T200000
DTEND;TZID=Europe/Andorra:20160314T210000
DTSTAMP:20260424T075712
CREATED:20160308T124052Z
LAST-MODIFIED:20160308T143753Z
UID:1585-1457985600-1457989200@ateneuharmonia.cat
SUMMARY:Mediterrani\, un poble i nou mirades. Llums i Colors de l'F/26
DESCRIPTION:El grup F/26 del taller de Fotografia de Ateneu L´Harmonia us convida a gaudir de l’exposició fotogràfica Mediterani\, un poble i nou mirades. \nTres gèneres definits. El primer com a element principal: el retrat i l’expressió. El segon pren com a base la cançó Mediterraneo de Joan Manel Serrat. Finalment\, 9 postals úniques i personals de Sant Andreu Del Palomar.
URL:https://ateneuharmonia.cat/esdeveniments/mediterrani-un-poble-i-nou-mirades-llums-i-colors-de-lf26/
LOCATION:Catalunya
CATEGORIES:Exposicions
ATTACH;FMTTYPE=image/jpeg:https://ateneuharmonia.cat/wp-content/uploads/2016/03/ateneu_harmonia_sant_andreu_Expof26AlumenesFoto.jpg
END:VEVENT
BEGIN:VEVENT
DTSTART;TZID=Europe/Andorra:20160315T100000
DTEND;TZID=Europe/Andorra:20160331T220000
DTSTAMP:20260424T075712
CREATED:20160310T115911Z
LAST-MODIFIED:20160310T115911Z
UID:1588-1458036000-1459461600@ateneuharmonia.cat
SUMMARY:150è aniversari de la Casa Asil de Sant Andreu
DESCRIPTION:L’exposició vol ser un viatge visual i documental que expliqui la història de la Fundació i la seva relació amb Sant Andreu de Palomar. La mostra recollirà fotografies\, plànols\, objectes i documentació\, tant de l’arxiu de la Casa Asil com d’antics alumnes i de persones vinculades a la casa. També pretén ser un homenatge a totes les dones i homes que al llarg d’aquests 150 anys\, de manera generosa i entranyable\, han contribuït a fer de la Casa Asil el que és avui i vol esdevenir en el futur. \n[Fotografia: Joan Puig. Antiga façana de la Casa Asil]
URL:https://ateneuharmonia.cat/esdeveniments/150e-aniversari-de-la-casa-asil-de-sant-andreu/
LOCATION:Catalunya
CATEGORIES:Exposicions
ATTACH;FMTTYPE=image/jpeg:https://ateneuharmonia.cat/wp-content/uploads/2016/03/ateneu_harmonia_sant_andreu_ExpoCasaAsil.jpg
END:VEVENT
END:VCALENDAR