BEGIN:VCALENDAR
VERSION:2.0
PRODID:-//Ateneu L&#039;Harmonia - ECPv6.15.20//NONSGML v1.0//EN
CALSCALE:GREGORIAN
METHOD:PUBLISH
X-WR-CALNAME:Ateneu L&#039;Harmonia
X-ORIGINAL-URL:https://ateneuharmonia.cat
X-WR-CALDESC:Esdeveniments per Ateneu L&#039;Harmonia
REFRESH-INTERVAL;VALUE=DURATION:PT1H
X-Robots-Tag:noindex
X-PUBLISHED-TTL:PT1H
BEGIN:VTIMEZONE
TZID:Europe/Andorra
BEGIN:DAYLIGHT
TZOFFSETFROM:+0100
TZOFFSETTO:+0200
TZNAME:CEST
DTSTART:20150329T010000
END:DAYLIGHT
BEGIN:STANDARD
TZOFFSETFROM:+0200
TZOFFSETTO:+0100
TZNAME:CET
DTSTART:20151025T010000
END:STANDARD
BEGIN:DAYLIGHT
TZOFFSETFROM:+0100
TZOFFSETTO:+0200
TZNAME:CEST
DTSTART:20160327T010000
END:DAYLIGHT
BEGIN:STANDARD
TZOFFSETFROM:+0200
TZOFFSETTO:+0100
TZNAME:CET
DTSTART:20161030T010000
END:STANDARD
BEGIN:DAYLIGHT
TZOFFSETFROM:+0100
TZOFFSETTO:+0200
TZNAME:CEST
DTSTART:20170326T010000
END:DAYLIGHT
BEGIN:STANDARD
TZOFFSETFROM:+0200
TZOFFSETTO:+0100
TZNAME:CET
DTSTART:20171029T010000
END:STANDARD
END:VTIMEZONE
BEGIN:VEVENT
DTSTART;TZID=Europe/Andorra:20160505T190000
DTEND;TZID=Europe/Andorra:20160505T210000
DTSTAMP:20260424T004513
CREATED:20160419T111003Z
LAST-MODIFIED:20160419T133555Z
UID:1734-1462474800-1462482000@ateneuharmonia.cat
SUMMARY:Expo: Cartells de concerts de Münster Estudio - serigrafia
DESCRIPTION:Münster és un petit estudi de disseny gràfic i il·lustració situat a Sant Andreu. L’estudi va començar a caminar el 2010 realitzant feines per associacions\, grups de música i promotors de concerts. Durant aquest temps comencen a serigrafiar els dissenys en el seu propi taller\, activitat que es convertirà en insígnia de l’estudi: la combinació de disseny gràfic amb tècniques d’impressió artesanals. \nDurant tot aquest temps l’estudi ha fet prop de 150 cartells per grups nacionals i internacionals com per exemple: Swans\, Fucked up\, Foster The People\, The Horrors\, Alkaline Trio\, The Tallest Man On Earth\, Mono\, Russian Circles\, Obits\, La Habitación Roja\, Supersubmarina\, Lost Tapes\, Picore\, Monserrat\, etc. A banda d’això també han realitzat un munt de portades de discs\, de llibres i il·lustracions.\nEl treball de l’estudi ha sigut ressenyat a la premsa\, ha aparegut en llibres i publicacions internacionals i ha sigut exposat a diferents països. \nLa inauguració serà el dia 5\, i hi haurà música i pica-pica.
URL:https://ateneuharmonia.cat/esdeveniments/cartells-de-concerts-de-munster-estudio-serigrafia/
LOCATION:Catalunya
CATEGORIES:Exposicions
ATTACH;FMTTYPE=image/jpeg:https://ateneuharmonia.cat/wp-content/uploads/2016/04/ateneu_harmonia_sant_andreu_Expo_CartellsConcerts_MünsterEstudio.jpg
END:VEVENT
BEGIN:VEVENT
DTSTART;TZID=Europe/Andorra:20160507T120000
DTEND;TZID=Europe/Andorra:20160507T140000
DTSTAMP:20260424T004513
CREATED:20160419T111753Z
LAST-MODIFIED:20160421T095305Z
UID:1735-1462622400-1462629600@ateneuharmonia.cat
SUMMARY:Expo: En Transit 2.0 d’Anna Sosa - Fotografia
DESCRIPTION:Durant un viatge de 6 mesos\, hores i hores de carretera\, hores i hores de veure el paisatge des del cotxe. Sempre en moviment. Amunt i avall. I des de la finestra del cotxe feia fotos amb el meu iPhone 5. Alhora\, rebia missatges de Whatsapp de l’Oriol Mula: “He començat una cançó”\, “He acabat una altra cançó”\, “Escolta aquest àudio. A veure què et sembla!” L’Oriol va posar banda sonora al meu paisatge en moviment.\nL’Oriol i jo ens vam conèixer en trànsit*. \nEn Trànsit 2.0 és una singular mirada al paisatge de Catalunya. Paisatge de pas. Fotografies realitzades amb un iPhone. \n*La cinquena accepció de trànsit al diccionari diu: “Moment crític\, del qual depèn un canvi radical o molt important”. \nLa inauguració tindrà música en directe del mateix Oriol Mula\, cantautor andreuenc.
URL:https://ateneuharmonia.cat/esdeveniments/en-transit-2-0-danna-sosa-fotografia/
LOCATION:Catalunya
CATEGORIES:Exposicions,Música
ATTACH;FMTTYPE=image/jpeg:https://ateneuharmonia.cat/wp-content/uploads/2016/04/ateneu_harmonia_sant_andreu_Transit2.0.jpg
END:VEVENT
BEGIN:VEVENT
DTSTART;TZID=Europe/Andorra:20160517T190000
DTEND;TZID=Europe/Andorra:20160517T210000
DTSTAMP:20260424T004513
CREATED:20160419T122143Z
LAST-MODIFIED:20160421T101446Z
UID:1747-1463511600-1463518800@ateneuharmonia.cat
SUMMARY:Eclosió d’Adrià Carbonell - Pintura
DESCRIPTION:Eclosió: acció d’aparèixer o manifestar-se.\nL’Ateneu acollirà la primera exposició de l’artista multi disciplinar i autodidacta\, Adrià Carbonell. Barceloní\, afincat entre el barri de Les Corts i L’Empordà\, presentarà una mostra dels seus primers treballs. Un total de 48 pintures i dibuixos\, entre l’art abstracte i el figuratiu. \nInuaguració amb música en directe.
URL:https://ateneuharmonia.cat/esdeveniments/eclosio-dadria-carbonell-pintura/
LOCATION:Catalunya
CATEGORIES:Exposicions
ATTACH;FMTTYPE=image/jpeg:https://ateneuharmonia.cat/wp-content/uploads/2016/04/ateneu_harmonia_sant_andreu_Expo_Eclosio.jpg
END:VEVENT
BEGIN:VEVENT
DTSTART;TZID=Europe/Andorra:20160530T120000
DTEND;TZID=Europe/Andorra:20160610T220000
DTSTAMP:20260424T004513
CREATED:20160531T103600Z
LAST-MODIFIED:20160531T103918Z
UID:1920-1464609600-1465596000@ateneuharmonia.cat
SUMMARY:Els infants mostren el seu sofriment
DESCRIPTION:Els dibuixos realitzats per dos germans al Camp d’Idomeni (Grècia)\, ens condueixen\, a través de la imatge\, a tot allò que un infant sent i pateix quan ha de sortir del seu país en guerra\, buscant el seu futur.\nVal la pena aturar-se davant de cada un d’ells per observar el desencant i la frustració que viuen.\nAra per ara la seva situació és igual de desesperada\, i segueixen esperant una solució que els hi doni Europa. \n 
URL:https://ateneuharmonia.cat/esdeveniments/els-infants-mostren-el-seu-sofriment/
LOCATION:Catalunya
CATEGORIES:Exposicions
ATTACH;FMTTYPE=image/jpeg:https://ateneuharmonia.cat/wp-content/uploads/2016/05/ateneu_harmonia_sant_andreu_ExpoDibuixosIdomeni.jpg
END:VEVENT
END:VCALENDAR