BEGIN:VCALENDAR
VERSION:2.0
PRODID:-//Ateneu L&#039;Harmonia - ECPv6.15.20//NONSGML v1.0//EN
CALSCALE:GREGORIAN
METHOD:PUBLISH
X-ORIGINAL-URL:https://ateneuharmonia.cat
X-WR-CALDESC:Esdeveniments per Ateneu L&#039;Harmonia
REFRESH-INTERVAL;VALUE=DURATION:PT1H
X-Robots-Tag:noindex
X-PUBLISHED-TTL:PT1H
BEGIN:VTIMEZONE
TZID:Europe/Andorra
BEGIN:DAYLIGHT
TZOFFSETFROM:+0100
TZOFFSETTO:+0200
TZNAME:CEST
DTSTART:20150329T010000
END:DAYLIGHT
BEGIN:STANDARD
TZOFFSETFROM:+0200
TZOFFSETTO:+0100
TZNAME:CET
DTSTART:20151025T010000
END:STANDARD
BEGIN:DAYLIGHT
TZOFFSETFROM:+0100
TZOFFSETTO:+0200
TZNAME:CEST
DTSTART:20160327T010000
END:DAYLIGHT
BEGIN:STANDARD
TZOFFSETFROM:+0200
TZOFFSETTO:+0100
TZNAME:CET
DTSTART:20161030T010000
END:STANDARD
BEGIN:DAYLIGHT
TZOFFSETFROM:+0100
TZOFFSETTO:+0200
TZNAME:CEST
DTSTART:20170326T010000
END:DAYLIGHT
BEGIN:STANDARD
TZOFFSETFROM:+0200
TZOFFSETTO:+0100
TZNAME:CET
DTSTART:20171029T010000
END:STANDARD
END:VTIMEZONE
BEGIN:VEVENT
DTSTART;TZID=Europe/Andorra:20160530T120000
DTEND;TZID=Europe/Andorra:20160610T220000
DTSTAMP:20260423T232223
CREATED:20160531T103600Z
LAST-MODIFIED:20160531T103918Z
UID:1920-1464609600-1465596000@ateneuharmonia.cat
SUMMARY:Els infants mostren el seu sofriment
DESCRIPTION:Els dibuixos realitzats per dos germans al Camp d’Idomeni (Grècia)\, ens condueixen\, a través de la imatge\, a tot allò que un infant sent i pateix quan ha de sortir del seu país en guerra\, buscant el seu futur.\nVal la pena aturar-se davant de cada un d’ells per observar el desencant i la frustració que viuen.\nAra per ara la seva situació és igual de desesperada\, i segueixen esperant una solució que els hi doni Europa. \n 
URL:https://ateneuharmonia.cat/esdeveniments/els-infants-mostren-el-seu-sofriment/
LOCATION:Catalunya
CATEGORIES:Exposicions
ATTACH;FMTTYPE=image/jpeg:https://ateneuharmonia.cat/wp-content/uploads/2016/05/ateneu_harmonia_sant_andreu_ExpoDibuixosIdomeni.jpg
END:VEVENT
BEGIN:VEVENT
DTSTART;TZID=Europe/Andorra:20160615T100000
DTEND;TZID=Europe/Andorra:20160630T220000
DTSTAMP:20260423T232223
CREATED:20160525T121817Z
LAST-MODIFIED:20160525T122215Z
UID:1877-1465984800-1467324000@ateneuharmonia.cat
SUMMARY:Exposició fotogràfica: “Retrats” de Pere G. Ejby
DESCRIPTION:“Retrats” és un petit resum dels 16 anys d’afició a la fotografia de Pere G. Ejby.\nAlgunes de les imatges són recents\, altres més allunyades en el temps. Juntes confeccionen un recull dels retrats mes especials per l’autor.\nCada foto és una història\, una intenció\, un moment viscut\, petits fragments de vida. Aquesta mostra busca la complicitat entre model i fotògraf\, i allò més important en la fotografia de retrat: la força d’una mirada.
URL:https://ateneuharmonia.cat/esdeveniments/exposicio-fotografica-retrats-de-pere-g-ejby/
LOCATION:Catalunya
CATEGORIES:Exposicions
ATTACH;FMTTYPE=image/jpeg:https://ateneuharmonia.cat/wp-content/uploads/2016/05/ateneu_harmonia_sant_andreu_ExpoRetrats.jpg
END:VEVENT
END:VCALENDAR