BEGIN:VCALENDAR
VERSION:2.0
PRODID:-//Ateneu L&#039;Harmonia - ECPv6.15.20//NONSGML v1.0//EN
CALSCALE:GREGORIAN
METHOD:PUBLISH
X-ORIGINAL-URL:https://ateneuharmonia.cat
X-WR-CALDESC:Esdeveniments per Ateneu L&#039;Harmonia
REFRESH-INTERVAL;VALUE=DURATION:PT1H
X-Robots-Tag:noindex
X-PUBLISHED-TTL:PT1H
BEGIN:VTIMEZONE
TZID:Europe/Andorra
BEGIN:DAYLIGHT
TZOFFSETFROM:+0100
TZOFFSETTO:+0200
TZNAME:CEST
DTSTART:20150329T010000
END:DAYLIGHT
BEGIN:STANDARD
TZOFFSETFROM:+0200
TZOFFSETTO:+0100
TZNAME:CET
DTSTART:20151025T010000
END:STANDARD
BEGIN:DAYLIGHT
TZOFFSETFROM:+0100
TZOFFSETTO:+0200
TZNAME:CEST
DTSTART:20160327T010000
END:DAYLIGHT
BEGIN:STANDARD
TZOFFSETFROM:+0200
TZOFFSETTO:+0100
TZNAME:CET
DTSTART:20161030T010000
END:STANDARD
BEGIN:DAYLIGHT
TZOFFSETFROM:+0100
TZOFFSETTO:+0200
TZNAME:CEST
DTSTART:20170326T010000
END:DAYLIGHT
BEGIN:STANDARD
TZOFFSETFROM:+0200
TZOFFSETTO:+0100
TZNAME:CET
DTSTART:20171029T010000
END:STANDARD
BEGIN:DAYLIGHT
TZOFFSETFROM:+0100
TZOFFSETTO:+0200
TZNAME:CEST
DTSTART:20180325T010000
END:DAYLIGHT
BEGIN:STANDARD
TZOFFSETFROM:+0200
TZOFFSETTO:+0100
TZNAME:CET
DTSTART:20181028T010000
END:STANDARD
END:VTIMEZONE
BEGIN:VEVENT
DTSTART;TZID=Europe/Andorra:20161215T080000
DTEND;TZID=Europe/Andorra:20170115T170000
DTSTAMP:20260423T024535
CREATED:20161221T095421Z
LAST-MODIFIED:20161221T095421Z
UID:2901-1481788800-1484499600@ateneuharmonia.cat
SUMMARY:Expo: Sense títol
DESCRIPTION:Exposició d’obres del Grup Pintors de Sant Andreu\nOrganitza: Grup Pintors de Sant Andreu
URL:https://ateneuharmonia.cat/esdeveniments/expo-sense-titol/
LOCATION:Catalunya
CATEGORIES:Exposicions
ATTACH;FMTTYPE=image/jpeg:https://ateneuharmonia.cat/wp-content/uploads/2016/12/ateneu_harmonia_sant_andreu_Expo_SenseTitol.jpg
END:VEVENT
BEGIN:VEVENT
DTSTART;VALUE=DATE:20170116
DTEND;VALUE=DATE:20170131
DTSTAMP:20260423T024535
CREATED:20161220T134305Z
LAST-MODIFIED:20170130T100410Z
UID:2889-1484539200-1485748799@ateneuharmonia.cat
SUMMARY:Exposició: Còmics contra el masclisme
DESCRIPTION:Les idees i actituds sexistes que fomenten l’opressió dels homes sobre les dones\, així com les discriminacions per motius d’orientació sexual i identitat de gènere\, estan presents en tots els àmbits de la vida. \nEls còmics\, com la resta de representacions artístiques i culturals\, tampoc se salven del masclisme. La seva indústria a tendit a excloure les dones. Moltes historietes i novel·les gràfiques reprodueixen estereotips sexistes: representacions simplificades que mostren el que s’espera de nosaltres com a homes i dones. La historieta de l’Andrea i les seves amistats que dona forma a questa exposició ens mostra de quina manera el masclisme és present en els còmics i com se’l pot prevenir. \nPerò no tos els còmics són sexistes. Altres defensen l’equitat i diversitat de gènere. Aquesta exposició vol reivindicar totes aquelles obres que han ajudat a combatre el masclisme. Als diferents apartats trobareu una mostra d’algunes de les historietes i novel·les gràfiques que s’esforcen per dibuixar un món en igualtat\, entre elles\, les creacions d’adolescents i joves presentades al Premi Jove de Còmic Sant Martí per la prevenció i eradicació de la violència masclista. \nExposició produïda per la Regidoria de Feminismes i LGTBI. \n 
URL:https://ateneuharmonia.cat/esdeveniments/exposicio-comic-contra-el-masclisme/
LOCATION:Catalunya
CATEGORIES:Exposicions
ATTACH;FMTTYPE=image/jpeg:https://ateneuharmonia.cat/wp-content/uploads/2016/12/ateneu_harmonia_sant_andreu_Expo_ComicContraElMasclisme.jpg
END:VEVENT
END:VCALENDAR