BEGIN:VCALENDAR
VERSION:2.0
PRODID:-//Ateneu L&#039;Harmonia - ECPv6.15.20//NONSGML v1.0//EN
CALSCALE:GREGORIAN
METHOD:PUBLISH
X-WR-CALNAME:Ateneu L&#039;Harmonia
X-ORIGINAL-URL:https://ateneuharmonia.cat
X-WR-CALDESC:Esdeveniments per Ateneu L&#039;Harmonia
REFRESH-INTERVAL;VALUE=DURATION:PT1H
X-Robots-Tag:noindex
X-PUBLISHED-TTL:PT1H
BEGIN:VTIMEZONE
TZID:Europe/Andorra
BEGIN:DAYLIGHT
TZOFFSETFROM:+0100
TZOFFSETTO:+0200
TZNAME:CEST
DTSTART:20160327T010000
END:DAYLIGHT
BEGIN:STANDARD
TZOFFSETFROM:+0200
TZOFFSETTO:+0100
TZNAME:CET
DTSTART:20161030T010000
END:STANDARD
BEGIN:DAYLIGHT
TZOFFSETFROM:+0100
TZOFFSETTO:+0200
TZNAME:CEST
DTSTART:20170326T010000
END:DAYLIGHT
BEGIN:STANDARD
TZOFFSETFROM:+0200
TZOFFSETTO:+0100
TZNAME:CET
DTSTART:20171029T010000
END:STANDARD
BEGIN:DAYLIGHT
TZOFFSETFROM:+0100
TZOFFSETTO:+0200
TZNAME:CEST
DTSTART:20180325T010000
END:DAYLIGHT
BEGIN:STANDARD
TZOFFSETFROM:+0200
TZOFFSETTO:+0100
TZNAME:CET
DTSTART:20181028T010000
END:STANDARD
END:VTIMEZONE
BEGIN:VEVENT
DTSTART;VALUE=DATE:20170216
DTEND;VALUE=DATE:20170302
DTSTAMP:20260422T231151
CREATED:20170123T130734Z
LAST-MODIFIED:20170215T135425Z
UID:2997-1487217600-1488340799@ateneuharmonia.cat
SUMMARY:Expo: Inshallah\, de Marta Dalmau - Foto
DESCRIPTION:– Inauguració\, divendres 17 a les 19 h – \nLa Marta\, apassionada de la vida i de la fotografia\, experimenta amb la pintura amb llum capturant les ànimes que se li apareixen davant la càmera rèflex\, amb la qual transmet la seva particular perspectiva de l’ésser humà i les seves emocions. \nInshallah és la presentació d’un recull de fotografies del seu segon viatge pel Marroc amb furgoneta\, en una cerca conscient del contacte directe amb la gent i la cultura marroquines\, captivada pels rostres terrosos i els somriures plens de vida perfumats d’espècies. \nTretze de les setze fotografies de la sèrie són en blanc i negre —retrats i fotografies de carrer—\, elecció que sorprèn en tractar-se d’un viatge per un país que es caracteritza pels seus colors variats i els seus contrastos. Tres\, però\, són el contrapunt i impacten per les seves tonalitats pujades\, com a concentració dels colors d’aquesta terra tan sorprenent\, acollidora i viva\, que la va captivar ja en el seu primer viatge\, un any i mig abans. \nLa seva mirada busca el detall que obre la porta a descobrir qui som darrera del vel de la tradició i de les fronteres\, i la seva càmera el congela i el transporta fins aquí. \n*Inshallah és un terme àrab que es fa servir per indicar l’esperança que un esdeveniment es produeixi en el futur\, si aquesta és la voluntat de Déu. Equivaldria al terme espanyol “ojalá”.
URL:https://ateneuharmonia.cat/esdeveniments/expo-inshallah-de-marta-dalmau-foto/
LOCATION:Catalunya
CATEGORIES:Exposicions
ATTACH;FMTTYPE=image/jpeg:https://ateneuharmonia.cat/wp-content/uploads/2017/01/ateneu_harmonia_sant_andreu_Expo_Inshallah.jpg
END:VEVENT
BEGIN:VEVENT
DTSTART;TZID=Europe/Andorra:20170228T200000
DTEND;TZID=Europe/Andorra:20170330T220000
DTSTAMP:20260422T231151
CREATED:20170228T203225Z
LAST-MODIFIED:20170328T164428Z
UID:3307-1488312000-1490911200@ateneuharmonia.cat
SUMMARY:6a Biennal d'Agulla i Fil
DESCRIPTION:6a Biennal d’Agulla i Fil – La costura com a escriptura i altres incisions contemporànies \nDes de l’”oficina nòmada” de la Biennal d’Agulla i Fil\, el col·lectiu Medizine convida les veïnes\, veïns\, i a totes les persones interessades a participar en el procés col·laboratiu d’investigació i creació tèxtil “Biennal de l’Agulla”. \nEns trobarem diferents generacions per a parlar\, cosir i dibuixar sobre temes tan diversos com les normatives actuals sobre drets laborals dels treballs manuals domiciliats (cosidores\, freelance\, dissenyadores\, producció artesanal)\, els trastorns musculo-esquelètics d’origen laboral\, recordar refranys i històries dels barris a partir del teixit quotidià. Tot això a partir de la realització d’un programa de ràdio\, de fer fanzins o de treballar la serigrafia. \nEl dia 28 de febrer\, a partir de les 20h\, donarem la sortida al procés de treball amb l’obertura d’una mostra de treballs anteriors que tindrà lloc a l’Ateneu L’Harmonia i la Planta 0 del Centre d’Art Contemporani Fabra i Coats. \nDates i activitats*: \n28 de febrer al 14 de març\nMostra de treballs previs de la Biennal d’Agulla i Fils\nLloc: Espai Bar de l’Ateneu L’Harmonia\nHora: a partir de les 20h \n6 i 13 de març\nTaller Medizine: Cartografia del malestar cos/treball\nLloc: Taller 21-22 i Espai de Serigrafia de l’Ateneu L’Harmonia\nHora: de 18h a 20h \n11 de març\nPresentació de projectes previs\nLloc: Espai Bar de l’Ateneu L’Harmonia\nHora: de 12h- 14h i 16h-18h \n16\, 18\, 23 de març\nTaller de ràdio: històries de cosidores\nLloc: Taller 21-22 i Espai de Serigrafia de l’Ateneu L’Harmonia\nHora: de 12h a 14h \n23\, 25 i  30 de març\nTaller Còmic tèxtil: elaboració de fanzins\nLloc: Taller 21-22 i Espai de Serigrafia de l’Ateneu L’Harmonia\nHora: 12h – 14h i 16h – 18h \n25 de març\nBiennal d’Agulla i Fil\nTrobada amb tallers\, debats i xerrades\nLloc: Planta 0 de CAC Fabra i Coats\nHora: de 16h- 20h \n* Per a participar dels tallers cal enviar un email a laia@lafundicio.net. \n+ info\nbienaldeagujaehilo@tutanota.com\nbienaldeagujaehilo.blogspot.com
URL:https://ateneuharmonia.cat/esdeveniments/6a-biennal-agulla-i-fil/
LOCATION:Catalunya
CATEGORIES:Altres,Exposicions
ATTACH;FMTTYPE=image/jpeg:https://ateneuharmonia.cat/wp-content/uploads/2017/02/ateneu_harmonia_sant_andreu_bienal_ajuga_hilo.jpg
END:VEVENT
END:VCALENDAR