BEGIN:VCALENDAR
VERSION:2.0
PRODID:-//Ateneu L&#039;Harmonia - ECPv6.15.20//NONSGML v1.0//EN
CALSCALE:GREGORIAN
METHOD:PUBLISH
X-ORIGINAL-URL:https://ateneuharmonia.cat
X-WR-CALDESC:Esdeveniments per Ateneu L&#039;Harmonia
REFRESH-INTERVAL;VALUE=DURATION:PT1H
X-Robots-Tag:noindex
X-PUBLISHED-TTL:PT1H
BEGIN:VTIMEZONE
TZID:Europe/Andorra
BEGIN:DAYLIGHT
TZOFFSETFROM:+0100
TZOFFSETTO:+0200
TZNAME:CEST
DTSTART:20160327T010000
END:DAYLIGHT
BEGIN:STANDARD
TZOFFSETFROM:+0200
TZOFFSETTO:+0100
TZNAME:CET
DTSTART:20161030T010000
END:STANDARD
BEGIN:DAYLIGHT
TZOFFSETFROM:+0100
TZOFFSETTO:+0200
TZNAME:CEST
DTSTART:20170326T010000
END:DAYLIGHT
BEGIN:STANDARD
TZOFFSETFROM:+0200
TZOFFSETTO:+0100
TZNAME:CET
DTSTART:20171029T010000
END:STANDARD
BEGIN:DAYLIGHT
TZOFFSETFROM:+0100
TZOFFSETTO:+0200
TZNAME:CEST
DTSTART:20180325T010000
END:DAYLIGHT
BEGIN:STANDARD
TZOFFSETFROM:+0200
TZOFFSETTO:+0100
TZNAME:CET
DTSTART:20181028T010000
END:STANDARD
END:VTIMEZONE
BEGIN:VEVENT
DTSTART;TZID=Europe/Andorra:20170401T190000
DTEND;TZID=Europe/Andorra:20170414T220000
DTSTAMP:20260422T152445
CREATED:20170328T093120Z
LAST-MODIFIED:20170328T093120Z
UID:3422-1491073200-1492207200@ateneuharmonia.cat
SUMMARY:Exposició de pintures AJ
DESCRIPTION:Inauguració amb actuació musical\, dissabte 1 d’abril a les 19h\n\nJara Aiala és una jove artista que presenta a l’Ateneu  la seva primera exposició de pintures. La mostra consta d’obres creades entre 2013 i 2016 i inspirades en la música\, l’altre gran univers artístic de l’autora: cançons\, notes i conceptes musicals que l’ajuden a transportar-se a d’altres realitats.
URL:https://ateneuharmonia.cat/esdeveniments/exposicio-de-pintures-aj/
LOCATION:Ateneu L’Harmonia\, Carrer de Sant Adrià\, 20 (Fabra i Coats) \, Barcelona\, Catalunya\, 08030\, Espanya
CATEGORIES:Exposicions
ATTACH;FMTTYPE=image/jpeg:https://ateneuharmonia.cat/wp-content/uploads/2017/03/ateneu_harmonia_sant_andreu_expo_jara.jpg
END:VEVENT
BEGIN:VEVENT
DTSTART;TZID=Europe/Andorra:20170418T100000
DTEND;TZID=Europe/Andorra:20170503T220000
DTSTAMP:20260422T152445
CREATED:20170328T101714Z
LAST-MODIFIED:20170407T080144Z
UID:3442-1492509600-1493848800@ateneuharmonia.cat
SUMMARY:Sant Andreu de Palomar\, un repàs històric al Poble
DESCRIPTION:Exposició fotogràfica\, acompanyada de text\, que vol fer un repàs de la història del nostre poble. Des de el Sant Andreu més rural\, passant per la resistència durant la guerra civil\,  fins als moviments socials i lluites dels nostres dies. \nL’exposició ofereix un mirada crítica a l’annexió forçada de Sant Andreu a Barcelona de l’any 1897\, que enguany dedica un apartat especial a la cobertura que els mitjans de comunicació  van donar a l’annexió l’any 1897 i posteriors. \nOrganitza: Comissió 20 d’Abril
URL:https://ateneuharmonia.cat/esdeveniments/sant-andreu-de-palomar-un-repas-historic-al-poble/
LOCATION:Ateneu L’Harmonia\, Carrer de Sant Adrià\, 20 (Fabra i Coats) \, Barcelona\, Catalunya\, 08030\, Espanya
CATEGORIES:Exposicions
ATTACH;FMTTYPE=image/jpeg:https://ateneuharmonia.cat/wp-content/uploads/2016/03/ateneu_harmonia_sant_andreu_AnnexioForcadaStAP_EXPO.jpg
END:VEVENT
END:VCALENDAR