BEGIN:VCALENDAR
VERSION:2.0
PRODID:-//Ateneu L&#039;Harmonia - ECPv6.15.20//NONSGML v1.0//EN
CALSCALE:GREGORIAN
METHOD:PUBLISH
X-WR-CALNAME:Ateneu L&#039;Harmonia
X-ORIGINAL-URL:https://ateneuharmonia.cat
X-WR-CALDESC:Esdeveniments per Ateneu L&#039;Harmonia
REFRESH-INTERVAL;VALUE=DURATION:PT1H
X-Robots-Tag:noindex
X-PUBLISHED-TTL:PT1H
BEGIN:VTIMEZONE
TZID:Europe/Andorra
BEGIN:DAYLIGHT
TZOFFSETFROM:+0100
TZOFFSETTO:+0200
TZNAME:CEST
DTSTART:20160327T010000
END:DAYLIGHT
BEGIN:STANDARD
TZOFFSETFROM:+0200
TZOFFSETTO:+0100
TZNAME:CET
DTSTART:20161030T010000
END:STANDARD
BEGIN:DAYLIGHT
TZOFFSETFROM:+0100
TZOFFSETTO:+0200
TZNAME:CEST
DTSTART:20170326T010000
END:DAYLIGHT
BEGIN:STANDARD
TZOFFSETFROM:+0200
TZOFFSETTO:+0100
TZNAME:CET
DTSTART:20171029T010000
END:STANDARD
BEGIN:DAYLIGHT
TZOFFSETFROM:+0100
TZOFFSETTO:+0200
TZNAME:CEST
DTSTART:20180325T010000
END:DAYLIGHT
BEGIN:STANDARD
TZOFFSETFROM:+0200
TZOFFSETTO:+0100
TZNAME:CET
DTSTART:20181028T010000
END:STANDARD
END:VTIMEZONE
BEGIN:VEVENT
DTSTART;VALUE=DATE:20170601
DTEND;VALUE=DATE:20170616
DTSTAMP:20260420T103620
CREATED:20170519T131655Z
LAST-MODIFIED:20170608T125525Z
UID:3742-1496289600-1497499199@ateneuharmonia.cat
SUMMARY:Exposició: Espais indecisos. Fotografies de Roser Arqués
DESCRIPTION:El projecte neix inspirat pels texts de Guilles Clement on parla del tercer paisatge i denomina espais indecisos a aquests territoris en subversió oberta confrontats de la destinació comuna que sotmeten les exigències humanes als espais naturals. El projecte de Roser Arques se centra en la recerca d’aquest tercer paisatge que envolta els nostres territoris\, espais que sorgeixen en els marges menys visibles de la planificació urbanística\, terrenys orfes d’intenció que deixen al seu pas el desenvolupament i l’expansió de les urbs. \nRoser Arques Morueta (Deltebre\, Tarragona 1985)\nEl seu interès per la fotografia va sorgir a l’edat de 18 anys en una investigació experimental i personal per trobar la pròpia eina d’expressió. Des de llavors no ha deixat de fer fotografies. Va decidir estudiar fotografia a l’Escola d’Art de Tarragona (EADT) on durant 3 anys es va formar en la tècnica\, la teoria i la vessant artística. Durant la seva trajectòria ha rebut diferents premis i reconeixements\, com ara el projecte final de cicle superior de fotografia: un llibre autoeditat que recull diferents festes populars de les Terres de l’Ebre. Ha publicat en diferents diaris\, com ara l’Ara i al Catalunya. Ha col·laborat com a redactora amb el diari La Directa amb articles sobre fotografia. Actualment està col·laborant en diferents projectes socials i culturals en l’àmbit local i està formant-se en l’àmbit social. \nConsulta la pàgina web de la Roser Arques\, la seva pàgina de Facebook\, i el seu Instagram. \n 
URL:https://ateneuharmonia.cat/esdeveniments/exposicio-espais-indecisos-fotografies-de-roser-aques/
LOCATION:Ateneu L’Harmonia\, Carrer de Sant Adrià\, 20 (Fabra i Coats) \, Barcelona\, Catalunya\, 08030\, Espanya
CATEGORIES:Exposicions
ATTACH;FMTTYPE=image/jpeg:https://ateneuharmonia.cat/wp-content/uploads/2017/05/Ateneu_Harmonia_Espais_indecisos.jpg
END:VEVENT
BEGIN:VEVENT
DTSTART;VALUE=DATE:20170616
DTEND;VALUE=DATE:20170702
DTSTAMP:20260420T103620
CREATED:20170522T123117Z
LAST-MODIFIED:20170609T112758Z
UID:3787-1497585600-1498881599@ateneuharmonia.cat
SUMMARY:Exposició: Itineràncies visibles
DESCRIPTION:Projecte visual educomunicatiu que busca fer visibles els diferents camins\, lluites i motius per emigrar així com les barreres que els són imposades a les persones en el seu moviment imparable. Itineràncies Visibles ens aproxima a les persones que per diferents motius han migrat a Barcelona\, als seus drets\, i a la importància que tenen l’empatia\, el respecte i el tracte que hi donem. \nL’exposició està centrada en la mostra fotogràfica que visibilitza la història i trajectòria de diferents persones d’arreu del món fins arribar a Barcelona. Els i les autores de les fotos són un grup de joves de 4t d’ESO del Centre Educatiu FEDAC Sant Andreu\, els quals han participat en tot un treball de sensibilització i co-creació al voltant dels moviments migratoris\, el refugi i la identitat. \nEn l’acte d’inauguració\, el 16 de juny a les 18h\, comptarem amb la veu de persones que\, per diferents motius\, han migrat a Barcelona. Amb elles debatrem sobre el racisme i la perillositat d’establir una diferenciació de drets entre persones migrades i refugiades. A més\, l’alumnat participant d’aquest projecte explicarà com ha sigut el procés d’aquesta experiència educomunicativa. Alhora\, estrenarem el vídeo documental que recull els diferents tallers realitzats amb aquest grup de joves. \nEl projecte està dinamitzat per l’Associació Cultural elParlante\, la fotògrafa Eva Parey\, en col·laboració amb l’equip directiu i docent del Centre Educatiu FEDAC St Andreu  i compta amb el suport econòmic del l’Ajuntament de Barcelona. \nPots consultar la pàgina web de l’Associació Cultural elParlante\, la seva pàgina de facebook\, i el seu twitter \n  \n  \n 
URL:https://ateneuharmonia.cat/esdeveniments/exposicio-itinerancies-visibles/
LOCATION:Ateneu L’Harmonia\, Carrer de Sant Adrià\, 20 (Fabra i Coats) \, Barcelona\, Catalunya\, 08030\, Espanya
CATEGORIES:Exposicions
ATTACH;FMTTYPE=image/jpeg:https://ateneuharmonia.cat/wp-content/uploads/2017/05/Ateneu_Harmonia_Itinerancies-visibles.jpg
END:VEVENT
END:VCALENDAR