BEGIN:VCALENDAR
VERSION:2.0
PRODID:-//Ateneu L&#039;Harmonia - ECPv6.15.20//NONSGML v1.0//EN
CALSCALE:GREGORIAN
METHOD:PUBLISH
X-ORIGINAL-URL:https://ateneuharmonia.cat
X-WR-CALDESC:Esdeveniments per Ateneu L&#039;Harmonia
REFRESH-INTERVAL;VALUE=DURATION:PT1H
X-Robots-Tag:noindex
X-PUBLISHED-TTL:PT1H
BEGIN:VTIMEZONE
TZID:Europe/Andorra
BEGIN:DAYLIGHT
TZOFFSETFROM:+0100
TZOFFSETTO:+0200
TZNAME:CEST
DTSTART:20200329T010000
END:DAYLIGHT
BEGIN:STANDARD
TZOFFSETFROM:+0200
TZOFFSETTO:+0100
TZNAME:CET
DTSTART:20201025T010000
END:STANDARD
BEGIN:DAYLIGHT
TZOFFSETFROM:+0100
TZOFFSETTO:+0200
TZNAME:CEST
DTSTART:20210328T010000
END:DAYLIGHT
BEGIN:STANDARD
TZOFFSETFROM:+0200
TZOFFSETTO:+0100
TZNAME:CET
DTSTART:20211031T010000
END:STANDARD
BEGIN:DAYLIGHT
TZOFFSETFROM:+0100
TZOFFSETTO:+0200
TZNAME:CEST
DTSTART:20220327T010000
END:DAYLIGHT
BEGIN:STANDARD
TZOFFSETFROM:+0200
TZOFFSETTO:+0100
TZNAME:CET
DTSTART:20221030T010000
END:STANDARD
END:VTIMEZONE
BEGIN:VEVENT
DTSTART;TZID=Europe/Andorra:20210413T160000
DTEND;TZID=Europe/Andorra:20210413T180000
DTSTAMP:20260426T051004
CREATED:20210326T101401Z
LAST-MODIFIED:20210326T101401Z
UID:10331-1618329600-1618336800@ateneuharmonia.cat
SUMMARY:Comissió Antiestigma
DESCRIPTION:Aquesta comissió es reuneix per visibilitzar i defensar els drets de les persones que pateixen diferents tipus de discriminació i dinamitzar accions per trencar estigmes. \nAl llarg d’aquest curs estem treballant en com la COVID-19 ha afectat als col·lectius i persones més vulnerables\, així com en la represa d’activitats com la jornada antiestigma. \nTrobada en format híbrid; presencial i online. Enllaç de la trobada: https://meet.jit.si/ComissióAntiestigma-Harmonia \n\nConsulta els acords presos d’aquesta comissió. \nSi en vols formar part\, donar idees o simplement conèixer-nos\, pots enviar un correu a: antiestigma@ateneuharmonia.cat
URL:https://ateneuharmonia.cat/esdeveniments/comissio-antiestigma-53/
LOCATION:Ateneu L’Harmonia\, Carrer de Sant Adrià\, 20 (Fabra i Coats) \, Barcelona\, Catalunya\, 08030\, Espanya
CATEGORIES:Participació
ATTACH;FMTTYPE=image/jpeg:https://ateneuharmonia.cat/wp-content/uploads/2020/07/Comissio_antiestigma_editable.jpg
END:VEVENT
BEGIN:VEVENT
DTSTART;TZID=Europe/Andorra:20210417T110000
DTEND;TZID=Europe/Andorra:20210417T130000
DTSTAMP:20260426T051004
CREATED:20210406T074101Z
LAST-MODIFIED:20210407T162523Z
UID:10384-1618657200-1618664400@ateneuharmonia.cat
SUMMARY:Jornada de replantejament dels Cursos i Tallers de l'Ateneu
DESCRIPTION:La Comissió de Cursos i tallers et convidem a fer un replantejament de la vessant formativa a l’Ateneu. Sabem que són mesos estranys i complexes i amb això\, volem posar sobre la taula la situació actual per obrir una reflexió comunitària per donar-hi un impuls participatiu\, enriquit de mirades i aportacions col·lectives. \nFins ara els tallers han tingut un plantejament que ja no es sosté\, per això i entenent la responsabilitat que hi ha lligada\, volem generar un espai on pensar plegades: Què ens agradaria que aportés l’Ateneu en quant a formació des d’una perspectiva comunitària? Què cal perquè això passi? \nEt convidem a aquesta trobada dinàmica per repensar de forma comunitària els cursos i tallers de l’Ateneu! \nPots consultar aquí la presentació de la jornada així com els materials de treball. \nPots inscriure’t a la jornada fent clic aquí.
URL:https://ateneuharmonia.cat/esdeveniments/jornada-de-replantejament-dels-cursos-i-tallers-de-lateneu/
LOCATION:Ateneu L’Harmonia\, Carrer de Sant Adrià\, 20 (Fabra i Coats) \, Barcelona\, Catalunya\, 08030\, Espanya
CATEGORIES:Participació
ATTACH;FMTTYPE=image/jpeg:https://ateneuharmonia.cat/wp-content/uploads/2021/04/Ateneu_Harmonia_cursos_tallers.jpg
END:VEVENT
BEGIN:VEVENT
DTSTART;TZID=Europe/Andorra:20210422T180000
DTEND;TZID=Europe/Andorra:20210422T200000
DTSTAMP:20260426T051004
CREATED:20210419T084723Z
LAST-MODIFIED:20210419T084723Z
UID:10521-1619114400-1619121600@ateneuharmonia.cat
SUMMARY:Comissió de Programació
DESCRIPTION:La Comissió de Programació es troba per anar tancant els propers actes de l’Ateneu i decidir-ne de nous. També treballar per avançar en la linia ideològica del document de definició de L’Ateneu. \nOrdre del dia de la propera trobada: \n\nCom arribem i com estem\nCom programem espectacles? ⇒ Protocol COVID – Mesures de seguretat als espectacles\nCalendari de programació\n\nConsulta els acords presos d’aquesta comissió.\n\nSi en vols formar part\, donar idees o simplement conèixer-nos\, pots enviar un correu a: programacio@ateneuharmonia.cat
URL:https://ateneuharmonia.cat/esdeveniments/comissio-de-programacio-44/
LOCATION:Ateneu L’Harmonia\, Carrer de Sant Adrià\, 20 (Fabra i Coats) \, Barcelona\, Catalunya\, 08030\, Espanya
CATEGORIES:Participació
ATTACH;FMTTYPE=image/jpeg:https://ateneuharmonia.cat/wp-content/uploads/2018/04/Comissió_programació_editable.jpg
END:VEVENT
END:VCALENDAR