BEGIN:VCALENDAR
VERSION:2.0
PRODID:-//Ateneu L&#039;Harmonia - ECPv6.15.20//NONSGML v1.0//EN
CALSCALE:GREGORIAN
METHOD:PUBLISH
X-ORIGINAL-URL:https://ateneuharmonia.cat
X-WR-CALDESC:Esdeveniments per Ateneu L&#039;Harmonia
REFRESH-INTERVAL;VALUE=DURATION:PT1H
X-Robots-Tag:noindex
X-PUBLISHED-TTL:PT1H
BEGIN:VTIMEZONE
TZID:Europe/Andorra
BEGIN:DAYLIGHT
TZOFFSETFROM:+0100
TZOFFSETTO:+0200
TZNAME:CEST
DTSTART:20200329T010000
END:DAYLIGHT
BEGIN:STANDARD
TZOFFSETFROM:+0200
TZOFFSETTO:+0100
TZNAME:CET
DTSTART:20201025T010000
END:STANDARD
BEGIN:DAYLIGHT
TZOFFSETFROM:+0100
TZOFFSETTO:+0200
TZNAME:CEST
DTSTART:20210328T010000
END:DAYLIGHT
BEGIN:STANDARD
TZOFFSETFROM:+0200
TZOFFSETTO:+0100
TZNAME:CET
DTSTART:20211031T010000
END:STANDARD
BEGIN:DAYLIGHT
TZOFFSETFROM:+0100
TZOFFSETTO:+0200
TZNAME:CEST
DTSTART:20220327T010000
END:DAYLIGHT
BEGIN:STANDARD
TZOFFSETFROM:+0200
TZOFFSETTO:+0100
TZNAME:CET
DTSTART:20221030T010000
END:STANDARD
END:VTIMEZONE
BEGIN:VEVENT
DTSTART;TZID=Europe/Andorra:20210511T160000
DTEND;TZID=Europe/Andorra:20210511T170000
DTSTAMP:20260426T032852
CREATED:20210416T064215Z
LAST-MODIFIED:20210416T064215Z
UID:10498-1620748800-1620752400@ateneuharmonia.cat
SUMMARY:Comissió Antiestigma
DESCRIPTION:Aquesta comissió es reuneix per visibilitzar i defensar els drets de les persones que pateixen diferents tipus de discriminació i dinamitzar accions per trencar estigmes. \nAl llarg d’aquest curs estem treballant en com la COVID-19 ha afectat als col·lectius i persones més vulnerables\, així com en la represa d’activitats com la jornada antiestigma. \nTrobada en format híbrid; presencial i online. Enllaç de la trobada: https://meet.jit.si/ComissióAntiestigma-Harmonia \n\nConsulta els acords presos d’aquesta comissió. \nSi en vols formar part\, donar idees o simplement conèixer-nos\, pots enviar un correu a: antiestigma@ateneuharmonia.cat
URL:https://ateneuharmonia.cat/esdeveniments/comissio-antiestigma-54/
LOCATION:Ateneu L’Harmonia\, Carrer de Sant Adrià\, 20 (Fabra i Coats) \, Barcelona\, Catalunya\, 08030\, Espanya
CATEGORIES:Participació
ATTACH;FMTTYPE=image/jpeg:https://ateneuharmonia.cat/wp-content/uploads/2020/07/Comissio_antiestigma_editable.jpg
END:VEVENT
END:VCALENDAR