BEGIN:VCALENDAR
VERSION:2.0
PRODID:-//Ateneu L&#039;Harmonia - ECPv6.15.20//NONSGML v1.0//EN
CALSCALE:GREGORIAN
METHOD:PUBLISH
X-ORIGINAL-URL:https://ateneuharmonia.cat
X-WR-CALDESC:Esdeveniments per Ateneu L&#039;Harmonia
REFRESH-INTERVAL;VALUE=DURATION:PT1H
X-Robots-Tag:noindex
X-PUBLISHED-TTL:PT1H
BEGIN:VTIMEZONE
TZID:Europe/Andorra
BEGIN:DAYLIGHT
TZOFFSETFROM:+0100
TZOFFSETTO:+0200
TZNAME:CEST
DTSTART:20200329T010000
END:DAYLIGHT
BEGIN:STANDARD
TZOFFSETFROM:+0200
TZOFFSETTO:+0100
TZNAME:CET
DTSTART:20201025T010000
END:STANDARD
BEGIN:DAYLIGHT
TZOFFSETFROM:+0100
TZOFFSETTO:+0200
TZNAME:CEST
DTSTART:20210328T010000
END:DAYLIGHT
BEGIN:STANDARD
TZOFFSETFROM:+0200
TZOFFSETTO:+0100
TZNAME:CET
DTSTART:20211031T010000
END:STANDARD
BEGIN:DAYLIGHT
TZOFFSETFROM:+0100
TZOFFSETTO:+0200
TZNAME:CEST
DTSTART:20220327T010000
END:DAYLIGHT
BEGIN:STANDARD
TZOFFSETFROM:+0200
TZOFFSETTO:+0100
TZNAME:CET
DTSTART:20221030T010000
END:STANDARD
END:VTIMEZONE
BEGIN:VEVENT
DTSTART;TZID=Europe/Andorra:20210603T180000
DTEND;TZID=Europe/Andorra:20210603T200000
DTSTAMP:20260426T014441
CREATED:20210602T114834Z
LAST-MODIFIED:20210602T114834Z
UID:10766-1622743200-1622750400@ateneuharmonia.cat
SUMMARY:Comissió de Programació
DESCRIPTION:La Comissió de Programació es troba per anar tancant els propers actes de l’Ateneu i decidir-ne de nous. També treballar per avançar en la linia ideològica del document de definició de L’Ateneu. \nOrdre del dia de la propera trobada: \n\nCom arribem i com estem\nCom programem espectacles? ⇒ Protocol COVID – Mesures de seguretat als espectacles\nPressupost de la Comissió\n\nConsulta els acords presos d’aquesta comissió.\n\nSi en vols formar part\, donar idees o simplement conèixer-nos\, pots enviar un correu a: programacio@ateneuharmonia.cat
URL:https://ateneuharmonia.cat/esdeveniments/comissio-de-programacio-45/
LOCATION:Ateneu L’Harmonia\, Carrer de Sant Adrià\, 20 (Fabra i Coats) \, Barcelona\, Catalunya\, 08030\, Espanya
CATEGORIES:Participació
ATTACH;FMTTYPE=image/jpeg:https://ateneuharmonia.cat/wp-content/uploads/2018/04/Comissió_programació_editable.jpg
END:VEVENT
BEGIN:VEVENT
DTSTART;TZID=Europe/Andorra:20210608T160000
DTEND;TZID=Europe/Andorra:20210608T180000
DTSTAMP:20260426T014441
CREATED:20210513T092247Z
LAST-MODIFIED:20210513T092247Z
UID:10704-1623168000-1623175200@ateneuharmonia.cat
SUMMARY:Comissió Antiestigma
DESCRIPTION:Aquesta comissió es reuneix per visibilitzar i defensar els drets de les persones que pateixen diferents tipus de discriminació i dinamitzar accions per trencar estigmes. \nAl llarg d’aquest curs estem treballant en com la COVID-19 ha afectat als col·lectius i persones més vulnerables\, així com en la represa d’activitats com la jornada antiestigma. \nTrobada en format híbrid; presencial i online. Enllaç de la trobada: https://meet.jit.si/ComissióAntiestigma-Harmonia \n\nConsulta els acords presos d’aquesta comissió. \nSi en vols formar part\, donar idees o simplement conèixer-nos\, pots enviar un correu a: antiestigma@ateneuharmonia.cat
URL:https://ateneuharmonia.cat/esdeveniments/comissio-antiestigma-55/
LOCATION:Ateneu L’Harmonia\, Carrer de Sant Adrià\, 20 (Fabra i Coats) \, Barcelona\, Catalunya\, 08030\, Espanya
CATEGORIES:Participació
ATTACH;FMTTYPE=image/jpeg:https://ateneuharmonia.cat/wp-content/uploads/2020/07/Comissio_antiestigma_editable.jpg
END:VEVENT
BEGIN:VEVENT
DTSTART;TZID=Europe/Andorra:20210614T163000
DTEND;TZID=Europe/Andorra:20210614T180000
DTSTAMP:20260426T014441
CREATED:20210605T085709Z
LAST-MODIFIED:20210608T074416Z
UID:10772-1623688200-1623693600@ateneuharmonia.cat
SUMMARY:Comissió de Cursos i Tallers
DESCRIPTION:En aquesta trobada\, valorarem la jornada de replantejament de cursos i tallers\, així com el trimestre de primavera. Alhora\, abordarem plegades qüestions de format\, enfocament i contingut entorn les propostes formatives d’estiu i de tardor. També tractarem temes de participació i comunicació interna. \nPots consultar els acords presos d’aquesta comissió aquí. \nSi en vols formar part\, donar idees o simplement conèixer-nos\, pots enviar-nos un correu a tallers@ateneuharmonia.cat
URL:https://ateneuharmonia.cat/esdeveniments/comissio-de-cursos-i-tallers-8/
LOCATION:Ateneu L’Harmonia\, Carrer de Sant Adrià\, 20 (Fabra i Coats) \, Barcelona\, Catalunya\, 08030\, Espanya
CATEGORIES:Participació
END:VEVENT
BEGIN:VEVENT
DTSTART;TZID=Europe/Andorra:20210617T180000
DTEND;TZID=Europe/Andorra:20210617T203000
DTSTAMP:20260426T014441
CREATED:20210614T100246Z
LAST-MODIFIED:20210614T100246Z
UID:10793-1623952800-1623961800@ateneuharmonia.cat
SUMMARY:Comissió de Programació
DESCRIPTION:La Comissió de Programació es troba per anar tancant els propers actes de l’Ateneu i decidir-ne de nous. També treballar per avançar en la linia ideològica del document de definició de L’Ateneu. \nOrdre del dia de la propera trobada: \n\nCom arribem i com estem\nCom programem espectacles? ⇒ Protocol COVID – Mesures de seguretat als espectacles\nPressupost de la Comissió\n\nConsulta els acords presos d’aquesta comissió.\n\nSi en vols formar part\, donar idees o simplement conèixer-nos\, pots enviar un correu a: programacio@ateneuharmonia.cat\n\n\n\nPreu \nGratuït
URL:https://ateneuharmonia.cat/esdeveniments/comissio-de-programacio-46/
LOCATION:Ateneu L’Harmonia\, Carrer de Sant Adrià\, 20 (Fabra i Coats) \, Barcelona\, Catalunya\, 08030\, Espanya
CATEGORIES:Participació
ATTACH;FMTTYPE=image/jpeg:https://ateneuharmonia.cat/wp-content/uploads/2018/04/Comissió_programació_editable.jpg
END:VEVENT
BEGIN:VEVENT
DTSTART;TZID=Europe/Andorra:20210629T190000
DTEND;TZID=Europe/Andorra:20210629T210000
DTSTAMP:20260426T014441
CREATED:20210621T143158Z
LAST-MODIFIED:20210621T143158Z
UID:10828-1624993200-1625000400@ateneuharmonia.cat
SUMMARY:Comissió de Comunicació
DESCRIPTION:La comissió de comunicació acabem el curs amb moltes ganes de definir estratègies\, objectius i criteris pel 2022 sobre tot allò relacionat amb la comunicació de l’Ateneu. \nPots consultar els acords presos d’aquesta comissió AQUí. \nSi en vols formar part\, donar idees o simplement conèixer-nos\, pots enviar-nos un correu a: comunicacio@ateneuharmonia.cat
URL:https://ateneuharmonia.cat/esdeveniments/comissio-de-comunicacio-49/
LOCATION:Ateneu L’Harmonia\, Carrer de Sant Adrià\, 20 (Fabra i Coats) \, Barcelona\, Catalunya\, 08030\, Espanya
CATEGORIES:Participació
ATTACH;FMTTYPE=image/jpeg:https://ateneuharmonia.cat/wp-content/uploads/2018/05/Comissió_comunicaciól_editable.jpg
END:VEVENT
END:VCALENDAR