BEGIN:VCALENDAR
VERSION:2.0
PRODID:-//Ateneu L&#039;Harmonia - ECPv6.15.20//NONSGML v1.0//EN
CALSCALE:GREGORIAN
METHOD:PUBLISH
X-WR-CALNAME:Ateneu L&#039;Harmonia
X-ORIGINAL-URL:https://ateneuharmonia.cat
X-WR-CALDESC:Esdeveniments per Ateneu L&#039;Harmonia
REFRESH-INTERVAL;VALUE=DURATION:PT1H
X-Robots-Tag:noindex
X-PUBLISHED-TTL:PT1H
BEGIN:VTIMEZONE
TZID:Europe/Andorra
BEGIN:DAYLIGHT
TZOFFSETFROM:+0100
TZOFFSETTO:+0200
TZNAME:CEST
DTSTART:20200329T010000
END:DAYLIGHT
BEGIN:STANDARD
TZOFFSETFROM:+0200
TZOFFSETTO:+0100
TZNAME:CET
DTSTART:20201025T010000
END:STANDARD
BEGIN:DAYLIGHT
TZOFFSETFROM:+0100
TZOFFSETTO:+0200
TZNAME:CEST
DTSTART:20210328T010000
END:DAYLIGHT
BEGIN:STANDARD
TZOFFSETFROM:+0200
TZOFFSETTO:+0100
TZNAME:CET
DTSTART:20211031T010000
END:STANDARD
BEGIN:DAYLIGHT
TZOFFSETFROM:+0100
TZOFFSETTO:+0200
TZNAME:CEST
DTSTART:20220327T010000
END:DAYLIGHT
BEGIN:STANDARD
TZOFFSETFROM:+0200
TZOFFSETTO:+0100
TZNAME:CET
DTSTART:20221030T010000
END:STANDARD
END:VTIMEZONE
BEGIN:VEVENT
DTSTART;TZID=Europe/Andorra:20210909T180000
DTEND;TZID=Europe/Andorra:20210909T200000
DTSTAMP:20260425T220931
CREATED:20210907T162013Z
LAST-MODIFIED:20210907T162013Z
UID:11023-1631210400-1631217600@ateneuharmonia.cat
SUMMARY:Comissió de Programació
DESCRIPTION:La Comissió de Programació es troba per anar tancant els propers actes de l’Ateneu i decidir-ne de nous. També treballar per avançar en la linia ideològica del document de definició de L’Ateneu. \nOrdre del dia de la propera trobada: \n\nCom arribem i com estem\n7è aniversari de l’Ateneu\nProgramació del darrer trimestre de l’any\n\nConsulta els acords presos d’aquesta comissió.\n\nSi en vols formar part\, donar idees o simplement conèixer-nos\, pots enviar un correu a: programacio@ateneuharmonia.cat
URL:https://ateneuharmonia.cat/esdeveniments/comissio-de-programacio-47/
LOCATION:Ateneu L’Harmonia\, Carrer de Sant Adrià\, 20 (Fabra i Coats) \, Barcelona\, Catalunya\, 08030\, Espanya
CATEGORIES:Participació
ATTACH;FMTTYPE=image/jpeg:https://ateneuharmonia.cat/wp-content/uploads/2018/04/Comissió_programació_editable.jpg
END:VEVENT
BEGIN:VEVENT
DTSTART;TZID=Europe/Andorra:20210914T160000
DTEND;TZID=Europe/Andorra:20210914T173000
DTSTAMP:20260425T220931
CREATED:20210719T080644Z
LAST-MODIFIED:20210719T080644Z
UID:10900-1631635200-1631640600@ateneuharmonia.cat
SUMMARY:Comissió Antiestigma
DESCRIPTION:Aquesta comissió es reuneix per visibilitzar i defensar els drets de les persones que pateixen diferents tipus de discriminació i dinamitzar accions per trencar estigmes. \nAl llarg d’aquest curs estem treballant en com la COVID-19 ha afectat als col·lectius i persones més vulnerables\, així com en la represa d’activitats com la jornada antiestigma. A la propera reunió farem un calendari del curs 2021 – 2022. \nTrobada en format híbrid; presencial i online. Enllaç de la trobada: https://meet.jit.si/ComissióAntiestigma-Harmonia \n\nConsulta els acords presos d’aquesta comissió. \nSi en vols formar part\, donar idees o simplement conèixer-nos\, pots enviar un correu a: antiestigma@ateneuharmonia.cat
URL:https://ateneuharmonia.cat/esdeveniments/comissio-antiestigma-57/
LOCATION:Ateneu L’Harmonia\, Carrer de Sant Adrià\, 20 (Fabra i Coats) \, Barcelona\, Catalunya\, 08030\, Espanya
CATEGORIES:Participació
ATTACH;FMTTYPE=image/jpeg:https://ateneuharmonia.cat/wp-content/uploads/2020/07/Comissio_antiestigma_editable.jpg
END:VEVENT
BEGIN:VEVENT
DTSTART;TZID=Europe/Andorra:20210914T190000
DTEND;TZID=Europe/Andorra:20210914T203000
DTSTAMP:20260425T220931
CREATED:20210912T085427Z
LAST-MODIFIED:20210912T085427Z
UID:11027-1631646000-1631651400@ateneuharmonia.cat
SUMMARY:Comissió de Comunicació
DESCRIPTION:La comissió de comunicació acabem el curs amb moltes ganes de definir estratègies\, objectius i criteris pel 2022 sobre tot allò relacionat amb la comunicació de l’Ateneu. \nOrdre del dia de la propera trobada: \n\nCom arribem i com estem\n7è aniversari de l’Ateneu\nAccions del darrer trimestre\n\nPots consultar els acords presos d’aquesta comissió AQUí. \nSi en vols formar part\, donar idees o simplement conèixer-nos\, pots enviar-nos un correu a: comunicacio@ateneuharmonia.cat
URL:https://ateneuharmonia.cat/esdeveniments/comissio-de-comunicacio-50/
LOCATION:Ateneu L’Harmonia\, Carrer de Sant Adrià\, 20 (Fabra i Coats) \, Barcelona\, Catalunya\, 08030\, Espanya
CATEGORIES:Participació
ATTACH;FMTTYPE=image/jpeg:https://ateneuharmonia.cat/wp-content/uploads/2018/05/Comissió_comunicaciól_editable.jpg
END:VEVENT
BEGIN:VEVENT
DTSTART;TZID=Europe/Andorra:20210929T170000
DTEND;TZID=Europe/Andorra:20210929T180000
DTSTAMP:20260425T220931
CREATED:20210924T104355Z
LAST-MODIFIED:20210924T104355Z
UID:11288-1632934800-1632938400@ateneuharmonia.cat
SUMMARY:Comissió de cursos i tallers
DESCRIPTION:La Comissió de Cursos i tallers ens trobem de nou! Aquesta vegada\, farem seguiment de les inscripcions i del procés d’inscripció del trimestre de tardor\, comentarem les propostes disponibles\, parlarem de l’enfocament i contingut dels monogràfics dels propers mesos i reprendrem les reflexions de la jornada de replantejament de la passada primavera. \nPots consultar els acords presos d’aquesta comissió aquí. \nSi en vols formar part\, donar idees o simplement conèixer-nos\, pots enviar-nos un correu a tallers@ateneuharmonia.cat
URL:https://ateneuharmonia.cat/esdeveniments/comissio-de-cursos-i-tallers-9/
LOCATION:Ateneu L’Harmonia\, Carrer de Sant Adrià\, 20 (Fabra i Coats) \, Barcelona\, Catalunya\, 08030\, Espanya
CATEGORIES:Participació
END:VEVENT
END:VCALENDAR