BEGIN:VCALENDAR
VERSION:2.0
PRODID:-//Ateneu L&#039;Harmonia - ECPv6.15.20//NONSGML v1.0//EN
CALSCALE:GREGORIAN
METHOD:PUBLISH
X-ORIGINAL-URL:https://ateneuharmonia.cat
X-WR-CALDESC:Esdeveniments per Ateneu L&#039;Harmonia
REFRESH-INTERVAL;VALUE=DURATION:PT1H
X-Robots-Tag:noindex
X-PUBLISHED-TTL:PT1H
BEGIN:VTIMEZONE
TZID:Europe/Andorra
BEGIN:DAYLIGHT
TZOFFSETFROM:+0100
TZOFFSETTO:+0200
TZNAME:CEST
DTSTART:20200329T010000
END:DAYLIGHT
BEGIN:STANDARD
TZOFFSETFROM:+0200
TZOFFSETTO:+0100
TZNAME:CET
DTSTART:20201025T010000
END:STANDARD
BEGIN:DAYLIGHT
TZOFFSETFROM:+0100
TZOFFSETTO:+0200
TZNAME:CEST
DTSTART:20210328T010000
END:DAYLIGHT
BEGIN:STANDARD
TZOFFSETFROM:+0200
TZOFFSETTO:+0100
TZNAME:CET
DTSTART:20211031T010000
END:STANDARD
BEGIN:DAYLIGHT
TZOFFSETFROM:+0100
TZOFFSETTO:+0200
TZNAME:CEST
DTSTART:20220327T010000
END:DAYLIGHT
BEGIN:STANDARD
TZOFFSETFROM:+0200
TZOFFSETTO:+0100
TZNAME:CET
DTSTART:20221030T010000
END:STANDARD
END:VTIMEZONE
BEGIN:VEVENT
DTSTART;TZID=Europe/Andorra:20211102T190000
DTEND;TZID=Europe/Andorra:20211102T210000
DTSTAMP:20260425T172601
CREATED:20211021T112549Z
LAST-MODIFIED:20211021T112549Z
UID:11567-1635879600-1635886800@ateneuharmonia.cat
SUMMARY:Comissió de Comunicació
DESCRIPTION:La comissió de comunicació acabem el curs amb moltes ganes de definir estratègies\, objectius i criteris pel 2022 sobre tot allò relacionat amb la comunicació de l’Ateneu. \nOrdre del dia de la propera trobada: \n\nCom arribem i com estem\nDissenyem el pla de comunicació de 2022\n\nPots consultar els acords presos d’aquesta comissió AQUí. \nSi en vols formar part\, donar idees o simplement conèixer-nos\, pots enviar-nos un correu a: comunicacio@ateneuharmonia.cat
URL:https://ateneuharmonia.cat/esdeveniments/comissio-de-comunicacio-52/
LOCATION:Ateneu L’Harmonia\, Carrer de Sant Adrià\, 20 (Fabra i Coats) \, Barcelona\, Catalunya\, 08030\, Espanya
CATEGORIES:Participació
ATTACH;FMTTYPE=image/jpeg:https://ateneuharmonia.cat/wp-content/uploads/2018/05/Comissió_comunicaciól_editable.jpg
END:VEVENT
BEGIN:VEVENT
DTSTART;TZID=Europe/Andorra:20211103T170000
DTEND;TZID=Europe/Andorra:20211103T190000
DTSTAMP:20260425T172601
CREATED:20211001T082755Z
LAST-MODIFIED:20211001T082755Z
UID:11398-1635958800-1635966000@ateneuharmonia.cat
SUMMARY:Comissió de cursos i tallers
DESCRIPTION:La Comissió de Cursos i tallers ens trobem de nou! Aquesta vegada\, repassarem les conclusions a les que vam arribar a la jornada de la passada primavera\, farem un pla de treball amb terminis i valorarem què prioritzem o no i amb qui comptem.  \nPots consultar els acords presos d’aquesta comissió aquí. \nSi en vols formar part\, donar idees o simplement conèixer-nos\, pots enviar-nos un correu a tallers@ateneuharmonia.cat
URL:https://ateneuharmonia.cat/esdeveniments/comissio-de-cursos-i-tallers-10/
LOCATION:Ateneu L’Harmonia\, Carrer de Sant Adrià\, 20 (Fabra i Coats) \, Barcelona\, Catalunya\, 08030\, Espanya
CATEGORIES:Participació
END:VEVENT
BEGIN:VEVENT
DTSTART;TZID=Europe/Andorra:20211109T160000
DTEND;TZID=Europe/Andorra:20211109T180000
DTSTAMP:20260425T172601
CREATED:20211021T110020Z
LAST-MODIFIED:20211021T110103Z
UID:11565-1636473600-1636480800@ateneuharmonia.cat
SUMMARY:Comissió Antiestigma
DESCRIPTION:Aquesta comissió es reuneix per visibilitzar i defensar els drets de les persones que pateixen diferents tipus de discriminació i dinamitzar accions per trencar estigmes. \nAl llarg d’aquest curs estem treballant la represa d’activitats com la jornada antiestigma\, sobre la XAVI i l’Oci inclusiu. \nTrobada en format híbrid; presencial i online. Enllaç de la trobada: https://meet.jit.si/ComissióAntiestigma-Harmonia \n\nConsulta els acords presos d’aquesta comissió. \nSi en vols formar part\, donar idees o simplement conèixer-nos\, pots enviar un correu a: antiestigma@ateneuharmonia.cat
URL:https://ateneuharmonia.cat/esdeveniments/comissio-antiestigma-59/
LOCATION:Ateneu L’Harmonia\, Carrer de Sant Adrià\, 20 (Fabra i Coats) \, Barcelona\, Catalunya\, 08030\, Espanya
CATEGORIES:Participació
ATTACH;FMTTYPE=image/jpeg:https://ateneuharmonia.cat/wp-content/uploads/2020/07/Comissio_antiestigma_editable.jpg
END:VEVENT
BEGIN:VEVENT
DTSTART;TZID=Europe/Andorra:20211118T180000
DTEND;TZID=Europe/Andorra:20211118T200000
DTSTAMP:20260425T172601
CREATED:20211115T115325Z
LAST-MODIFIED:20211115T115325Z
UID:11729-1637258400-1637265600@ateneuharmonia.cat
SUMMARY:Comissió de Programació
DESCRIPTION:La Comissió de Programació es trobarà el proper dijous per començar a treballar la part estratègica del 2022. Començaran a imaginar-se el disseny d’activitats del primer semestre de 2022\, treballaran nous cicles (spoiler!)\, parlaran sobre algunes propostes concretes com la festa del solstici d’hivern i faran el pressupost participatiu del 2022. \nConsulta els acords presos d’aquesta comissió.\n\nSi en vols formar part\, donar idees o simplement conèixer-nos\, pots enviar un correu a: programacio@ateneuharmonia.cat
URL:https://ateneuharmonia.cat/esdeveniments/comissio-de-programacio-49/
LOCATION:Ateneu L’Harmonia\, Carrer de Sant Adrià\, 20 (Fabra i Coats) \, Barcelona\, Catalunya\, 08030\, Espanya
CATEGORIES:Participació
ATTACH;FMTTYPE=image/jpeg:https://ateneuharmonia.cat/wp-content/uploads/2018/04/Comissió_programació_editable.jpg
END:VEVENT
END:VCALENDAR