BEGIN:VCALENDAR
VERSION:2.0
PRODID:-//Ateneu L&#039;Harmonia - ECPv6.15.20//NONSGML v1.0//EN
CALSCALE:GREGORIAN
METHOD:PUBLISH
X-WR-CALNAME:Ateneu L&#039;Harmonia
X-ORIGINAL-URL:https://ateneuharmonia.cat
X-WR-CALDESC:Esdeveniments per Ateneu L&#039;Harmonia
REFRESH-INTERVAL;VALUE=DURATION:PT1H
X-Robots-Tag:noindex
X-PUBLISHED-TTL:PT1H
BEGIN:VTIMEZONE
TZID:Europe/Andorra
BEGIN:DAYLIGHT
TZOFFSETFROM:+0100
TZOFFSETTO:+0200
TZNAME:CEST
DTSTART:20210328T010000
END:DAYLIGHT
BEGIN:STANDARD
TZOFFSETFROM:+0200
TZOFFSETTO:+0100
TZNAME:CET
DTSTART:20211031T010000
END:STANDARD
BEGIN:DAYLIGHT
TZOFFSETFROM:+0100
TZOFFSETTO:+0200
TZNAME:CEST
DTSTART:20220327T010000
END:DAYLIGHT
BEGIN:STANDARD
TZOFFSETFROM:+0200
TZOFFSETTO:+0100
TZNAME:CET
DTSTART:20221030T010000
END:STANDARD
BEGIN:DAYLIGHT
TZOFFSETFROM:+0100
TZOFFSETTO:+0200
TZNAME:CEST
DTSTART:20230326T010000
END:DAYLIGHT
BEGIN:STANDARD
TZOFFSETFROM:+0200
TZOFFSETTO:+0100
TZNAME:CET
DTSTART:20231029T010000
END:STANDARD
END:VTIMEZONE
BEGIN:VEVENT
DTSTART;TZID=Europe/Andorra:20220111T160000
DTEND;TZID=Europe/Andorra:20220111T170000
DTSTAMP:20260425T153609
CREATED:20211215T092223Z
LAST-MODIFIED:20211221T130250Z
UID:11856-1641916800-1641920400@ateneuharmonia.cat
SUMMARY:Comissió Antiestigma
DESCRIPTION:Aquesta comissió es reuneix per visibilitzar i defensar els drets de les persones que pateixen diferents tipus de discriminació i dinamitzar accions per trencar estigmes. \nAl llarg d’aquest curs estem treballant la represa d’activitats com la jornada antiestigma\, sobre la XAVI i l’Oci inclusiu. \nTrobada en format híbrid; presencial i online. Enllaç de la trobada: https://meet.jit.si/ComissióAntiestigma-Harmonia \n\nConsulta els acords presos d’aquesta comissió. \nSi en vols formar part\, donar idees o simplement conèixer-nos\, pots enviar un correu a: antiestigma@ateneuharmonia.cat
URL:https://ateneuharmonia.cat/esdeveniments/comissio-antiestigma-60/
LOCATION:Ateneu L’Harmonia\, Carrer de Sant Adrià\, 20 (Fabra i Coats) \, Barcelona\, Catalunya\, 08030\, Espanya
CATEGORIES:Participació
ATTACH;FMTTYPE=image/jpeg:https://ateneuharmonia.cat/wp-content/uploads/2020/07/Comissio_antiestigma_editable.jpg
END:VEVENT
BEGIN:VEVENT
DTSTART;TZID=Europe/Andorra:20220120T180000
DTEND;TZID=Europe/Andorra:20220120T200000
DTSTAMP:20260425T153609
CREATED:20220104T105708Z
LAST-MODIFIED:20220104T105708Z
UID:12010-1642701600-1642708800@ateneuharmonia.cat
SUMMARY:Comissió de Programació
DESCRIPTION:La Comissió de Programació es trobarà el proper dijous per fer una sessió monogràfica i parlar sobre el cobrament d’entrades en alguns esdeveniments i sobre l’autofinançament. \nConsulta els acords presos d’aquesta comissió.\n\nSi en vols formar part\, donar idees o simplement conèixer-nos\, pots enviar un correu a: programacio@ateneuharmonia.cat
URL:https://ateneuharmonia.cat/esdeveniments/comissio-de-programacio-51/
LOCATION:Ateneu L’Harmonia\, Carrer de Sant Adrià\, 20 (Fabra i Coats) \, Barcelona\, Catalunya\, 08030\, Espanya
CATEGORIES:Participació
ATTACH;FMTTYPE=image/jpeg:https://ateneuharmonia.cat/wp-content/uploads/2018/04/Comissió_programació_editable.jpg
END:VEVENT
BEGIN:VEVENT
DTSTART;TZID=Europe/Andorra:20220126T153000
DTEND;TZID=Europe/Andorra:20220126T170000
DTSTAMP:20260425T153609
CREATED:20220120T082253Z
LAST-MODIFIED:20220120T082253Z
UID:12264-1643211000-1643216400@ateneuharmonia.cat
SUMMARY:Comissió de Cursos i Tallers
DESCRIPTION:La Comissió de Cursos i tallers ens trobem de nou! En aquesta ocasió farem una valoració de les inscripcions als cursos i tallers trimestrals d’hivern i parlarem sobre la programació dels monogràfics. \nPots consultar els acords presos d’aquesta comissió aquí. \nSi en vols formar part\, donar idees o simplement conèixer-nos\, pots enviar-nos un correu a tallers@ateneuharmonia.cat
URL:https://ateneuharmonia.cat/esdeveniments/comissio-de-cursos-i-tallers-11/
LOCATION:Ateneu L’Harmonia\, Carrer de Sant Adrià\, 20 (Fabra i Coats) \, Barcelona\, Catalunya\, 08030\, Espanya
CATEGORIES:Participació
END:VEVENT
BEGIN:VEVENT
DTSTART;TZID=Europe/Andorra:20220131T190000
DTEND;TZID=Europe/Andorra:20220131T210000
DTSTAMP:20260425T153609
CREATED:20220121T085438Z
LAST-MODIFIED:20220121T085438Z
UID:12284-1643655600-1643662800@ateneuharmonia.cat
SUMMARY:Comissió de Comunicació
DESCRIPTION:La comissió de comunicació comencem el curs amb moltes ganes de definir estratègies\, objectius i criteris pel 2022 sobre tot allò relacionat amb la comunicació de l’Ateneu. \nOrdre del dia de la propera trobada: \n\nCom arribem i com estem\nRelació i convivència entre els canals de l’Ateneu i els canals institucionals\nDefinició estratègica dels canals de comunicació de l’Ateneu. El cas del butlletí electrònic i de l’Instagram.\nAcollida de la Mireia\, estudiant del Grau de Comunicació Cultural que realitza el TFG sobre la comunicació de L’Harmonia.\n\nPots consultar els acords presos d’aquesta comissió AQUí. \nSi en vols formar part\, donar idees o simplement conèixer-nos\, pots enviar-nos un correu a: comunicacio@ateneuharmonia.cat
URL:https://ateneuharmonia.cat/esdeveniments/comissio-de-comunicacio-53/
LOCATION:Ateneu L’Harmonia\, Carrer de Sant Adrià\, 20 (Fabra i Coats) \, Barcelona\, Catalunya\, 08030\, Espanya
CATEGORIES:Participació
ATTACH;FMTTYPE=image/jpeg:https://ateneuharmonia.cat/wp-content/uploads/2018/05/Comissió_comunicaciól_editable.jpg
END:VEVENT
END:VCALENDAR