BEGIN:VCALENDAR
VERSION:2.0
PRODID:-//Ateneu L&#039;Harmonia - ECPv6.15.20//NONSGML v1.0//EN
CALSCALE:GREGORIAN
METHOD:PUBLISH
X-WR-CALNAME:Ateneu L&#039;Harmonia
X-ORIGINAL-URL:https://ateneuharmonia.cat
X-WR-CALDESC:Esdeveniments per Ateneu L&#039;Harmonia
REFRESH-INTERVAL;VALUE=DURATION:PT1H
X-Robots-Tag:noindex
X-PUBLISHED-TTL:PT1H
BEGIN:VTIMEZONE
TZID:Europe/Andorra
BEGIN:DAYLIGHT
TZOFFSETFROM:+0100
TZOFFSETTO:+0200
TZNAME:CEST
DTSTART:20210328T010000
END:DAYLIGHT
BEGIN:STANDARD
TZOFFSETFROM:+0200
TZOFFSETTO:+0100
TZNAME:CET
DTSTART:20211031T010000
END:STANDARD
BEGIN:DAYLIGHT
TZOFFSETFROM:+0100
TZOFFSETTO:+0200
TZNAME:CEST
DTSTART:20220327T010000
END:DAYLIGHT
BEGIN:STANDARD
TZOFFSETFROM:+0200
TZOFFSETTO:+0100
TZNAME:CET
DTSTART:20221030T010000
END:STANDARD
BEGIN:DAYLIGHT
TZOFFSETFROM:+0100
TZOFFSETTO:+0200
TZNAME:CEST
DTSTART:20230326T010000
END:DAYLIGHT
BEGIN:STANDARD
TZOFFSETFROM:+0200
TZOFFSETTO:+0100
TZNAME:CET
DTSTART:20231029T010000
END:STANDARD
END:VTIMEZONE
BEGIN:VEVENT
DTSTART;TZID=Europe/Andorra:20221011T160000
DTEND;TZID=Europe/Andorra:20221011T173000
DTSTAMP:20260424T184225
CREATED:20220927T114008Z
LAST-MODIFIED:20220927T114008Z
UID:13989-1665504000-1665509400@ateneuharmonia.cat
SUMMARY:Comissió Antiestigma
DESCRIPTION:Aquesta comissió es reuneix per visibilitzar i defensar els drets de les persones que pateixen diferents tipus de discriminació i dinamitzar accions per trencar estigmes. \nA la propera trobada acabarem de preparar l’acte del 13 d’octubre. \nLa trobada serà format híbrid; presencial i en línia. Enllaç de la trobada: https://meet.jit.si/ComissióAntiestigma-Harmonia \n\nConsulta els acords presos d’aquesta comissió. \nSi en vols formar part\, donar idees o simplement conèixer-nos\, pots enviar un correu a: antiestigma@ateneuharmonia.cat
URL:https://ateneuharmonia.cat/esdeveniments/comissio-antiestigma-68/
LOCATION:Ateneu L’Harmonia\, Carrer de Sant Adrià\, 20 (Fabra i Coats) \, Barcelona\, Catalunya\, 08030\, Espanya
CATEGORIES:Participació
ATTACH;FMTTYPE=image/jpeg:https://ateneuharmonia.cat/wp-content/uploads/2020/07/Comissio_antiestigma_editable.jpg
END:VEVENT
BEGIN:VEVENT
DTSTART;TZID=Europe/Andorra:20221021T153000
DTEND;TZID=Europe/Andorra:20221021T170000
DTSTAMP:20260424T184225
CREATED:20221019T115513Z
LAST-MODIFIED:20221019T115513Z
UID:14099-1666366200-1666371600@ateneuharmonia.cat
SUMMARY:Comissió de Cursos i Tallers
DESCRIPTION:La Comissió de Cursos i tallers ens trobem de nou! En aquesta ocasió revisarem i farem balanç sobre el procés d’inscripció als cursos i tallers de tardor i començarem a treballar en la proposta d’hivern. \nPots consultar els acords presos d’aquesta comissió aquí. \nSi en vols formar part\, donar idees o simplement conèixer-nos\, pots enviar-nos un correu a tallers@ateneuharmonia.cat
URL:https://ateneuharmonia.cat/esdeveniments/comissio-de-cursos-i-tallers-18/
LOCATION:Ateneu L’Harmonia\, Carrer de Sant Adrià\, 20 (Fabra i Coats) \, Barcelona\, Catalunya\, 08030\, Espanya
CATEGORIES:Participació
END:VEVENT
BEGIN:VEVENT
DTSTART;TZID=Europe/Andorra:20221027T190000
DTEND;TZID=Europe/Andorra:20221027T203000
DTSTAMP:20260424T184225
CREATED:20221024T084740Z
LAST-MODIFIED:20221024T084740Z
UID:14120-1666897200-1666902600@ateneuharmonia.cat
SUMMARY:Comissió de Programació
DESCRIPTION:La Comissió de Programació es trobarà el proper dijous 27 d’octubre. Tot seguit pots consultar l’ordre del dia: \n\n\n\nCom arribem i com estem\nComunicacions prèvies. Seguiment document quinzenal\nRepàs hivern\nCicles: proposta organització via GT’s\nGestió de propostes\n\n\n\nConsulta els acords presos d’aquesta comissió.\n\nSi en vols formar part\, donar idees o simplement conèixer-nos\, pots enviar un correu a: programacio@ateneuharmonia.cat
URL:https://ateneuharmonia.cat/esdeveniments/comissio-de-programacio-57/
LOCATION:Ateneu L’Harmonia\, Carrer de Sant Adrià\, 20 (Fabra i Coats) \, Barcelona\, Catalunya\, 08030\, Espanya
CATEGORIES:Participació
ATTACH;FMTTYPE=image/jpeg:https://ateneuharmonia.cat/wp-content/uploads/2018/04/Comissió_programació_editable.jpg
END:VEVENT
END:VCALENDAR