BEGIN:VCALENDAR
VERSION:2.0
PRODID:-//Ateneu L&#039;Harmonia - ECPv6.15.20//NONSGML v1.0//EN
CALSCALE:GREGORIAN
METHOD:PUBLISH
X-ORIGINAL-URL:https://ateneuharmonia.cat
X-WR-CALDESC:Esdeveniments per Ateneu L&#039;Harmonia
REFRESH-INTERVAL;VALUE=DURATION:PT1H
X-Robots-Tag:noindex
X-PUBLISHED-TTL:PT1H
BEGIN:VTIMEZONE
TZID:Europe/Andorra
BEGIN:DAYLIGHT
TZOFFSETFROM:+0100
TZOFFSETTO:+0200
TZNAME:CEST
DTSTART:20220327T010000
END:DAYLIGHT
BEGIN:STANDARD
TZOFFSETFROM:+0200
TZOFFSETTO:+0100
TZNAME:CET
DTSTART:20221030T010000
END:STANDARD
BEGIN:DAYLIGHT
TZOFFSETFROM:+0100
TZOFFSETTO:+0200
TZNAME:CEST
DTSTART:20230326T010000
END:DAYLIGHT
BEGIN:STANDARD
TZOFFSETFROM:+0200
TZOFFSETTO:+0100
TZNAME:CET
DTSTART:20231029T010000
END:STANDARD
BEGIN:DAYLIGHT
TZOFFSETFROM:+0100
TZOFFSETTO:+0200
TZNAME:CEST
DTSTART:20240331T010000
END:DAYLIGHT
BEGIN:STANDARD
TZOFFSETFROM:+0200
TZOFFSETTO:+0100
TZNAME:CET
DTSTART:20241027T010000
END:STANDARD
END:VTIMEZONE
BEGIN:VEVENT
DTSTART;TZID=Europe/Andorra:20230411T170000
DTEND;TZID=Europe/Andorra:20230411T190000
DTSTAMP:20260424T084917
CREATED:20230406T065503Z
LAST-MODIFIED:20230406T065503Z
UID:15424-1681232400-1681239600@ateneuharmonia.cat
SUMMARY:Comissió de Responsabilitat Ambiental
DESCRIPTION:La Comissió de Responsabilitat Ambiental es reuneix per treballar temàtiques relacionades amb la responsabilitat ambiental a dins de l’Ateneu i a Sant Andreu de Palomar. \nConsulta els acords presos en reunions anteriors AQUÍ
URL:https://ateneuharmonia.cat/esdeveniments/comissio-de-responsabilitat-ambiental-50/
LOCATION:Ateneu L’Harmonia\, Carrer de Sant Adrià\, 20 (Fabra i Coats) \, Barcelona\, Catalunya\, 08030\, Espanya
CATEGORIES:Participació
ATTACH;FMTTYPE=image/jpeg:https://ateneuharmonia.cat/wp-content/uploads/2018/04/Comissió_ambiental_editable.jpg
END:VEVENT
BEGIN:VEVENT
DTSTART;TZID=Europe/Andorra:20230414T180000
DTEND;TZID=Europe/Andorra:20230414T200000
DTSTAMP:20260424T084917
CREATED:20230411T093914Z
LAST-MODIFIED:20230411T093940Z
UID:15435-1681495200-1681502400@ateneuharmonia.cat
SUMMARY:Comissió de Programació
DESCRIPTION:La comissió de programació es trobarà el divendres 14 d’abril per encarar la programació de primavera i començar a dibuixar l’agenda d’estiu.\nConsulta els acords presos d’aquesta comissió.\nSi en vols formar part\, donar idees o simplement conèixer-nos\, pots enviar un correu a: programacio@ateneuharmonia.cat
URL:https://ateneuharmonia.cat/esdeveniments/comissio-de-programacio-59/
LOCATION:Ateneu L’Harmonia\, Carrer de Sant Adrià\, 20 (Fabra i Coats) \, Barcelona\, Catalunya\, 08030\, Espanya
CATEGORIES:Participació
ATTACH;FMTTYPE=image/jpeg:https://ateneuharmonia.cat/wp-content/uploads/2018/04/Comissió_programació_editable.jpg
END:VEVENT
BEGIN:VEVENT
DTSTART;TZID=Europe/Andorra:20230417T170000
DTEND;TZID=Europe/Andorra:20230417T190000
DTSTAMP:20260424T084917
CREATED:20230404T090226Z
LAST-MODIFIED:20230404T090226Z
UID:15402-1681750800-1681758000@ateneuharmonia.cat
SUMMARY:Comissió de Gènere i prevenció de violències
DESCRIPTION:La Comissió de Gènere i prevenció de violències està treballant en l’aplicació de la guia que es va elaborar durant el 2022.
URL:https://ateneuharmonia.cat/esdeveniments/comissio-de-genere-i-prevencio-de-violencies/
LOCATION:Ateneu L’Harmonia\, Carrer de Sant Adrià\, 20 (Fabra i Coats) \, Barcelona\, Catalunya\, 08030\, Espanya
CATEGORIES:Participació
ATTACH;FMTTYPE=image/png:https://ateneuharmonia.cat/wp-content/uploads/2023/04/Comissio_genere_prevencio_violencies_v5-PNG.png
END:VEVENT
BEGIN:VEVENT
DTSTART;TZID=Europe/Andorra:20230418T190000
DTEND;TZID=Europe/Andorra:20230418T210000
DTSTAMP:20260424T084917
CREATED:20230405T113215Z
LAST-MODIFIED:20230405T113215Z
UID:15418-1681844400-1681851600@ateneuharmonia.cat
SUMMARY:Comissió Antiestigma
DESCRIPTION:Aquesta comissió es reuneix per visibilitzar i defensar els drets de les persones que pateixen diferents tipus de discriminació i dinamitzar accions per trencar estigmes. \nA la propera trobada farem valoració de la Jornada antiestigma\, celebrada el dissabte 25 de març\, i encararem nous projectes. \nConsulta els acords presos d’aquesta comissió. \nSi en vols formar part\, donar idees o simplement conèixer-nos\, pots enviar un correu a: antiestigma@ateneuharmonia.cat
URL:https://ateneuharmonia.cat/esdeveniments/comissio-antiestigma-74/
LOCATION:Ateneu L’Harmonia\, Carrer de Sant Adrià\, 20 (Fabra i Coats) \, Barcelona\, Catalunya\, 08030\, Espanya
CATEGORIES:Participació
ATTACH;FMTTYPE=image/jpeg:https://ateneuharmonia.cat/wp-content/uploads/2020/07/Comissio_antiestigma_editable.jpg
END:VEVENT
BEGIN:VEVENT
DTSTART;TZID=Europe/Andorra:20230419T190000
DTEND;TZID=Europe/Andorra:20230419T210000
DTSTAMP:20260424T084917
CREATED:20230404T085828Z
LAST-MODIFIED:20230404T085849Z
UID:15400-1681930800-1681938000@ateneuharmonia.cat
SUMMARY:Comissió de Comunicació
DESCRIPTION:La Comissió de Comunicació treballem definint campanyes de comunicació dels diferents actes programats a l’Ateneu i de les programacions de cursos i tallers. Ara mateix estem tenim entre mans el disseny de la comunicació de la Guia de gènere i prevenció de violències i el Carnet d’associades. \nPots consultar els acords presos d’aquesta comissió AQUÍ. I si en vols formar part\, donar idees o simplement conèixer-nos\, pots enviar-nos un correu a: comunicacio@ateneuharmonia.cat
URL:https://ateneuharmonia.cat/esdeveniments/comissio-de-comunicacio-62/
LOCATION:Ateneu L’Harmonia\, Carrer de Sant Adrià\, 20 (Fabra i Coats) \, Barcelona\, Catalunya\, 08030\, Espanya
CATEGORIES:Participació
ATTACH;FMTTYPE=image/jpeg:https://ateneuharmonia.cat/wp-content/uploads/2018/05/Comissió_comunicaciól_editable.jpg
END:VEVENT
BEGIN:VEVENT
DTSTART;TZID=Europe/Andorra:20230428T160000
DTEND;TZID=Europe/Andorra:20230428T180000
DTSTAMP:20260424T084917
CREATED:20230404T143842Z
LAST-MODIFIED:20230404T143842Z
UID:15411-1682697600-1682704800@ateneuharmonia.cat
SUMMARY:Comissió de Cursos i Tallers
DESCRIPTION:La Comissió de Cursos i tallers ens trobem de nou! \nPots consultar els acords presos d’aquesta comissió aquí. \nSi en vols formar part\, donar idees o simplement conèixer-nos\, pots enviar-nos un correu a tallers@ateneuharmonia.cat
URL:https://ateneuharmonia.cat/esdeveniments/comissio-de-cursos-i-tallers-24/
LOCATION:Ateneu L’Harmonia\, Carrer de Sant Adrià\, 20 (Fabra i Coats) \, Barcelona\, Catalunya\, 08030\, Espanya
CATEGORIES:Participació
END:VEVENT
END:VCALENDAR