BEGIN:VCALENDAR
VERSION:2.0
PRODID:-//Ateneu L&#039;Harmonia - ECPv6.15.20//NONSGML v1.0//EN
CALSCALE:GREGORIAN
METHOD:PUBLISH
X-ORIGINAL-URL:https://ateneuharmonia.cat
X-WR-CALDESC:Esdeveniments per Ateneu L&#039;Harmonia
REFRESH-INTERVAL;VALUE=DURATION:PT1H
X-Robots-Tag:noindex
X-PUBLISHED-TTL:PT1H
BEGIN:VTIMEZONE
TZID:Europe/Andorra
BEGIN:DAYLIGHT
TZOFFSETFROM:+0100
TZOFFSETTO:+0200
TZNAME:CEST
DTSTART:20220327T010000
END:DAYLIGHT
BEGIN:STANDARD
TZOFFSETFROM:+0200
TZOFFSETTO:+0100
TZNAME:CET
DTSTART:20221030T010000
END:STANDARD
BEGIN:DAYLIGHT
TZOFFSETFROM:+0100
TZOFFSETTO:+0200
TZNAME:CEST
DTSTART:20230326T010000
END:DAYLIGHT
BEGIN:STANDARD
TZOFFSETFROM:+0200
TZOFFSETTO:+0100
TZNAME:CET
DTSTART:20231029T010000
END:STANDARD
BEGIN:DAYLIGHT
TZOFFSETFROM:+0100
TZOFFSETTO:+0200
TZNAME:CEST
DTSTART:20240331T010000
END:DAYLIGHT
BEGIN:STANDARD
TZOFFSETFROM:+0200
TZOFFSETTO:+0100
TZNAME:CET
DTSTART:20241027T010000
END:STANDARD
END:VTIMEZONE
BEGIN:VEVENT
DTSTART;TZID=Europe/Andorra:20231003T160000
DTEND;TZID=Europe/Andorra:20231003T180000
DTSTAMP:20260423T122127
CREATED:20230918T145315Z
LAST-MODIFIED:20230918T145315Z
UID:16900-1696348800-1696356000@ateneuharmonia.cat
SUMMARY:Comissió Antiestigma
DESCRIPTION:Aquesta comissió es reuneix per visibilitzar i defensar els drets de les persones que pateixen diferents tipus de discriminació i dinamitzar accions per trencar estigmes. \nConsulta els acords presos d’aquesta comissió. \nSi en vols formar part\, donar idees o simplement conèixer-nos\, pots enviar un correu a: dinamitzacio@ateneuharmonia.cat
URL:https://ateneuharmonia.cat/esdeveniments/comissio-antiestigma-77/
LOCATION:Ateneu L’Harmonia\, Carrer de Sant Adrià\, 20 (Fabra i Coats) \, Barcelona\, Catalunya\, 08030\, Espanya
CATEGORIES:Participació
ATTACH;FMTTYPE=image/jpeg:https://ateneuharmonia.cat/wp-content/uploads/2020/07/Comissio_antiestigma_editable.jpg
END:VEVENT
BEGIN:VEVENT
DTSTART;TZID=Europe/Andorra:20231007T173000
DTEND;TZID=Europe/Andorra:20231007T190000
DTSTAMP:20260423T122127
CREATED:20230922T101947Z
LAST-MODIFIED:20230922T101947Z
UID:16957-1696699800-1696705200@ateneuharmonia.cat
SUMMARY:Rodatge del 3r magazine de Sant Andreu de La Veïnal
DESCRIPTION:El grup de veïnes i entitats de Sant Andreu de la televisió comunitària La Veïnal porta uns mesos treballant en el seu tercer magazine: EntreVeus. \nEn aquesta ocasió\, per parlar sobre cultura comunitària. El rodatge participatiu serà a l’exterior de l’Ateneu\, benvinguda a ser-ne part! \nA càrrec de l’Holó de Sant Andreu de La Veïnal.
URL:https://ateneuharmonia.cat/esdeveniments/rodatge-del-3r-magazine-de-sant-andreu-de-la-veinal/
LOCATION:Ateneu L’Harmonia\, Carrer de Sant Adrià\, 20 (Fabra i Coats) \, Barcelona\, Catalunya\, 08030\, Espanya
CATEGORIES:Audiovisuals,Participació
ATTACH;FMTTYPE=image/jpeg:https://ateneuharmonia.cat/wp-content/uploads/2023/09/Ateneu_harmonia_rodatge_veinal.jpg
END:VEVENT
END:VCALENDAR