BEGIN:VCALENDAR
VERSION:2.0
PRODID:-//Ateneu L&#039;Harmonia - ECPv6.15.20//NONSGML v1.0//EN
CALSCALE:GREGORIAN
METHOD:PUBLISH
X-ORIGINAL-URL:https://ateneuharmonia.cat
X-WR-CALDESC:Esdeveniments per Ateneu L&#039;Harmonia
REFRESH-INTERVAL;VALUE=DURATION:PT1H
X-Robots-Tag:noindex
X-PUBLISHED-TTL:PT1H
BEGIN:VTIMEZONE
TZID:Europe/Andorra
BEGIN:DAYLIGHT
TZOFFSETFROM:+0100
TZOFFSETTO:+0200
TZNAME:CEST
DTSTART:20230326T010000
END:DAYLIGHT
BEGIN:STANDARD
TZOFFSETFROM:+0200
TZOFFSETTO:+0100
TZNAME:CET
DTSTART:20231029T010000
END:STANDARD
BEGIN:DAYLIGHT
TZOFFSETFROM:+0100
TZOFFSETTO:+0200
TZNAME:CEST
DTSTART:20240331T010000
END:DAYLIGHT
BEGIN:STANDARD
TZOFFSETFROM:+0200
TZOFFSETTO:+0100
TZNAME:CET
DTSTART:20241027T010000
END:STANDARD
BEGIN:DAYLIGHT
TZOFFSETFROM:+0100
TZOFFSETTO:+0200
TZNAME:CEST
DTSTART:20250330T010000
END:DAYLIGHT
BEGIN:STANDARD
TZOFFSETFROM:+0200
TZOFFSETTO:+0100
TZNAME:CET
DTSTART:20251026T010000
END:STANDARD
END:VTIMEZONE
BEGIN:VEVENT
DTSTART;TZID=Europe/Andorra:20240404T180000
DTEND;TZID=Europe/Andorra:20240404T203000
DTSTAMP:20260422T170536
CREATED:20240328T174648Z
LAST-MODIFIED:20240328T174648Z
UID:18459-1712253600-1712262600@ateneuharmonia.cat
SUMMARY:Comissió de Programació
DESCRIPTION:Us agrada l’agenda cultural de l’Ateneu? Us agradaria poder escollir què s’hi programa? \nJa podeu apuntar-vos a l’agenda la propera trobada de la Comissió de Programació! \nConsulta els acords presos d’aquesta comissió.\nSi en vols formar part\, donar idees o simplement conèixer-nos\, pots enviar un correu a: programacio@ateneuharmonia.cat
URL:https://ateneuharmonia.cat/esdeveniments/comissio-de-programacio-64/
LOCATION:Ateneu L’Harmonia\, Carrer de Sant Adrià\, 20 (Fabra i Coats) \, Barcelona\, Catalunya\, 08030\, Espanya
CATEGORIES:Participació
ATTACH;FMTTYPE=image/jpeg:https://ateneuharmonia.cat/wp-content/uploads/2018/04/Comissió_programació_editable.jpg
END:VEVENT
BEGIN:VEVENT
DTSTART;TZID=Europe/Andorra:20240412T151500
DTEND;TZID=Europe/Andorra:20240412T170000
DTSTAMP:20260422T170536
CREATED:20240410T161044Z
LAST-MODIFIED:20240410T161044Z
UID:18775-1712934900-1712941200@ateneuharmonia.cat
SUMMARY:Comissió de Cursos i Tallers
DESCRIPTION:Durant el període d’inscripcions d’aquest trimestre hem tingut alguns problemes amb la web\, per això la comissió de cursos i tallers dedicarà la sessió a abordar aquesta qüestió. \nLes comissions són uns dels espais de participació de l’Ateneu\, si vols venir-hi escriure-nos un correu a: tallers@ateneuharmonia.cat \nPots consultar els acords presos\, aquí. \n  \n 
URL:https://ateneuharmonia.cat/esdeveniments/comissio-de-cursos-i-tallers-30/
LOCATION:Ateneu L’Harmonia\, Carrer de Sant Adrià\, 20 (Fabra i Coats) \, Barcelona\, Catalunya\, 08030\, Espanya
CATEGORIES:Participació
ATTACH;FMTTYPE=image/png:https://ateneuharmonia.cat/wp-content/uploads/2023/05/Comissio_CiT_ok.png
END:VEVENT
END:VCALENDAR