BEGIN:VCALENDAR
VERSION:2.0
PRODID:-//Ateneu L&#039;Harmonia - ECPv6.15.20//NONSGML v1.0//EN
CALSCALE:GREGORIAN
METHOD:PUBLISH
X-WR-CALNAME:Ateneu L&#039;Harmonia
X-ORIGINAL-URL:https://ateneuharmonia.cat
X-WR-CALDESC:Esdeveniments per Ateneu L&#039;Harmonia
REFRESH-INTERVAL;VALUE=DURATION:PT1H
X-Robots-Tag:noindex
X-PUBLISHED-TTL:PT1H
BEGIN:VTIMEZONE
TZID:Europe/Andorra
BEGIN:DAYLIGHT
TZOFFSETFROM:+0100
TZOFFSETTO:+0200
TZNAME:CEST
DTSTART:20230326T010000
END:DAYLIGHT
BEGIN:STANDARD
TZOFFSETFROM:+0200
TZOFFSETTO:+0100
TZNAME:CET
DTSTART:20231029T010000
END:STANDARD
BEGIN:DAYLIGHT
TZOFFSETFROM:+0100
TZOFFSETTO:+0200
TZNAME:CEST
DTSTART:20240331T010000
END:DAYLIGHT
BEGIN:STANDARD
TZOFFSETFROM:+0200
TZOFFSETTO:+0100
TZNAME:CET
DTSTART:20241027T010000
END:STANDARD
BEGIN:DAYLIGHT
TZOFFSETFROM:+0100
TZOFFSETTO:+0200
TZNAME:CEST
DTSTART:20250330T010000
END:DAYLIGHT
BEGIN:STANDARD
TZOFFSETFROM:+0200
TZOFFSETTO:+0100
TZNAME:CET
DTSTART:20251026T010000
END:STANDARD
END:VTIMEZONE
BEGIN:VEVENT
DTSTART;TZID=Europe/Andorra:20241108T180000
DTEND;TZID=Europe/Andorra:20241108T200000
DTSTAMP:20260426T001448
CREATED:20241030T171404Z
LAST-MODIFIED:20241104T123021Z
UID:20270-1731088800-1731096000@ateneuharmonia.cat
SUMMARY:Castanyada en harmonia
DESCRIPTION:La Castanyada familiar de L’Harmonia: \n18h Taller infantil:\nArt i tardor. Mural col·lectiu per als més petits i les més petites\nEn aquesta activitat\, les nenes i els nens participaran en la creació d’un mural temàtic sobre la tardor per celebrar la Castanyada. Utilitzaran materials com fulles seques\, paper de colors i pintura per crear una obra d’art que reflecteixi els colors i la bellesa d’aquesta estació. A més de fomentar la seva creativitat\, l’activitat promourà el desenvolupament d’habilitats motrius i el treball en equip.\nA càrrec de Mamis Molonas\nLloc: Espai relacional de l’Ateneu o a l’exterior\, si el temps ho permet.\nEdat recomanada: 1 a 6 anys aprox. \n  \n19h Actuació musical amb Maus Kids \n  \n  \n \n  \n 
URL:https://ateneuharmonia.cat/esdeveniments/castanyada-en-harmonia-2/
LOCATION:Ateneu L’Harmonia\, Carrer de Sant Adrià\, 20 (Fabra i Coats) \, Barcelona\, Catalunya\, 08030\, Espanya
CATEGORIES:Públic familiar
ATTACH;FMTTYPE=image/jpeg:https://ateneuharmonia.cat/wp-content/uploads/2024/10/Ateneu_Harmonia_castanyada_novembre.jpg
END:VEVENT
BEGIN:VEVENT
DTSTART;VALUE=DATE:20241116
DTEND;VALUE=DATE:20241119
DTSTAMP:20260426T001448
CREATED:20241022T150447Z
LAST-MODIFIED:20241031T092047Z
UID:20239-1731729600-1731902399@ateneuharmonia.cat
SUMMARY:13è Festival del Joc DAU
DESCRIPTION:Benvinguts a la tretzena edició de Dau Barcelona Festival del Joc\, un festival que obrim a tothom i que enriqueix la nostra ciutat i la nostra comunitat d’una manera veritablement única i divertida. \n  \nConsulta tota la programació\, aquí.
URL:https://ateneuharmonia.cat/esdeveniments/13e-festival-del-joc-dau/
LOCATION:Ateneu L’Harmonia\, Carrer de Sant Adrià\, 20 (Fabra i Coats) \, Barcelona\, Catalunya\, 08030\, Espanya
CATEGORIES:Altres,Públic familiar
ATTACH;FMTTYPE=image/jpeg:https://ateneuharmonia.cat/wp-content/uploads/2024/10/Ateneu_Harmonia_DAU_novembre.jpg
END:VEVENT
END:VCALENDAR