BEGIN:VCALENDAR
VERSION:2.0
PRODID:-//Ateneu L&#039;Harmonia - ECPv6.15.20//NONSGML v1.0//EN
CALSCALE:GREGORIAN
METHOD:PUBLISH
X-ORIGINAL-URL:https://ateneuharmonia.cat
X-WR-CALDESC:Esdeveniments per Ateneu L&#039;Harmonia
REFRESH-INTERVAL;VALUE=DURATION:PT1H
X-Robots-Tag:noindex
X-PUBLISHED-TTL:PT1H
BEGIN:VTIMEZONE
TZID:Europe/Andorra
BEGIN:DAYLIGHT
TZOFFSETFROM:+0100
TZOFFSETTO:+0200
TZNAME:CEST
DTSTART:20250330T010000
END:DAYLIGHT
BEGIN:STANDARD
TZOFFSETFROM:+0200
TZOFFSETTO:+0100
TZNAME:CET
DTSTART:20251026T010000
END:STANDARD
BEGIN:DAYLIGHT
TZOFFSETFROM:+0100
TZOFFSETTO:+0200
TZNAME:CEST
DTSTART:20260329T010000
END:DAYLIGHT
BEGIN:STANDARD
TZOFFSETFROM:+0200
TZOFFSETTO:+0100
TZNAME:CET
DTSTART:20261025T010000
END:STANDARD
BEGIN:DAYLIGHT
TZOFFSETFROM:+0100
TZOFFSETTO:+0200
TZNAME:CEST
DTSTART:20270328T010000
END:DAYLIGHT
BEGIN:STANDARD
TZOFFSETFROM:+0200
TZOFFSETTO:+0100
TZNAME:CET
DTSTART:20271031T010000
END:STANDARD
END:VTIMEZONE
BEGIN:VEVENT
DTSTART;TZID=Europe/Andorra:20260328T123000
DTEND;TZID=Europe/Andorra:20260328T140000
DTSTAMP:20260422T183841
CREATED:20260218T153942Z
LAST-MODIFIED:20260218T153942Z
UID:24357-1774701000-1774706400@ateneuharmonia.cat
SUMMARY:Cicle Orelletes amb: Xispa & The Wild Pigs
DESCRIPTION:L’Orelletes és un cicle de grans concerts per a gent petita\, un cicle de música que vol apropar diferents gèneres musicals a infants. El cicle proposa concerts de grups i artistes que habitualment toquen per a públic adult\, però en aquesta ocasió adapten el seu espectacle a les orelles més petites de casa. \nDesprés d’un concert de rockabilly amb Atomic Leopards\, continuem el cicle amb el folk punk de Xispa & The Wild Pigs. \nXispa & The Wild Pigs és un quartet que\, acompanyats d’un banjolele\, una mandolina\, guitarra i bateria\, barregen melodies del folk amb la velocitat \n 
URL:https://ateneuharmonia.cat/esdeveniments/cicle-orelletes-amb-xispa-the-wild-pigs/
LOCATION:Ateneu L’Harmonia\, Carrer de Sant Adrià\, 20 (Fabra i Coats) \, Barcelona\, Catalunya\, 08030\, Espanya
CATEGORIES:Música,Públic familiar
ATTACH;FMTTYPE=image/jpeg:https://ateneuharmonia.cat/wp-content/uploads/2026/02/Ateneu_Harmonia_Orelletes_Wild-Pigs.jpg
END:VEVENT
END:VCALENDAR