BEGIN:VCALENDAR
VERSION:2.0
PRODID:-//Ateneu L&#039;Harmonia - ECPv6.15.20//NONSGML v1.0//EN
CALSCALE:GREGORIAN
METHOD:PUBLISH
X-ORIGINAL-URL:https://ateneuharmonia.cat
X-WR-CALDESC:Esdeveniments per Ateneu L&#039;Harmonia
REFRESH-INTERVAL;VALUE=DURATION:PT1H
X-Robots-Tag:noindex
X-PUBLISHED-TTL:PT1H
BEGIN:VTIMEZONE
TZID:Europe/Andorra
BEGIN:DAYLIGHT
TZOFFSETFROM:+0100
TZOFFSETTO:+0200
TZNAME:CEST
DTSTART:20130331T010000
END:DAYLIGHT
BEGIN:STANDARD
TZOFFSETFROM:+0200
TZOFFSETTO:+0100
TZNAME:CET
DTSTART:20131027T010000
END:STANDARD
BEGIN:DAYLIGHT
TZOFFSETFROM:+0100
TZOFFSETTO:+0200
TZNAME:CEST
DTSTART:20140330T010000
END:DAYLIGHT
BEGIN:STANDARD
TZOFFSETFROM:+0200
TZOFFSETTO:+0100
TZNAME:CET
DTSTART:20141026T010000
END:STANDARD
BEGIN:DAYLIGHT
TZOFFSETFROM:+0100
TZOFFSETTO:+0200
TZNAME:CEST
DTSTART:20150329T010000
END:DAYLIGHT
BEGIN:STANDARD
TZOFFSETFROM:+0200
TZOFFSETTO:+0100
TZNAME:CET
DTSTART:20151025T010000
END:STANDARD
END:VTIMEZONE
BEGIN:VEVENT
DTSTART;TZID=Europe/Andorra:20141001T193000
DTEND;TZID=Europe/Andorra:20141001T220000
DTSTAMP:20260426T005117
CREATED:20170523T132203Z
LAST-MODIFIED:20170523T133351Z
UID:3827-1412191800-1412200800@ateneuharmonia.cat
SUMMARY:Collserola\, un parc natural massa desprotegit… què podem fer per preservar-lo?
DESCRIPTION:Xerrada a càrrec del Centre d’Ecologia i Projectes Alternatius CEPA.
URL:https://ateneuharmonia.cat/esdeveniments/collserola-un-parc-natural-massa-desprotegit-que-podem-fer-per-preservar-lo/
LOCATION:Ateneu L’Harmonia\, Carrer de Sant Adrià\, 20 (Fabra i Coats) \, Barcelona\, Catalunya\, 08030\, Espanya
CATEGORIES:Xerrades
ATTACH;FMTTYPE=image/jpeg:https://ateneuharmonia.cat/wp-content/uploads/2017/05/ateneu_harmonia_sant_andreu_collserola_cepa.jpg
END:VEVENT
BEGIN:VEVENT
DTSTART;TZID=Europe/Andorra:20141009T200000
DTEND;TZID=Europe/Andorra:20141009T220000
DTSTAMP:20260426T005117
CREATED:20170523T133813Z
LAST-MODIFIED:20170523T133830Z
UID:3833-1412884800-1412892000@ateneuharmonia.cat
SUMMARY:Presentació de la “Guia pràctica per conèixer la natura de Catalunya”
DESCRIPTION:A càrrec del Centre d’Ecologia i Projectes Alternatius CEPA i l’Associació Excursionista i Ecologista Cordada
URL:https://ateneuharmonia.cat/esdeveniments/presentacio-de-la-guia-practica-per-coneixer-la-natura-de-catalunya/
LOCATION:Ateneu L’Harmonia\, Carrer de Sant Adrià\, 20 (Fabra i Coats) \, Barcelona\, Catalunya\, 08030\, Espanya
CATEGORIES:Xerrades
ATTACH;FMTTYPE=image/jpeg:https://ateneuharmonia.cat/wp-content/uploads/2017/05/ateneu_harmonia_sant_andreu_guia_natura_catalunya.jpg
END:VEVENT
BEGIN:VEVENT
DTSTART;TZID=Europe/Andorra:20141015T180000
DTEND;TZID=Europe/Andorra:20141015T200000
DTSTAMP:20260426T005117
CREATED:20170523T134139Z
LAST-MODIFIED:20170523T134139Z
UID:3837-1413396000-1413403200@ateneuharmonia.cat
SUMMARY:Coeduquem a casa?
DESCRIPTION:Taller formatiu dirigit a famílies amb filles i fills.  \nAmb aquest espai de tertúlia debatrem sobre possibles diferències que exercim les persones adultes a l’hora d’educar infants. Diferències inconscients però que influeixen de manera directa en com unes i altres van construint\, de manera progressiva\, les seves identitats de gènere. Només a partir d’una actitud crítica i conscient aconseguirem integrar la perspectiva de gènere a la interacció amb nenes i nens\, una perspectiva que afavorirà la construcció d’unes identitats de nenes i nens el màxim de lliures que superin les limitacions i estereotips de gènere. \nA càrrec de CoeducAcció
URL:https://ateneuharmonia.cat/esdeveniments/coeduquem-a-casa/
LOCATION:Ateneu L’Harmonia\, Carrer de Sant Adrià\, 20 (Fabra i Coats) \, Barcelona\, Catalunya\, 08030\, Espanya
CATEGORIES:Xerrades
ATTACH;FMTTYPE=image/jpeg:https://ateneuharmonia.cat/wp-content/uploads/2017/05/ateneu_harmonia_sant_andreu_coeducaccio.jpg
END:VEVENT
END:VCALENDAR