BEGIN:VCALENDAR
VERSION:2.0
PRODID:-//Ateneu L&#039;Harmonia - ECPv6.15.20//NONSGML v1.0//EN
CALSCALE:GREGORIAN
METHOD:PUBLISH
X-ORIGINAL-URL:https://ateneuharmonia.cat
X-WR-CALDESC:Esdeveniments per Ateneu L&#039;Harmonia
REFRESH-INTERVAL;VALUE=DURATION:PT1H
X-Robots-Tag:noindex
X-PUBLISHED-TTL:PT1H
BEGIN:VTIMEZONE
TZID:Europe/Andorra
BEGIN:DAYLIGHT
TZOFFSETFROM:+0100
TZOFFSETTO:+0200
TZNAME:CEST
DTSTART:20140330T010000
END:DAYLIGHT
BEGIN:STANDARD
TZOFFSETFROM:+0200
TZOFFSETTO:+0100
TZNAME:CET
DTSTART:20141026T010000
END:STANDARD
BEGIN:DAYLIGHT
TZOFFSETFROM:+0100
TZOFFSETTO:+0200
TZNAME:CEST
DTSTART:20150329T010000
END:DAYLIGHT
BEGIN:STANDARD
TZOFFSETFROM:+0200
TZOFFSETTO:+0100
TZNAME:CET
DTSTART:20151025T010000
END:STANDARD
BEGIN:DAYLIGHT
TZOFFSETFROM:+0100
TZOFFSETTO:+0200
TZNAME:CEST
DTSTART:20160327T010000
END:DAYLIGHT
BEGIN:STANDARD
TZOFFSETFROM:+0200
TZOFFSETTO:+0100
TZNAME:CET
DTSTART:20161030T010000
END:STANDARD
END:VTIMEZONE
BEGIN:VTIMEZONE
TZID:Europe/Helsinki
BEGIN:DAYLIGHT
TZOFFSETFROM:+0200
TZOFFSETTO:+0300
TZNAME:EEST
DTSTART:20140330T010000
END:DAYLIGHT
BEGIN:STANDARD
TZOFFSETFROM:+0300
TZOFFSETTO:+0200
TZNAME:EET
DTSTART:20141026T010000
END:STANDARD
BEGIN:DAYLIGHT
TZOFFSETFROM:+0200
TZOFFSETTO:+0300
TZNAME:EEST
DTSTART:20150329T010000
END:DAYLIGHT
BEGIN:STANDARD
TZOFFSETFROM:+0300
TZOFFSETTO:+0200
TZNAME:EET
DTSTART:20151025T010000
END:STANDARD
BEGIN:DAYLIGHT
TZOFFSETFROM:+0200
TZOFFSETTO:+0300
TZNAME:EEST
DTSTART:20160327T010000
END:DAYLIGHT
BEGIN:STANDARD
TZOFFSETFROM:+0300
TZOFFSETTO:+0200
TZNAME:EET
DTSTART:20161030T010000
END:STANDARD
END:VTIMEZONE
BEGIN:VEVENT
DTSTART;TZID=Europe/Andorra:20151112T190000
DTEND;TZID=Europe/Andorra:20151112T210000
DTSTAMP:20260423T032020
CREATED:20160713T101132Z
LAST-MODIFIED:20160713T101154Z
UID:2048-1447354800-1447362000@ateneuharmonia.cat
SUMMARY:Contacte generacional entre dones. Parlem?
DESCRIPTION:Per commemorar el 25N\, Dia internacional per a l’eliminació de la violència contra les dones\, l’Associació Pal·las Atenea proposa una taula rodona amb la intenció de crear un debat intergeneracional al voltant de l’evolució i els resultats obtinguts a partir de les reivindicacions formulades per aconseguir els drets i llibertats de les dones.\nHi participaran 6 dones\, d’entre 17 i 80 anys\, conduïdes per Enriqueta Civit. \nOrganitza: Associació de Dones Pal·las Atenea
URL:https://ateneuharmonia.cat/esdeveniments/contacte-generacional-entre-dones-parlem/
LOCATION:Catalunya
CATEGORIES:Xerrades
ATTACH;FMTTYPE=image/jpeg:https://ateneuharmonia.cat/wp-content/uploads/2016/07/ateneu_harmonia_sant_andreu_ExpoCartells_PallasAtenea.jpg
END:VEVENT
BEGIN:VEVENT
DTSTART;TZID=Europe/Helsinki:20151119T180000
DTEND;TZID=Europe/Helsinki:20151119T180000
DTSTAMP:20260423T032020
CREATED:20151105T201315Z
LAST-MODIFIED:20151110T111023Z
UID:229-1447956000-1447956000@ateneuharmonia.cat
SUMMARY:Moviment social-sindical a la Pegaso durant les dècades 60-80
DESCRIPTION:Manuel Pérez Vera\, operari de la fàbrica i membre del comitè d’empresa\, ens explicarà l’intensa vida social i laboral que es va desenvolupar a La Pegaso entre els anys 60 i 80. \nOrganitza: Associació d’Estudis Històrics d’Automoció – AEHA
URL:https://ateneuharmonia.cat/esdeveniments/moviment-social-sindical-a-la-pegaso-durant-les-decades-60-80/
LOCATION:Ateneu L’Harmonia\, Carrer de Sant Adrià\, 20 (Fabra i Coats) \, Barcelona\, Catalunya\, 08030\, Espanya
CATEGORIES:Xerrades
ATTACH;FMTTYPE=image/jpeg:https://ateneuharmonia.cat/wp-content/uploads/2015/11/ateneu_harmonia_sant_andreu_pegaso.jpg
END:VEVENT
BEGIN:VEVENT
DTSTART;TZID=Europe/Helsinki:20151119T200000
DTEND;TZID=Europe/Helsinki:20151119T213000
DTSTAMP:20260423T032020
CREATED:20151105T201949Z
LAST-MODIFIED:20151109T225043Z
UID:231-1447963200-1447968600@ateneuharmonia.cat
SUMMARY:Audiovisuals d’alta muntanya: Broad Peak
DESCRIPTION:L’estiu de 2005\, Xavi Aymar acompanyat per Martí Gasull i Francisco Carmona van intentar coronar el Broad Peak\, de 8047 metres\, al Karakorum pakistanès. Després d’un període de fortes nevades\, els membres de diverses expedicions van assolir el coll principal a poc més de 100 metres de desnivell del cim. En aquella ocasió van haver de renunciar a pujar-hi perquè la llarga aresta cimera estava perillosament colgada de neu. \nL’any 2011\, sis anys més tard\, la vida regalà una segona oportunitat a Aymar\, aquest cop acompanyat pel Xavi Arias. Poc s’imaginava que llargs poden arribar a fer-se 100 metres… \nOrganitza: Associació Ecologista i Excursionista Cordada
URL:https://ateneuharmonia.cat/esdeveniments/audiovisuals-dalta-muntanya-broad-peak/
LOCATION:Ateneu L’Harmonia\, Carrer de Sant Adrià\, 20 (Fabra i Coats) \, Barcelona\, Catalunya\, 08030\, Espanya
CATEGORIES:Audiovisuals,Xerrades
ATTACH;FMTTYPE=image/jpeg:https://ateneuharmonia.cat/wp-content/uploads/2015/11/ateneu_harmonia_sant_andreu__BroadPeak.jpg
END:VEVENT
BEGIN:VEVENT
DTSTART;TZID=Europe/Helsinki:20151123T190000
DTEND;TZID=Europe/Helsinki:20151123T190000
DTSTAMP:20260423T032020
CREATED:20151022T112352Z
LAST-MODIFIED:20151116T115400Z
UID:43-1448305200-1448305200@ateneuharmonia.cat
SUMMARY:Cinefòrum: Pollock
DESCRIPTION:Paul Jackson Pollock (Cody\, 28 de gener de 1912 – Springs\, 11 d’agost de 1956) fou un artista estatunidenc\, referent en el moviment de l’expressionisme abstracte i la pintura d’acció. Considerat un dels pintors més importants dels Estats Units al segle XX. \nVa tenir una forta influència dels muralistes mexicans\, l’art de Picasso i l’automatisme surrealista\, cosa que el va dur a iniciar una pintura molt expressiva i gestual amb un rerefons expressionista fins a arribar a la pura abstracció mitjançant el mètode del dripping. Joan Miró va afirmar que en la seva obra havia trobat «la llibertat que va poder prendre el pintor i fins on podia anar\, molt més enllà dels seus límits. D’alguna manera\, la nova pintura nord-americana em va alliberar» \nOrganitza: Grup Pintors de Sant Andreu
URL:https://ateneuharmonia.cat/esdeveniments/cineforum-pollock/
LOCATION:Ateneu L’Harmonia\, Carrer de Sant Adrià\, 20 (Fabra i Coats) \, Barcelona\, Catalunya\, 08030\, Espanya
CATEGORIES:Audiovisuals,Xerrades
ATTACH;FMTTYPE=image/jpeg:https://ateneuharmonia.cat/wp-content/uploads/2015/11/ateneu_harmonia_sant_andreu_Jackson-Pollock.jpg
END:VEVENT
BEGIN:VEVENT
DTSTART;TZID=Europe/Helsinki:20151126T193000
DTEND;TZID=Europe/Helsinki:20151126T193000
DTSTAMP:20260423T032020
CREATED:20151105T204832Z
LAST-MODIFIED:20151116T133745Z
UID:246-1448566200-1448566200@ateneuharmonia.cat
SUMMARY:Quin és el procés constituent que volem?
DESCRIPTION:Xerrada a càrrec de Xavier Domènech. \nOrganitza: Procés Constituent Sant Andreu \n[Il·lustració de Joan Turu]
URL:https://ateneuharmonia.cat/esdeveniments/quin-es-el-proces-constituent-que-volem/
LOCATION:Ateneu L’Harmonia\, Carrer de Sant Adrià\, 20 (Fabra i Coats) \, Barcelona\, Catalunya\, 08030\, Espanya
CATEGORIES:Xerrades
ATTACH;FMTTYPE=image/jpeg:https://ateneuharmonia.cat/wp-content/uploads/2015/11/ateneu_harmonia_sant_andreu_proces_turu.jpg
END:VEVENT
BEGIN:VEVENT
DTSTART;TZID=Europe/Helsinki:20151127T193000
DTEND;TZID=Europe/Helsinki:20151127T193000
DTSTAMP:20260423T032020
CREATED:20151105T205438Z
LAST-MODIFIED:20151112T230726Z
UID:248-1448652600-1448652600@ateneuharmonia.cat
SUMMARY:Cinefòrum: El Guerrero Pacífico
DESCRIPTION:Un estudiant amb serioses aspiracions als Jocs Olímpics\, Dan Millman (Scott Mechlowicz)\, viu una vida envoltada de primers premis\, dones i festa\, fins que una trobada amb un home misteriós al que anomena Sòcrates (Nick Nolte) el porta a descobrir una nova forma de veure la vida. Sòcrates i Joy (Amy Smart)\, una bella i distant noia\, l’ajudaran a adquirir la saviesa que necessita per deixar enrere el seu passat\, superant els obstacles i seguir la petjada de la destinació que el transformarà en un guerrer pacífic. El que realment importa és viure el moment present. \nOrganitza: Camí Endins
URL:https://ateneuharmonia.cat/esdeveniments/cineforum-el-guerrero-pacifico/
LOCATION:Ateneu L’Harmonia\, Carrer de Sant Adrià\, 20 (Fabra i Coats) \, Barcelona\, Catalunya\, 08030\, Espanya
CATEGORIES:Audiovisuals,Xerrades
ATTACH;FMTTYPE=image/png:https://ateneuharmonia.cat/wp-content/uploads/2015/11/ateneu_harmonia_sant_andreu_Guerrero.png
END:VEVENT
END:VCALENDAR