BEGIN:VCALENDAR
VERSION:2.0
PRODID:-//Ateneu L&#039;Harmonia - ECPv6.15.20//NONSGML v1.0//EN
CALSCALE:GREGORIAN
METHOD:PUBLISH
X-ORIGINAL-URL:https://ateneuharmonia.cat
X-WR-CALDESC:Esdeveniments per Ateneu L&#039;Harmonia
REFRESH-INTERVAL;VALUE=DURATION:PT1H
X-Robots-Tag:noindex
X-PUBLISHED-TTL:PT1H
BEGIN:VTIMEZONE
TZID:Europe/Helsinki
BEGIN:DAYLIGHT
TZOFFSETFROM:+0200
TZOFFSETTO:+0300
TZNAME:EEST
DTSTART:20140330T010000
END:DAYLIGHT
BEGIN:STANDARD
TZOFFSETFROM:+0300
TZOFFSETTO:+0200
TZNAME:EET
DTSTART:20141026T010000
END:STANDARD
BEGIN:DAYLIGHT
TZOFFSETFROM:+0200
TZOFFSETTO:+0300
TZNAME:EEST
DTSTART:20150329T010000
END:DAYLIGHT
BEGIN:STANDARD
TZOFFSETFROM:+0300
TZOFFSETTO:+0200
TZNAME:EET
DTSTART:20151025T010000
END:STANDARD
BEGIN:DAYLIGHT
TZOFFSETFROM:+0200
TZOFFSETTO:+0300
TZNAME:EEST
DTSTART:20160327T010000
END:DAYLIGHT
BEGIN:STANDARD
TZOFFSETFROM:+0300
TZOFFSETTO:+0200
TZNAME:EET
DTSTART:20161030T010000
END:STANDARD
END:VTIMEZONE
BEGIN:VEVENT
DTSTART;TZID=Europe/Helsinki:20151202T180000
DTEND;TZID=Europe/Helsinki:20151202T180000
DTSTAMP:20260422T234425
CREATED:20151112T105250Z
LAST-MODIFIED:20151118T223207Z
UID:522-1449079200-1449079200@ateneuharmonia.cat
SUMMARY:Deures\, sí o no?
DESCRIPTION:L’AFA de l’Escola Can Fabra serà present a les activitats de la Festa Major amb una xerrada al voltant d’un tema amb un gra interès en el món educatiu. Tindrem la oportunitat de poder sentir les reflexions dels psicòleg\, periodista i educador Jaume Funes\, autor del llibre publicat recentment “Cal fer deures?” entre d’altres treballs dedicats a la infància i l’adolescència. \nOrganitza: AFA Can Fabra \n[Fotografia: Morgue Files]
URL:https://ateneuharmonia.cat/esdeveniments/deures-si-o-no/
LOCATION:Catalunya
CATEGORIES:Xerrades
ATTACH;FMTTYPE=image/jpeg:https://ateneuharmonia.cat/wp-content/uploads/2015/11/ateneu_harmonia_sant_andreu_afa_canfabra_deures.jpg
END:VEVENT
BEGIN:VEVENT
DTSTART;TZID=Europe/Helsinki:20151228T190000
DTEND;TZID=Europe/Helsinki:20151228T190000
DTSTAMP:20260422T234425
CREATED:20151112T123629Z
LAST-MODIFIED:20151228T095951Z
UID:535-1451329200-1451329200@ateneuharmonia.cat
SUMMARY:Cinefòrum: Ticià (ANUl·lAT)
DESCRIPTION:Tiziano Vecellio o Tiziano Vecelli\, conegut com a Ticià o Tiziano\, (Pieve di Cadore\, Belluno\, 1477 – Venècia\, 27 d’agost de 1576) fou un pintor del Renaixement italià autor d’una obra pictòrica notable. Hom el considera un dels més grans retratistes de la seva època\, sobretot gràcies a la seva habilitat per captar els trets de caràcter dels seus personatges. és un dels majors exponents de l’Escola veneciana. \nOrganitza: Grup Pintors de Sant Andreu
URL:https://ateneuharmonia.cat/esdeveniments/cineforum-ticia/
LOCATION:Catalunya
CATEGORIES:Audiovisuals,Xerrades
ATTACH;FMTTYPE=image/png:https://ateneuharmonia.cat/wp-content/uploads/2015/11/ateneu_harmonia_sant_andreu_Tizia.png
END:VEVENT
END:VCALENDAR