BEGIN:VCALENDAR
VERSION:2.0
PRODID:-//Ateneu L&#039;Harmonia - ECPv6.15.20//NONSGML v1.0//EN
CALSCALE:GREGORIAN
METHOD:PUBLISH
X-WR-CALNAME:Ateneu L&#039;Harmonia
X-ORIGINAL-URL:https://ateneuharmonia.cat
X-WR-CALDESC:Esdeveniments per Ateneu L&#039;Harmonia
REFRESH-INTERVAL;VALUE=DURATION:PT1H
X-Robots-Tag:noindex
X-PUBLISHED-TTL:PT1H
BEGIN:VTIMEZONE
TZID:Europe/Andorra
BEGIN:DAYLIGHT
TZOFFSETFROM:+0100
TZOFFSETTO:+0200
TZNAME:CEST
DTSTART:20150329T010000
END:DAYLIGHT
BEGIN:STANDARD
TZOFFSETFROM:+0200
TZOFFSETTO:+0100
TZNAME:CET
DTSTART:20151025T010000
END:STANDARD
BEGIN:DAYLIGHT
TZOFFSETFROM:+0100
TZOFFSETTO:+0200
TZNAME:CEST
DTSTART:20160327T010000
END:DAYLIGHT
BEGIN:STANDARD
TZOFFSETFROM:+0200
TZOFFSETTO:+0100
TZNAME:CET
DTSTART:20161030T010000
END:STANDARD
BEGIN:DAYLIGHT
TZOFFSETFROM:+0100
TZOFFSETTO:+0200
TZNAME:CEST
DTSTART:20170326T010000
END:DAYLIGHT
BEGIN:STANDARD
TZOFFSETFROM:+0200
TZOFFSETTO:+0100
TZNAME:CET
DTSTART:20171029T010000
END:STANDARD
END:VTIMEZONE
BEGIN:VEVENT
DTSTART;TZID=Europe/Andorra:20160311T193000
DTEND;TZID=Europe/Andorra:20160311T193000
DTSTAMP:20260422T152906
CREATED:20160220T103948Z
LAST-MODIFIED:20160312T112108Z
UID:1380-1457724600-1457724600@ateneuharmonia.cat
SUMMARY:Cinefòrum: f8Minismes per a Dummies
DESCRIPTION:Que és el 8 de març? Perquè les feministes surten al carrer? Per a què serveix? Es festeja el dia de la dona? Si encara t’estàs fent aquestes preguntes\, aquest cinefòrum és per a tu. I si ja tens les respostes\, també! \nEn aquesta trobada projectarem “La majoria oprimida”\, un curtmetratge francès (subtitulat al castellà) d’Eléonore Pourriat\,  que explica la història d’un home víctima de violència de gènere en un món on les dones oprimeixen els homes. \nFet a la inversa per a ressaltar i denunciar les violències masclistes del nostre món\, aquest curt introduirà un debat sota la necessitat de les reivindicacions de la lluita feminista tot l’any i particularment en el marc del dia internacional de la dona treballadora. \nOrganitza: Col·lectiu Cultural de Cinema Popular de Sant Andreu
URL:https://ateneuharmonia.cat/esdeveniments/cineforum-f8minismes-per-a-dummies/
LOCATION:Catalunya
CATEGORIES:Audiovisuals,Xerrades
ATTACH;FMTTYPE=image/jpeg:https://ateneuharmonia.cat/wp-content/uploads/2016/02/ateneu_harmonia_sant_andreu_CCCP_f8FeminismesDummies.jpg
END:VEVENT
BEGIN:VEVENT
DTSTART;TZID=Europe/Andorra:20160312T180000
DTEND;TZID=Europe/Andorra:20160312T180000
DTSTAMP:20260422T152906
CREATED:20160220T112534Z
LAST-MODIFIED:20160220T112727Z
UID:1384-1457805600-1457805600@ateneuharmonia.cat
SUMMARY:La vida dels llibres: "Relámpago es el alma"
DESCRIPTION:L’escriptor Vicens Vernet ens parlarà de la seva novel·la LGTB barcelonina\, una història de dues dones i tres homes que es relacionen entre sí per amor i camaraderia\, un intercanvi que mai no els defrauda. En aquest calidoscopi sentimental\, en el que els gèneres sexuals es desdibuixen\, no hi ha ni guanyadors ni perdedors. \nOrganitza: Grup d’Amics Gais\, Lesbianes\, Transsexuals i Bisexuals
URL:https://ateneuharmonia.cat/esdeveniments/la-vida-dels-llibres-relampago-es-el-alma/
LOCATION:Catalunya
CATEGORIES:Literatura,Xerrades
ATTACH;FMTTYPE=image/jpeg:https://ateneuharmonia.cat/wp-content/uploads/2016/02/ateneu_harmonia_sant_andreu_LaVidaDelsLlibres_RelampagoEsElAlma.jpg
END:VEVENT
BEGIN:VEVENT
DTSTART;TZID=Europe/Andorra:20160319T180000
DTEND;TZID=Europe/Andorra:20160319T180000
DTSTAMP:20260422T152906
CREATED:20160220T120722Z
LAST-MODIFIED:20160322T143522Z
UID:1391-1458410400-1458410400@ateneuharmonia.cat
SUMMARY:Polítiques LGTBIQ de la ciutat de Barcelona
DESCRIPTION:Xerrada divulgativa sobre els recursos que disposa la ciutat pel col·lectiu de lesbianes\, gais\, transexuals\, bisexuals i intersexuals. Parlarem del Pla Municipal LGTBIQ\, el Consell Municipal LGTBIQ i el centre de recursos municipal LGTBIQ. Un diàleg obert per conèixer quins recursos tenim\, com podem participar comunitàriament i quins drets tenim les persones LGTBIQ. \nA càrrec de Andreu Agustín\, coordinador del Pla Municipal LGTBIQ de l’Ajuntament de Barcelona. \nOrganitza: Grup d’Amics Gais\, Lesbianes\, Transsexuals i Bisexuals – GAG
URL:https://ateneuharmonia.cat/esdeveniments/politiques-lgtbi-ciutat-de-barcelona/
LOCATION:Catalunya
CATEGORIES:Xerrades
ATTACH;FMTTYPE=image/jpeg:https://ateneuharmonia.cat/wp-content/uploads/2016/02/ateneu_harmonia_sant_andreu_PolitiquesLGBTI.jpg
END:VEVENT
BEGIN:VEVENT
DTSTART;TZID=Europe/Andorra:20160319T180000
DTEND;TZID=Europe/Andorra:20160319T200000
DTSTAMP:20260422T152906
CREATED:20160220T121116Z
LAST-MODIFIED:20160322T143454Z
UID:1393-1458410400-1458417600@ateneuharmonia.cat
SUMMARY:Teatre i Debat Antirepressiu: "Grito Amordazado"
DESCRIPTION:Grito amordazado es un esdeveniment que organitza CNT-AIT Barcelona amb la col·laboració de Forn de teatre Pa’Tothom\, que té com a objectiu visibilitzar la repressió i dotar-nos  d’eines de suport a les persones represaliades. \nL’obra de teatre gira al voltant d’un grup feminista que exerceix la desobediència i narra les estratègies que utilitzen per enfrontar les conseqüències repressives i els efectes que aquestes ocasionen en el seu entorn. \nOrganitza: CNT Barcelona
URL:https://ateneuharmonia.cat/esdeveniments/grito-amordazado-teatre-i-debat-antirepressiu/
LOCATION:Catalunya
CATEGORIES:Arts escèniques,Xerrades
ATTACH;FMTTYPE=image/jpeg:https://ateneuharmonia.cat/wp-content/uploads/2016/02/ateneu_harmonia_sant_andreu_GritoAmordazado.jpg
END:VEVENT
BEGIN:VEVENT
DTSTART;TZID=Europe/Andorra:20160321T190000
DTEND;TZID=Europe/Andorra:20160321T200000
DTSTAMP:20260422T152906
CREATED:20160222T122309Z
LAST-MODIFIED:20160313T180516Z
UID:1402-1458586800-1458590400@ateneuharmonia.cat
SUMMARY:Conferència: Clarobscur
DESCRIPTION:El clarobscur (en italià\, chiaroscuro) és una tècnica pictòrica basada en la perspectiva espacial obtinguda amb el joc de contrasts entre la llum i l’ombra. Mitjançant l’ús de contrasts acusats entre els volums il·luminats i els volums enfosquits\, s’aconsegueix destacar d’una manera més efectiva alguns elements d’un quadre. \nInicialment\, va ser desenvolupada pels pintors flamencs i italians del cinquecento\, però la tècnica assoliria la seva maduresa en el barroc\, en especial amb Caravaggio\, i donaria lloc a l’estil anomenat tenebrisme. \nA càrrec de Josep Valls\n\nOrganitza: Grup Pintors de Sant Andreu
URL:https://ateneuharmonia.cat/esdeveniments/conferencia-clarobscur/
LOCATION:Catalunya
CATEGORIES:Xerrades
ATTACH;FMTTYPE=image/jpeg:https://ateneuharmonia.cat/wp-content/uploads/2016/02/ateneu_harmonia_sant_andreu_Clarobscur.jpg
END:VEVENT
BEGIN:VEVENT
DTSTART;TZID=Europe/Andorra:20160329T180000
DTEND;TZID=Europe/Andorra:20160329T190000
DTSTAMP:20260422T152906
CREATED:20160222T125123Z
LAST-MODIFIED:20160316T125318Z
UID:1415-1459274400-1459278000@ateneuharmonia.cat
SUMMARY:Conviure amb la fibromiàlgia
DESCRIPTION:Xerrada a càrrec d’estudiants de 5è del Grau de Farmàcia de la Universitat de Barcelona\, tutoritzat per Helena Oller i dirigit per la Dra. Marian March. \nES PREGA A LES PERSONES ASSISTENTS NO DUR PERFUMS\, COLòNIES NI ALTER-SHAVES AMB LA FINALITAT DE PROTEGIR LA SALUT DE LES PERSONES AMB SQM\, SFC I FM \nOrganitza: Associació Catalana d’Afectats de Fibromiàlgia \n  \n 
URL:https://ateneuharmonia.cat/esdeveniments/tractament-i-avencos-terapeutics-de-la-fibromialgia/
LOCATION:Catalunya
CATEGORIES:Xerrades
ATTACH;FMTTYPE=image/jpeg:https://ateneuharmonia.cat/wp-content/uploads/2016/02/ateneu_harmonia_sant_andreu_XerradaFibromialgia.jpg
END:VEVENT
END:VCALENDAR